Workbook

Sheet 清单汇总表
A1: 二次供水设备采购安装及标准化泵房改造— 采购清单汇总表
A2: 清单说明： | B2: 1.项目概况：本次改造包括但不限于：加压设备更换（按图纸要求）、临时供水系统、泵房内部修缮、给水管道更换、减振防噪措施、安防监控系统(按图纸要求)、质保期内泵房网络通讯、智慧泵房改造及相关设备的供货、安装、调试等全流程工作，改造边界为泵房外部一米范围内(含穿墙套管)及加压泵站电子围栏，不包含白沙加压泵站、陈大高源加压泵站、黄砂加压泵站的高低压配电系统以及白沙加压泵站补氯间设备，具体工程量以图纸为准，采购清单仅作为参考。 2.清单中的价格均为材料设备不含税、含运费、含安装调试费等费用的价格。 3.各泵房价格均需对应其明细表进行报价。
A3: 序号 | B3: 泵房名称 | C3: 工艺设备 | D3: 标准化泵房改造 | E3: 电气及自控设备 | F3: 泵房合计报价
A4: 1 | B4: 百姓人家 | C4: =百姓人家!C87 -> 0 | D4: =百姓人家!D87 -> 0 | E4: =百姓人家!H87 -> 0 | F4: =C4+D4+E4 -> 0
A5: 2 | B5: 海西安置房 | C5: =海西安置房!C132 -> 0 | D5: =海西安置房!D132 -> 0 | E5: =海西安置房!H132 -> 0 | F5: =C5+D5+E5 -> 0
A6: 3 | B6: 三水小区 | C6: =三水小区!C91 -> 0 | D6: =三水小区!D91 -> 0 | E6: =三水小区!H91 -> 0 | F6: =C6+D6+E6 -> 0
A7: 4 | B7: 徐碧二村40#楼 | C7: ='徐碧二村40#楼'!C90 -> 0 | D7: ='徐碧二村40#楼'!D90 -> 0 | E7: ='徐碧二村40#楼'!H90 -> 0 | F7: =C7+D7+E7 -> 0
A8: 5 | B8: 翁墩二村经济适用房 | C8: =翁墩二村经济适用房!C90 -> 0 | D8: =翁墩二村经济适用房!D90 -> 0 | E8: =翁墩二村经济适用房!H90 -> 0 | F8: =C8+D8+E8 -> 0
A9: 6 | B9: 康城水都 | C9: =康城水都!C89 -> 0 | D9: =康城水都!D89 -> 0 | E9: =康城水都!H89 -> 0 | F9: =C9+D9+E9 -> 0
A10: 7 | B10: 双轮化机经济适用房 | C10: =双轮化机经济适用房!C95 -> 0 | D10: =双轮化机经济适用房!D95 -> 0 | E10: =双轮化机经济适用房!H95 -> 0 | F10: =C10+D10+E10 -> 0
A11: 8 | B11: 外滩一号 | C11: =外滩一号!C118 -> 0 | D11: =外滩一号!D118 -> 0 | E11: =外滩一号!H118 -> 0 | F11: =C11+D11+E11 -> 0
A12: 9 | B12: 白沙省一建经济适用房 | C12: =白沙省一建!C77 -> 0 | D12: =白沙省一建!D77 -> 0 | E12: =白沙省一建!H77 -> 0 | F12: =C12+D12+E12 -> 0
A13: 10 | B13: 三化经济适用房 | C13: =三化经济适用房!C75 -> 0 | D13: =三化经济适用房!D75 -> 0 | E13: =三化经济适用房!H75 -> 0 | F13: =C13+D13+E13 -> 0
A14: 11 | B14: 五金机电城 | C14: =五金机电城!C91 -> 0 | D14: =五金机电城!D91 -> 0 | E14: =五金机电城!H91 -> 0 | F14: =C14+D14+E14 -> 0
A15: 12 | B15: 元一花园 | C15: =元一花园!C89 -> 0 | D15: =元一花园!D89 -> 0 | E15: =元一花园!H89 -> 0 | F15: =C15+D15+E15 -> 0
A16: 13 | B16: 江滨豪园 | C16: =江滨豪园!C87 -> 0 | D16: =江滨豪园!D87 -> 0 | E16: =江滨豪园!H87 -> 0 | F16: =C16+D16+E16 -> 0
A17: 14 | B17: 山水御园 | C17: =山水御园!C118 -> 0 | D17: =山水御园!D118 -> 0 | E17: =山水御园!H118 -> 0 | F17: =C17+D17+E17 -> 0
A18: 15 | B18: 绿景花园 | C18: =绿景花园!C64 -> 0 | D18: =绿景花园!D64 -> 0 | E18: =绿景花园!H64 -> 0 | F18: =C18+D18+E18 -> 0
A19: 16 | B19: 左岸名都一期二期 | C19: =左岸名都一期二期!C139 -> 0 | D19: =左岸名都一期二期!D139 -> 0 | E19: =左岸名都一期二期!H139 -> 0 | F19: =C19+D19+E19 -> 0
A20: 17 | B20: 省安小区 | C20: =省安小区!C74 -> 0 | D20: =省安小区!D74 -> 0 | E20: =省安小区!H74 -> 0 | F20: =C20+D20+E20 -> 0
A21: 18 | B21: 华宇双城 | C21: =华宇双城!C73 -> 0 | D21: =华宇双城!D73 -> 0 | E21: =华宇双城!H73 -> 0 | F21: =C21+D21+E21 -> 0
A22: 19 | B22: 梅狮新村 | C22: =梅狮新村!C92 -> 0 | D22: =梅狮新村!D92 -> 0 | E22: =梅狮新村!H92 -> 0 | F22: =C22+D22+E22 -> 0
A23: 20 | B23: 三明医学科技职业学院 | C23: =三明医学科技职业学院!C73 -> 0 | D23: =三明医学科技职业学院!D73 -> 0 | E23: =三明医学科技职业学院!H73 -> 0 | F23: =C23+D23+E23 -> 0
A24: 21 | B24: 府中大厦 | C24: =府中大厦!C68 -> 0 | D24: =府中大厦!D68 -> 0 | E24: =府中大厦!H68 -> 0 | F24: =C24+D24+E24 -> 0
A25: 22 | B25: 阳光城68#泵房 | C25: ='阳光城68#泵房'!C64 -> 0 | D25: ='阳光城68#泵房'!D64 -> 0 | E25: ='阳光城68#泵房'!H64 -> 0 | F25: =C25+D25+E25 -> 0
A26: 23 | B26: 阳光城82#泵房 | C26: ='阳光城82#泵房'!C91 -> 0 | D26: ='阳光城82#泵房'!D91 -> 0 | E26: ='阳光城82#泵房'!H91 -> 0 | F26: =C26+D26+E26 -> 0
A27: 24 | B27: 北山新村 | C27: =北山新村!C71 -> 0 | D27: =北山新村!D71 -> 0 | E27: =北山新村!H71 -> 0 | F27: =C27+D27+E27 -> 0
A28: 25 | B28: 三纺科技大厦 | C28: =三纺科技大厦!C99 -> 0 | D28: =三纺科技大厦!D99 -> 0 | E28: =三纺科技大厦!H99 -> 0 | F28: =C28+D28+E28 -> 0
A29: 26 | B29: 三真大厦 | C29: =三真大厦!C104 -> 0 | D29: =三真大厦!D104 -> 0 | E29: =三真大厦!H104 -> 0 | F29: =C29+D29+E29 -> 0
A30: 27 | B30: 翡翠城一期、二期 | C30: =翡翠城一期、二期!C102 -> 0 | D30: =翡翠城一期、二期!D102 -> 0 | E30: =翡翠城一期、二期!H102 -> 0 | F30: =C30+D30+E30 -> 0
A31: 28 | B31: 泰禾人家 | C31: =泰禾人家!C100 -> 0 | D31: =泰禾人家!D100 -> 0 | E31: =泰禾人家!H100 -> 0 | F31: =C31+D31+E31 -> 0
A32: 29 | B32: 东方伟业 | C32: =东方伟业!C70 -> 0 | D32: =东方伟业!D70 -> 0 | E32: =东方伟业!H70 -> 0 | F32: =C32+D32+E32 -> 0
A33: 30 | B33: 永星国际 | C33: =永星国际!C100 -> 0 | D33: =永星国际!D100 -> 0 | E33: =永星国际!H100 -> 0 | F33: =C33+D33+E33 -> 0
A34: 31 | B34: 美地大道 | C34: =美地大道!C243 -> 0 | D34: =美地大道!D243 -> 0 | E34: =美地大道!H243 -> 0 | F34: =C34+D34+E34 -> 0
A35: 32 | B35: 裕丰尚品 | C35: =裕丰尚品!C122 -> 0 | D35: =裕丰尚品!D122 -> 0 | E35: =裕丰尚品!H122 -> 0 | F35: =C35+D35+E35 -> 0
A36: 33 | B36: 中央领域 | C36: =中央领域!C109 -> 0 | D36: =中央领域!D109 -> 0 | E36: =中央领域!H109 -> 0 | F36: =C36+D36+E36 -> 0
A37: 34 | B37: 时代锦园 | C37: =时代锦园!C136 -> 0 | D37: =时代锦园!D136 -> 0 | E37: =时代锦园!H136 -> 0 | F37: =C37+D37+E37 -> 0
A38: 35 | B38: 龙泽小区 | C38: =龙泽小区!C104 -> 0 | D38: =龙泽小区!D104 -> 0 | E38: =龙泽小区!H104 -> 0 | F38: =C38+D38+E38 -> 0
A39: 36 | B39: 乾龙新村 | C39: =乾龙新村!C101 -> 0 | D39: =乾龙新村!D101 -> 0 | E39: =乾龙新村!H101 -> 0 | F39: =C39+D39+E39 -> 0
A40: 37 | B40: 新城首府 | C40: =新城首府!C107 -> 0 | D40: =新城首府!D107 -> 0 | E40: =新城首府!H107 -> 0 | F40: =C40+D40+E40 -> 0
...

Sheet 百姓人家
A1: 百姓人家 清单明细表
A2: 分部 | B2: 序号 | C2: 细项名称 | D2: 规格型号/技术要求 | E2: 材质 | F2: 制造商及品牌 | G2: 单位 | H2: 数量 | I2: 不含税单价(元) | J2: 备注 | K2: 合价(元)
A3: 一、工艺设备
B4: 1 | C4: 成套加压供水设备 （核心产品） | D4: Q=32m3/h,H=46m,运行功率8kw。 供水设备流量:32m3/h(水泵两用一备,单泵流量16m3/h,单泵功率4.0KW), 设备出口压力设置为0.46MPa,设备进口市政动压力约为0.3MPa, 采用全变频无负压供水加压设备，设备应具有实时显示流量、压力功能。 | E4: SUS304 | G4: 套 | H4: 1 | K4: =IF(H4="",0,H4*I4) -> 0
B5: 2 | C5: 临时供水费用 | G5: 项 | H5: 1 | K5: =IF(H5="",0,H5*I5) -> 0
B6: 3 | C6: 不锈钢管 | D6: DN100,δ=4.0mm | E6: SUS304 | G6: m | H6: 12 | K6: =IF(H6="",0,H6*I6) -> 0
B7: 4 | C7: 不锈钢90°弯头 | D7: DN100,δ=4.0mm | E7: SUS304 | G7: 个 | H7: 2 | K7: =IF(H7="",0,H7*I7) -> 0
B8: 5 | C8: 法兰片 | D8: DN100,P=1.0MPa | E8: SUS304 | G8: 个 | H8: 10 | K8: =IF(H8="",0,H8*I8) -> 0
B9: 6 | C9: 电动蝶阀 | D9: DN100,P=1.0MPa,D943H | E9: 球墨铸铁 | G9: 个 | H9: 2 | K9: =IF(H9="",0,H9*I9) -> 0
B10: 7 | C10: 手动阀门 | D10: DN100,P=1.0MPa,Z45X | E10: 球墨铸铁 | G10: 个 | H10: 1 | K10: =IF(H10="",0,H10*I10) -> 0
B11: 8 | C11: 双法兰限位伸缩器 | D11: DN100,P=1.0MPa | E11: SUS304 | G11: 个 | H11: 3 | K11: =IF(H11="",0,H11*I11) -> 0
B12: 9 | C12: Y型过滤器 | D12: DN100,P=1.0MPa | E12: SUS304 | G12: 个 | H12: 1 | K12: =IF(H12="",0,H12*I12) -> 0
B13: 10 | C13: 倒流防止器 | D13: DN100,P=1.0MPa | E13: SUS304 | G13: 个 | H13: 1 | K13: =IF(H13="",0,H13*I13) -> 0
B14: 11 | C14: 自动排气阀 | D14: DN25,P=1.0MPa | E14: SUS304 | G14: 个 | H14: 1 | K14: =IF(H14="",0,H14*I14) -> 0
B15: 12 | C15: 拆除原设备基础 | D15: 1700x2300x200 | E15: 混凝土 | G15: m3 | H15: 0.78 | K15: =IF(H15="",0,H15*I15) -> 0
B16: 13 | C16: 拆除原管道 | D16: 钢管DN100 | E16: 钢制 | G16: m | H16: 12 | K16: =IF(H16="",0,H16*I16) -> 0
B17: 14 | C17: 灭火器 | D17: --第一阶段 MF/ABC5 | G17: 个 | H17: 2 | K17: =IF(H17="",0,H17*I17) -> 0
A18: 注意：本材料表所列管道及设备基础工程量为设计参考值,最终工程量需根据设备中标单位出具的二次深化设计正式成果文件进行调整。
C19: 工艺部分小计 | K19: =SUM(K4:K17) -> 0
A20: 二、标准化泵房改造
B21: 1 | C21: 标准化泵房改造 | D21: 标准化泵房内部修缮改造，内容详见设计图 | G21: m2 | H21: 80 | K21: =IF(H21="",0,H21*I21) -> 0
C23: 标准化泵房改造部分小计 | K23: =SUM(K21:K22) -> 0
A24: 三、电气及自控设备
A25: 照明设备 | B25: 1 | C25: 应急照明箱(A型应急照明集中电源) | D25: N-D-0.1kW-36(应急时间90min) | G25: 面 | H25: 1 | J25: 明装,底边距地1.6m | K25: =IF(H25="",0,H25*I25) -> 0
B26: 2 | C26: 应急双管LED支架灯 | D26: LED灯管 2*18W,IP65 1800lm,6000K,Ra>85,COS%%C>0.95 | G26: 套 | H26: 6 | J26: 吊装,装高3.0m 自带蓄电池,应急时间180min | K26: =IF(H26="",0,H26*I26) -> 0
B27: 3 | C27: 三联开关 | D27: 250V.10A,防溅型 | G27: 只 | H27: 1 | J27: 底边距地1.3m(暗装) | K27: =IF(H27="",0,H27*I27) -> 0
B28: 4 | C28: 二+三孔带接地安全插座 | D28: 250V.10A,防溅型 | G28: 只 | H28: 2 | J28: 暗设,底边距地1.5m | K28: =IF(H28="",0,H28*I28) -> 0
B29: 5 | C29: 照明及插座管线 | D29: 详配电系统图及照明、插座平面布置图 | G29: 项 | H29: 1 | K29: =IF(H29="",0,H29*I29) -> 0
B30: 6 | C30: 消防应急照明灯具-壁装(中型) | D30: 7W,DC36V,A型,具有应急照明、巡检、开灯、灭灯功能 | G30: 套 | H30: 8 | J30: 底边距地2.5m,IP65 | K30: =IF(H30="",0,H30*I30) -> 0
B31: 7 | C31: 消防应急标志灯具-安全出口(中型) | D31: 1W,DC36V,A型,具有巡检、常亮、频闪功能 | G31: 套 | H31: 1 | J31: 装于门上方或悬挂安装,IP65 | K31: =IF(H31="",0,H31*I31) -> 0
B32: 8 | C32: 消防应急标志灯具-单面右向(中型) | D32: 1W,DC36V,A型,具有巡检、常亮、频闪功能 | G32: 套 | H32: 1 | J32: 底边距地0.5m,IP65 | K32: =IF(H32="",0,H32*I32) -> 0
B33: 9 | C33: 消防应急标志灯具-单面左向(中型) | D33: 1W,DC36V,A型,具有巡检、常亮、频闪功能 | G33: 套 | H33: 1 | J33: 底边距地0.5m,IP65 | K33: =IF(H33="",0,H33*I33) -> 0
A34: 配电设备 | B34: 1 | C34: 配电控制柜（含PLC控制系统） | D34: DLA 附件图纸,详见:D-EG-BX-02、K-EG-BX-04 | G34: 面 | H34: 1 | J34: 柜体采用304不锈钢材质,IP55,落地安装基础用C30素混凝土垫高300mm素混凝土基础上采用10#槽钢架高200mm。 | K34: =IF(H34="",0,H34*I34) -> 0
B35: 2 | C35: 电缆及保护管 | D35: 详:电缆一览表 | G35: 项 | H35: 1 | K35: =IF(H35="",0,H35*I35) -> 0
B36: 3 | C36: 304不锈钢电缆桥架(包括盖板) | D36: 200*100,采用304不锈钢板分隔,控制电缆占宽80mm | G36: 米 | H36: 12 | J36: 配套所有配件及托臂,均采用304不锈钢材质 | K36: =IF(H36="",0,H36*I36) -> 0
B37: 4 | C37: 304不锈钢电缆桥架(包括盖板) | D37: 50*25 | G37: 米 | H37: 12 | J37: 配套所有配件及托臂,均采用304不锈钢材质 | K37: =IF(H37="",0,H37*I37) -> 0
B38: 5 | C38: 总等电位联结箱 | D38: 详15D502 | G38: 面 | H38: 1 | J38: 底边距地0.3m(暗装) | K38: =IF(H38="",0,H38*I38) -> 0
B39: 6 | C39: 接地线 | D39: -40*4扁钢,304不锈钢材质 | G39: 米 | H39: 30 | K39: =IF(H39="",0,H39*I39) -> 0
B40: 7 | C40: 防水防火密封堵料 | G40: 千克 | H40: 5 | K40: =IF(H40="",0,H40*I40) -> 0
A41: 设备拆除 | B41: 1 | C41: 水泵配电控制柜,700*400*1700mm | G41: 面 | H41: 1 | K41: =IF(H41="",0,H41*I41) -> 0
...

Sheet 三水小区
A1: 三水小区 清单明细表
A2: 分部 | B2: 序号 | C2: 细项名称 | D2: 规格型号/技术要求 | E2: 材质 | F2: 制造商及品牌 | G2: 单位 | H2: 数量 | I2: 不含税单价(元) | J2: 备注 | K2: 合价(元)
A3: 一、工艺设备
B4: 1 | C4: 成套加压供水设备 （核心产品） | D4: Q=16m3/h,H=54m,运行功率6kw 供水设备流量:16m3/h(水泵两用一备,单泵流量8m3/h,单泵功率3KW), 设备出口压力设置为0.54MPa,设备进口市政动压力约为0.3MPa, 采用全变频无负压供水加压设备，设备应具有实时显示流量、压力功能。 | E4: SUS304 | G4: 套 | H4: 1 | K4: =IF(H4="",0,H4*I4) -> 0
B5: 2 | C5: 临时供水费用 | G5: 项 | H5: 1 | K5: =IF(H5="",0,H5*I5) -> 0
B6: 3 | C6: 不锈钢管 | D6: DN80,δ=3.0mm | E6: SUS304 | G6: m | H6: 10 | K6: =IF(H6="",0,H6*I6) -> 0
B7: 4 | C7: 不锈钢90°弯头 | D7: DN80,δ=3.0mm | E7: SUS304 | G7: 个 | H7: 5 | K7: =IF(H7="",0,H7*I7) -> 0
B8: 5 | C8: 法兰片 | D8: DN80,P=1.0MPa | E8: SUS304 | G8: 个 | H8: 13 | K8: =IF(H8="",0,H8*I8) -> 0
B9: 6 | C9: 电动蝶阀 | D9: DN80,P=1.0MPa,D943H | E9: 球墨铸铁 | G9: 个 | H9: 2 | K9: =IF(H9="",0,H9*I9) -> 0
B10: 7 | C10: 手动阀门 | D10: DN80,P=1.0MPa,Z45X | E10: 球墨铸铁 | G10: 个 | H10: 1 | K10: =IF(H10="",0,H10*I10) -> 0
B11: 8 | C11: 双法兰限位伸缩器 | D11: DN80,P=1.0MPa | E11: SUS304 | G11: 个 | H11: 2 | K11: =IF(H11="",0,H11*I11) -> 0
B12: 9 | C12: Y型过滤器 | D12: DN80,P=1.0MPa | E12: SUS304 | G12: 个 | H12: 1 | K12: =IF(H12="",0,H12*I12) -> 0
B13: 10 | C13: 倒流防止器 | D13: DN80,P=1.0MPa | E13: SUS304 | G13: 个 | H13: 1 | K13: =IF(H13="",0,H13*I13) -> 0
B14: 11 | C14: 自动排气阀 | D14: DN25,P=1.0MPa | E14: SUS304 | G14: 个 | H14: 1 | K14: =IF(H14="",0,H14*I14) -> 0
B15: 12 | C15: 轴流风机 | D15: FT35-11 No.3.15 P=237Pa Q=3125m3/h,N=0.37kw | G15: 台 | H15: 1 | K15: =IF(H15="",0,H15*I15) -> 0
B16: 13 | C16: 拆除原设备基础 | D16: 1700x2300x200 | E16: 混凝土 | G16: m 3 | H16: 0.78 | K16: =IF(H16="",0,H16*I16) -> 0
B17: 14 | C17: 拆除原管道 | D17: 钢管DN80 | E17: 钢制 | G17: m | H17: 10 | K17: =IF(H17="",0,H17*I17) -> 0
B18: 15 | C18: 灭火器 | D18: MF/ABC5 | G18: 个 | H18: 2 | K18: =IF(H18="",0,H18*I18) -> 0
A19: 注意：本材料表所列管道及设备基础工程量为设计参考值,最终工程量需根据设备中标单位出具的二次深化设计正式成果文件进行调整。
C20: 工艺部分小计 | K20: =SUM(K4:K18) -> 0
A21: 二、标准化泵房改造
B22: 1 | C22: 标准化泵房改造 | D22: 标准化泵房内部修缮改造，内容详见设计图 | G22: m2 | H22: 15 | K22: =IF(H22="",0,H22*I22) -> 0
C27: 标准化泵房改造部分小计 | K27: =SUM(K22:K26) -> 0
A28: 三、电气及自控设备
A29: 照明设备 | B29: 1 | C29: 应急照明箱(A型应急照明集中电源) | D29: ELD N-D-0.1kW-36(应急时间90min) | G29: 面 | H29: 1 | J29: 明装,底边距地1.6m | K29: =IF(H29="",0,H29*I29) -> 0
B30: 2 | C30: 应急单管LED支架灯 | D30: LED灯管 1*18W,IP65 1800lm,6000K,Ra>85,COS%%C>0.95 | G30: 套 | H30: 2 | J30: 吊装,装高3.0m 自带蓄电池,应急时间180min | K30: =IF(H30="",0,H30*I30) -> 0
B31: 3 | C31: 双联开关 | D31: 250V.10A,防溅型 | G31: 只 | H31: 1 | J31: 底边距地1.3m(暗装) | K31: =IF(H31="",0,H31*I31) -> 0
B32: 4 | C32: 二+三孔带接地安全插座 | D32: 250V.10A,防溅型 | G32: 只 | H32: 2 | J32: 暗设,底边距地1.5m | K32: =IF(H32="",0,H32*I32) -> 0
B33: 5 | C33: 照明及插座管线 | D33: 详配电系统图及照明、插座平面布置图 | G33: 项 | H33: 1 | K33: =IF(H33="",0,H33*I33) -> 0
B34: 6 | C34: 消防应急照明灯具-壁装(中型) | D34: 7W,DC36V,A型,具有应急照明、巡检、开灯、灭灯功能 | G34: 套 | H34: 1 | J34: 底边距地2.5m,IP65 | K34: =IF(H34="",0,H34*I34) -> 0
B35: 7 | C35: 消防应急照明灯具-壁装(中型) | D35: 7W,DC36V,A型,具有应急照明、巡检、开灯、灭灯功能 | G35: 套 | H35: 1 | J35: 底边距地2.5m,户外型,IP67 | K35: =IF(H35="",0,H35*I35) -> 0
B36: 8 | C36: 消防应急标志灯具-安全出口(中型) | D36: 1W,DC36V,A型,具有巡检、常亮、频闪功能 | G36: 套 | H36: 1 | J36: 装于门上方或悬挂安装,IP65 | K36: =IF(H36="",0,H36*I36) -> 0
A37: 配电设备 | B37: 1 | C37: 配电控制柜（含PLC控制系统） | D37: DLA 附件图纸,详见:D-EG-SS-02、K-EG-SS-04 | G37: 面 | H37: 1 | J37: 柜体采用304不锈钢材质,IP55,落地安装 基础用C30素混凝土垫高300mm 素混凝土基础上采用10#槽钢架高200mm。 | K37: =IF(H37="",0,H37*I37) -> 0
B38: 2 | C38: 电缆及保护管 | D38: 详:电缆一览表 | G38: 项 | H38: 1 | K38: =IF(H38="",0,H38*I38) -> 0
B39: 3 | C39: 304不锈钢电缆桥架(包括盖板) | D39: 200*100,采用304不锈钢板分隔,控制电缆占宽80mm | G39: 米 | H39: 8 | J39: 配套所有配件及托臂,均采用304不锈钢材质 | K39: =IF(H39="",0,H39*I39) -> 0
B40: 4 | C40: 304不锈钢电缆桥架(包括盖板) | D40: 50*25 | G40: 米 | H40: 8 | J40: 配套所有配件及托臂,均采用304不锈钢材质 | K40: =IF(H40="",0,H40*I40) -> 0
B41: 5 | C41: 总等电位联结箱 | D41: MEB 详15D502 | G41: 面 | H41: 1 | J41: 底边距地0.3m(暗装) | K41: =IF(H41="",0,H41*I41) -> 0
B42: 6 | C42: 接地线 | D42: -40*4扁钢,304不锈钢材质 | G42: 米 | H42: 25 | K42: =IF(H42="",0,H42*I42) -> 0
B43: 7 | C43: 防水防火密封堵料 | G43: 千克 | H43: 5 | K43: =IF(H43="",0,H43*I43) -> 0
A44: 拆除设备 | B44: 1 | C44: 生活水泵配电控制柜,600*400*1200mm | G44: 面 | H44: 1 | K44: =IF(H44="",0,H44*I44) -> 0
...

Sheet 海西安置房
A1: 海西安置房 清单明细表
A2: 分部 | B2: 序号 | C2: 细项名称 | D2: 规格型号/技术要求 | E2: 材质 | F2: 制造商及品牌 | G2: 单位 | H2: 数量 | I2: 不含税单价(元) | J2: 备注 | K2: 合价(元)
A3: 一、工艺设备
B4: 1 | C4: 成套加压供水设备 （核心产品） | D4: Q=30m3/h,H=70m,运行功率11kw, 供水设备流量:30m3/h(水泵两用一备,单泵流量15m3/h,单泵功率5.5KW), 设备出口压力设置为0.70MPa,设备进口市政动压力约为0.20MPa, 采用全变频无负压供水加压设备，设备应具有实时显示流量、压力功能。 | E4: SUS304 | G4: 套 | H4: 1 | K4: =IF(H4="",0,H4*I4) -> 0
B5: 2 | C5: 临时供水费用 | G5: 项 | H5: 1 | K5: =IF(H5="",0,H5*I5) -> 0
B6: 3 | C6: 成套加压供水设备 （核心产品） | D6: Q=36m3/h,H=70m,运行功率11kw, 供水设备流量:36m3/h(水泵两用一备,单泵流量18m3/h,单泵功率5.5KW), 设备出口压力设置为0.70MPa,设备进口市政动压力约为0.20MPa, 采用全变频无负压供水加压设备，设备应具有实时显示流量、压力功能。 | E6: SUS304 | G6: 套 | H6: 1 | K6: =IF(H6="",0,H6*I6) -> 0
B7: 4 | C7: 不锈钢管 | D7: DN100,δ=4.0mm | E7: SUS304 | G7: m | H7: 40 | K7: =IF(H7="",0,H7*I7) -> 0
B8: 5 | C8: 法兰片 | D8: DN100,P=1.0MPa | E8: SUS304 | G8: 个 | H8: 22 | K8: =IF(H8="",0,H8*I8) -> 0
B9: 6 | C9: 电动蝶阀 | D9: DN100,P=1.0MPa,D943H | E9: 球墨铸铁 | G9: 个 | H9: 4 | K9: =IF(H9="",0,H9*I9) -> 0
B10: 7 | C10: 手动阀门 | D10: DN100,P=1.0MPa,Z45X | E10: 球墨铸铁 | G10: 个 | H10: 4 | K10: =IF(H10="",0,H10*I10) -> 0
B11: 8 | C11: 不锈钢90°弯头 | D11: DN100,δ=4.0mm | E11: SUS304 | G11: 个 | H11: 6 | K11: =IF(H11="",0,H11*I11) -> 0
B12: 9 | C12: 双法兰限位伸缩器 | D12: DN100,P=1.0MPa | E12: SUS304 | G12: 个 | H12: 6 | K12: =IF(H12="",0,H12*I12) -> 0
B13: 10 | C13: Y型过滤器 | D13: DN100,P=1.0MPa | E13: SUS304 | G13: 个 | H13: 2 | K13: =IF(H13="",0,H13*I13) -> 0
B14: 11 | C14: 拆除原设备基础 | D14: 1700x2300x200 | E14: 混凝土 | G14: m 3 | H14: 0.78 | K14: =IF(H14="",0,H14*I14) -> 0
B15: 12 | C15: 拆除原管道 | D15: 钢管DN100 | E15: 钢制 | G15: m | H15: 40 | K15: =IF(H15="",0,H15*I15) -> 0
B16: 13 | C16: 灭火器 | D16: MF/ABC5 | G16: 个 | H16: 2 | K16: =IF(H16="",0,H16*I16) -> 0
A17: 注意：本材料表所列管道及设备基础工程量为设计参考值,最终工程量需根据设备中标单位出具的二次深化设计正式成果文件进行调整。
C18: 工艺部分小计 | K18: =SUM(K4:K16) -> 0
A19: 二、标准化泵房改造
B20: 1 | C20: 标准化泵房改造 | D20: 标准化泵房内部修缮改造，内容详见设计图 | G20: m2 | H20: 35 | K20: =IF(H20="",0,H20*I20) -> 0
C28: 标准化泵房改造部分小计 | K28: =SUM(K20:K27) -> 0
A29: 三、电气及自控设备
A30: 3#照明设备 | B30: 1 | C30: 应急照明箱(A型应急照明集中电源) | D30: N-D-0.1kW-36(应急时间90min) | G30: 面 | H30: 1 | J30: 明装,底边距地1.6m | K30: =IF(H30="",0,H30*I30) -> 0
B31: 2 | C31: 应急双管LED支架灯 | D31: LED灯管 2*18W,IP65 1800lm,6000K,Ra>85,COS%%C>0.95 | G31: 套 | H31: 1 | J31: 吸顶安装 自带蓄电池,应急时间180min | K31: =IF(H31="",0,H31*I31) -> 0
B32: 3 | C32: 应急单管LED支架灯 | D32: LED灯管 1*18W,IP65 1800lm,6000K,Ra>85,COS%%C>0.95 | G32: 套 | H32: 4 | J32: 壁装,装高2.8m 自带蓄电池,应急时间180min | K32: =IF(H32="",0,H32*I32) -> 0
B33: 4 | C33: 三联开关 | D33: 250V.10A,防溅型 | G33: 只 | H33: 1 | J33: 底边距地1.3m(暗装) | K33: =IF(H33="",0,H33*I33) -> 0
B34: 5 | C34: 二+三孔带接地安全插座 | D34: 250V.10A,防溅型 | G34: 只 | H34: 2 | J34: 暗设,底边距地1.5m | K34: =IF(H34="",0,H34*I34) -> 0
B35: 6 | C35: 照明及插座管线 | D35: 详配电系统图及照明、插座平面布置图 | K35: =IF(H35="",0,H35*I35) -> 0
B36: 7 | C36: 消防应急照明灯具-壁装(中型) | D36: 7W,DC36V,A型,具有应急照明、巡检、开灯、灭灯功能 | G36: 套 | H36: 1 | J36: 底边距地2.5m,IP65 | K36: =IF(H36="",0,H36*I36) -> 0
B37: 8 | C37: 消防应急照明灯具-壁装(中型) | D37: 7W,DC36V,A型,具有应急照明、巡检、开灯、灭灯功能 | G37: 套 | H37: 1 | J37: 底边距地2.5m,户外型,IP67 | K37: =IF(H37="",0,H37*I37) -> 0
B38: 9 | C38: 消防应急标志灯具-安全出口(中型) | D38: 1W,DC36V,A型,具有巡检、常亮、频闪功能 | G38: 套 | H38: 1 | J38: 装于门上方或悬挂安装,IP65 | K38: =IF(H38="",0,H38*I38) -> 0
A39: 3#配电设备 | B39: 1 | C39: 配电控制柜（含PLC控制系统） | D39: DLA 附件图纸,详见:D-EG-HX-02、K-EG-HX-04 | G39: 面 | H39: 1 | J39: 柜体采用304不锈钢材质,IP55,落地安装基础用C30素混凝土垫高300mm | K39: =IF(H39="",0,H39*I39) -> 0
B40: 2 | C40: 电缆及保护管 | D40: 详:电缆一览表 | G40: 项 | H40: 1 | K40: =IF(H40="",0,H40*I40) -> 0
B41: 3 | C41: 304不锈钢电缆桥架(包括盖板) | D41: 200*100,采用304不锈钢板分隔,控制电缆占宽80mm | G41: 米 | H41: 10 | J41: 配套所有配件及托臂,均采用304不锈钢材质 | K41: =IF(H41="",0,H41*I41) -> 0
B42: 4 | C42: 304不锈钢电缆桥架(包括盖板) | D42: 100*50 | G42: 米 | H42: 6 | J42: 配套所有配件及托臂,均采用304不锈钢材质 | K42: =IF(H42="",0,H42*I42) -> 0
B43: 5 | C43: 304不锈钢电缆桥架(包括盖板) | D43: 50*25 | G43: 米 | H43: 10 | J43: 配套所有配件及托臂,均采用304不锈钢材质 | K43: =IF(H43="",0,H43*I43) -> 0
B44: 6 | C44: 总等电位联结箱 | D44: MEB 详15D502 | G44: 面 | H44: 1 | J44: 底边距地0.3m(暗装) | K44: =IF(H44="",0,H44*I44) -> 0
B45: 7 | C45: 接地线 | D45: -40*4扁钢,304不锈钢材质 | G45: 米 | H45: 30 | K45: =IF(H45="",0,H45*I45) -> 0
B46: 8 | C46: 防水防火密封堵料 | G46: 千克 | H46: 5 | K46: =IF(H46="",0,H46*I46) -> 0
A47: 3#拆除设备 | B47: 1 | C47: 水泵配电控制柜,600*400*1600mm | G47: 面 | H47: 1 | K47: =IF(H47="",0,H47*I47) -> 0
...

Sheet 徐碧二村40#楼
A1: 徐碧二村40#楼 清单明细表
A2: 分部 | B2: 序号 | C2: 细项名称 | D2: 规格型号/技术要求 | E2: 材质 | F2: 制造商及品牌 | G2: 单位 | H2: 数量 | I2: 不含税单价(元) | J2: 备注 | K2: 合价(元)
A3: 一、工艺设备
B4: 1 | C4: 成套加压供水设备 （核心产品） | D4: Q=6m3/h,H=70m,运行功率2.2kw 供水设备流量:14m3/h(水泵一用一备,单泵流量14m3/h), 设备出口压力设置为0.60MPa,设备进口市政动压力约为0.4MPa, 采用全变频无负压供水加压设备，设备应具有实时显示流量、压力功能。 此套供水设备及配件,压力等级均采用1.0MPa。 | G4: 套 | H4: 1 | K4: =IF(H4="",0,H4*I4) -> 0
B5: 2 | C5: 临时供水费用 | G5: 项 | H5: 1 | K5: =IF(H5="",0,H5*I5) -> 0
B6: 3 | C6: 不锈钢管 | D6: DN65,δ=3.0mm | E6: SUS304 | G6: m | H6: 18 | K6: =IF(H6="",0,H6*I6) -> 0
B7: 4 | C7: 不锈钢90°弯头 | D7: DN65,δ=3.0mm | E7: SUS304 | G7: 个 | H7: 7 | K7: =IF(H7="",0,H7*I7) -> 0
B8: 5 | C8: 法兰片 | D8: DN65,P=1.0MPa | E8: SUS304 | G8: 个 | H8: 10 | K8: =IF(H8="",0,H8*I8) -> 0
B9: 6 | C9: 手动阀门 | D9: DN65,P=1.0MPa,Z45X | G9: 个 | H9: 1 | K9: =IF(H9="",0,H9*I9) -> 0
B10: 7 | C10: 电动阀门 | D10: DN65,P=1.0MPa,D943H | G10: 个 | H10: 2 | K10: =IF(H10="",0,H10*I10) -> 0
B11: 8 | C11: 双法兰限位伸缩器 | D11: DN65,P=1.0MPa | G11: 个 | H11: 3 | K11: =IF(H11="",0,H11*I11) -> 0
B12: 9 | C12: Y型过滤器 | D12: DN65,P=1.0MPa | G12: 个 | H12: 1 | K12: =IF(H12="",0,H12*I12) -> 0
B13: 10 | C13: 倒流防止器 | D13: DN65,P=1.0MPa | G13: 个 | H13: 1 | K13: =IF(H13="",0,H13*I13) -> 0
B14: 11 | C14: 自动排气阀 | D14: DN50 | G14: 个 | H14: 1 | K14: =IF(H14="",0,H14*I14) -> 0
B15: 12 | C15: 拆除原设备基础 | D15: 1300x750x200 | E15: 混凝土 | G15: m 3 | H15: 0.2 | K15: =IF(H15="",0,H15*I15) -> 0
B16: 13 | C16: 拆除原管道 | D16: de63 | E16: UPVC | G16: m | H16: 18 | K16: =IF(H16="",0,H16*I16) -> 0
B17: 14 | C17: 灭火器 | D17: MF/ABC5 | G17: 个 | H17: 2 | K17: =IF(H17="",0,H17*I17) -> 0
A18: 注意：本材料表所列管道及设备基础工程量为设计参考值,最终工程量需根据设备中标单位出具的二次深化设计正式成果文件进行调整。
C19: 工艺部分小计 | K19: =SUM(K4:K17) -> 0
A20: 二、标准化泵房改造
B21: 1 | C21: 标准化泵房改造 | D21: 标准化泵房内部修缮改造，内容详见设计图 | G21: m2 | H21: 75 | K21: =IF(H21="",0,H21*I21) -> 0
C26: 标准化泵房改造部分小计 | K26: =SUM(K21:K25) -> 0
A27: 三、电气及自控设备
A28: 照明设备 | B28: 1 | C28: 应急照明箱(A型应急照明集中电源) | D28: N-D-0.1kW-36(应急时间90min) | G28: 面 | H28: 1 | J28: 明装,底边距地1.6m | K28: =IF(H28="",0,H28*I28) -> 0
B29: 2 | C29: 应急双管LED支架灯 | D29: LED灯管 2*22W,IP65 2200lm,6000K,Ra>85,COS%%C>0.95 | G29: 套 | H29: 5 | J29: 吊装,装高3.0m 自带蓄电池,应急时间180min | K29: =IF(H29="",0,H29*I29) -> 0
B30: 3 | C30: 双联开关 | D30: 250V.10A,防溅型 | G30: 只 | H30: 1 | J30: 底边距地1.3m(暗装) | K30: =IF(H30="",0,H30*I30) -> 0
B31: 4 | C31: 二+三孔带接地安全插座 | D31: 250V.10A,防溅型 | G31: 只 | H31: 2 | J31: 暗设,底边距地1.5m | K31: =IF(H31="",0,H31*I31) -> 0
B32: 5 | C32: 照明及插座管线 | D32: 详配电系统图及照明、插座平面布置图 | K32: =IF(H32="",0,H32*I32) -> 0
B33: 6 | C33: 消防应急照明灯具-壁装(中型) | D33: 7W,DC36V,A型,具有应急照明、巡检、开灯、灭灯功能 | G33: 套 | H33: 8 | J33: 底边距地2.5m,IP65 | K33: =IF(H33="",0,H33*I33) -> 0
B34: 7 | C34: 消防应急标志灯具-安全出口(中型) | D34: 1W,DC36V,A型,具有巡检、常亮、频闪功能 | G34: 套 | H34: 1 | J34: 装于门上方或悬挂安装,IP65 | K34: =IF(H34="",0,H34*I34) -> 0
B35: 8 | C35: 消防应急标志灯具-单面右向(中型) | D35: 1W,DC36V,A型,具有巡检、常亮、频闪功能 | G35: 套 | H35: 1 | J35: 底边距地0.5m,IP65 | K35: =IF(H35="",0,H35*I35) -> 0
B36: 9 | C36: 消防应急标志灯具-单面左向(中型) | D36: 1W,DC36V,A型,具有巡检、常亮、频闪功能 | G36: 套 | H36: 1 | J36: 底边距地0.5m,IP65 | K36: =IF(H36="",0,H36*I36) -> 0
A37: 配电设备 | B37: 1 | C37: 配电控制柜（含PLC控制系统） | D37: DLA 附件图纸,详见:D-EG-XB-02、K-EG-XB-04 | G37: 面 | H37: 1 | J37: 柜体采用304不锈钢材质,IP55,落地安装 基础用C30素混凝土垫高300mm 素混凝土基础上采用10#槽钢架高200mm。 | K37: =IF(H37="",0,H37*I37) -> 0
B38: 2 | C38: 电缆及保护管 | D38: 详:电缆一览表 | G38: 项 | H38: 1 | K38: =IF(H38="",0,H38*I38) -> 0
B39: 3 | C39: 304不锈钢电缆桥架(包括盖板) | D39: 200*100,采用304不锈钢板分隔,控制电缆占宽80mm | G39: 米 | H39: 12 | J39: 配套所有配件及托臂,均采用304不锈钢材质 | K39: =IF(H39="",0,H39*I39) -> 0
B40: 4 | C40: 304不锈钢电缆桥架(包括盖板) | D40: 50*25 | G40: 米 | H40: 12 | J40: 配套所有配件及托臂,均采用304不锈钢材质 | K40: =IF(H40="",0,H40*I40) -> 0
B41: 5 | C41: 总等电位联结箱 | D41: MEB 详15D502 | G41: 面 | H41: 1 | J41: 底边距地0.3m(暗装) | K41: =IF(H41="",0,H41*I41) -> 0
B42: 6 | C42: 接地线 | D42: -40*4扁钢,304不锈钢材质 | G42: 米 | H42: 30 | K42: =IF(H42="",0,H42*I42) -> 0
B43: 7 | C43: 防水防火密封堵料 | G43: 千克 | H43: 5 | K43: =IF(H43="",0,H43*I43) -> 0
A44: 拆除设备 | B44: 1 | C44: 水泵配电控制柜,650*370*1300mm | G44: 面 | H44: 1 | K44: =IF(H44="",0,H44*I44) -> 0
...

Sheet 翁墩二村经济适用房
A1: 翁墩二村经济适用房 清单明细表
A2: 分部 | B2: 序号 | C2: 细项名称 | D2: 规格型号/技术要求 | E2: 材质 | F2: 制造商及品牌 | G2: 单位 | H2: 数量 | I2: 不含税单价(元) | J2: 备注 | K2: 合价(元)
A3: 一、工艺设备
B4: 1 | C4: 成套加压供水设备 （核心产品） | D4: Q=14m3/h,H=60m,运行功率2.2kw 供水设备流量:14m3/h(水泵一用一备,单泵流量14m|/h), 设备出口压力设置为0.60MPa,设备进口市政动压力约为0.4MPa, 采用全变频无负压供水加压设备，设备应具有实时显示流量、压力功能。 此套供水设备及配件,压力等级均采用1.0MPa。 | G4: 套 | H4: 1 | K4: =IF(H4="",0,H4*I4) -> 0
B5: 2 | C5: 临时供水费用 | G5: 项 | H5: 1 | K5: =IF(H5="",0,H5*I5) -> 0
B6: 3 | C6: 不锈钢管 | D6: DN80,δ=3.0mm | E6: SUS304 | G6: m | H6: 24 | K6: =IF(H6="",0,H6*I6) -> 0
B7: 4 | C7: 不锈钢90°弯头 | D7: DN80,δ=3.0mm | E7: SUS304 | G7: 个 | H7: 7 | K7: =IF(H7="",0,H7*I7) -> 0
B8: 5 | C8: 法兰片 | D8: DN80,P=1.0MPa | E8: SUS304 | G8: 个 | H8: 10 | K8: =IF(H8="",0,H8*I8) -> 0
B9: 6 | C9: 手动阀门 | D9: DN80,P=1.0MPa,Z45X | G9: 个 | H9: 1 | K9: =IF(H9="",0,H9*I9) -> 0
B10: 7 | C10: 电动阀门 | D10: DN80,P=1.0MPa,D943H | G10: 个 | H10: 2 | K10: =IF(H10="",0,H10*I10) -> 0
B11: 8 | C11: 双法兰限位伸缩器 | D11: DN80,P=1.0MPa | G11: 个 | H11: 3 | K11: =IF(H11="",0,H11*I11) -> 0
B12: 9 | C12: Y型过滤器 | D12: DN80,P=1.0MPa | G12: 个 | H12: 1 | K12: =IF(H12="",0,H12*I12) -> 0
B13: 10 | C13: 倒流防止器 | D13: DN80,P=1.0MPa | G13: 个 | H13: 1 | K13: =IF(H13="",0,H13*I13) -> 0
B14: 11 | C14: 自动排气阀 | D14: DN50 | G14: 个 | H14: 1 | K14: =IF(H14="",0,H14*I14) -> 0
B15: 12 | C15: 拆除原管道 | D15: de90 | E15: UPVC | G15: m | H15: 24 | K15: =IF(H15="",0,H15*I15) -> 0
B16: 13 | C16: 灭火器 | D16: MF/ABC5 | G16: 个 | H16: 2 | K16: =IF(H16="",0,H16*I16) -> 0
A17: 注意：本材料表所列管道及设备基础工程量为设计参考值,最终工程量需根据设备中标单位出具的二次深化设计正式成果文件进行调整。
C18: 工艺部分小计 | K18: =SUM(K4:K16) -> 0
A19: 二、标准化泵房改造
B20: 1 | C20: 标准化泵房改造 | D20: 标准化泵房内部修缮改造，内容详见设计图 | G20: m2 | H20: 35 | K20: =IF(H20="",0,H20*I20) -> 0
C25: 标准化泵房改造部分小计 | K25: =SUM(K20:K24) -> 0
A26: 三、电气及自控设备
A27: 照明设备 | B27: 1 | C27: 应急照明箱(A型应急照明集中电源) | D27: N-D-0.1kW-36(应急时间90min) | G27: 面 | H27: 1 | J27: 明装,底边距地1.6m | K27: =IF(H27="",0,H27*I27) -> 0
B28: 2 | C28: 应急LED泛光灯 | D28: 配36WLED灯,IP65 3600lm,6000K,Ra>85,COS%%C>0.95 | G28: 套 | H28: 3 | J28: 壁装,装高3.0m 自带蓄电池,应急时间180min | K28: =IF(H28="",0,H28*I28) -> 0
B29: 3 | C29: 壁装灯 | D29: 配18WLED灯,IP65 1800lm,6000K,Ra>85,COS%%C>0.95 | G29: 套 | H29: 2 | J29: 壁装,装高2.8m | K29: =IF(H29="",0,H29*I29) -> 0
B30: 4 | C30: 双(三)联开关 | D30: 250V.10A,防溅型 | G30: 只 | H30: 2 | J30: 底边距地1.3m(暗装) | K30: =IF(H30="",0,H30*I30) -> 0
B31: 5 | C31: 二+三孔带接地安全插座 | D31: 250V.10A,防溅型 | G31: 只 | H31: 2 | J31: 暗设,底边距地1.5m | K31: =IF(H31="",0,H31*I31) -> 0
B32: 6 | C32: 照明及插座管线 | D32: 详配电系统图及照明、插座平面布置图 | G32: 项 | H32: 1 | K32: =IF(H32="",0,H32*I32) -> 0
B33: 7 | C33: 消防应急照明灯具-壁装(中型) | D33: 7W,DC36V,A型,具有应急照明、巡检、开灯、灭灯功能 | G33: 套 | H33: 6 | J33: 底边距地2.5m,IP65 | K33: =IF(H33="",0,H33*I33) -> 0
B34: 8 | C34: 消防应急标志灯具-安全出口(中型) | D34: 1W,DC36V,A型,具有巡检、常亮、频闪功能 | G34: 套 | H34: 1 | J34: 装于门上方或悬挂安装,IP65 | K34: =IF(H34="",0,H34*I34) -> 0
B35: 9 | C35: 消防应急标志灯具-单面右向(中型) | D35: 1W,DC36V,A型,具有巡检、常亮、频闪功能 | G35: 套 | H35: 1 | J35: 底边距地0.5m,IP65 | K35: =IF(H35="",0,H35*I35) -> 0
B36: 10 | C36: 消防应急标志灯具-单面左向(中型) | D36: 1W,DC36V,A型,具有巡检、常亮、频闪功能 | G36: 套 | H36: 2 | J36: 底边距地0.5m,IP65 | K36: =IF(H36="",0,H36*I36) -> 0
A37: 配电设备 | B37: 1 | C37: 配电控制柜（含PLC控制系统） | D37: DLA 附件图纸,详见:D-EG-WD-02、K-EG-WD-04 | G37: 面 | H37: 1 | J37: 柜体采用304不锈钢材质,IP55,落地安装 基础用C30素混凝土垫高300mm 素混凝土基础上采用10#槽钢架高200mm | K37: =IF(H37="",0,H37*I37) -> 0
B38: 2 | C38: 电缆及保护管 | D38: 详:电缆一览表 | G38: 项 | H38: 1 | K38: =IF(H38="",0,H38*I38) -> 0
B39: 3 | C39: 304不锈钢电缆桥架(包括盖板) | D39: 200*100,采用304不锈钢板分隔,控制电缆占宽80mm | G39: 米 | H39: 12 | J39: 配套所有配件及托臂,均采用304不锈钢材质 | K39: =IF(H39="",0,H39*I39) -> 0
B40: 4 | C40: 304不锈钢电缆桥架(包括盖板) | D40: 50*25 | G40: 米 | H40: 12 | J40: 配套所有配件及托臂,均采用304不锈钢材质 | K40: =IF(H40="",0,H40*I40) -> 0
B41: 5 | C41: 总等电位联结箱 | D41: MEB 详15D502 | G41: 面 | H41: 1 | J41: 底边距地0.3m(暗装) | K41: =IF(H41="",0,H41*I41) -> 0
B42: 6 | C42: 接地线 | D42: -40*4扁钢,304不锈钢材质 | G42: 米 | H42: 30 | K42: =IF(H42="",0,H42*I42) -> 0
B43: 7 | C43: 防水防火密封堵料 | G43: 千克 | H43: 5 | K43: =IF(H43="",0,H43*I43) -> 0
A44: 拆除设备 | B44: 1 | C44: 水泵配电控制柜,600*380*1200mm | G44: 面 | H44: 1 | K44: =IF(H44="",0,H44*I44) -> 0
...

Sheet 康城水都
A1: 康城水都 清单明细表
A2: 分部 | B2: 序号 | C2: 细项名称 | D2: 规格型号/技术要求 | E2: 材质 | F2: 制造商及品牌 | G2: 单位 | H2: 数量 | I2: 不含税单价(元) | J2: 备注 | K2: 合价(元)
A3: 一、工艺设备
B4: 1 | C4: 不锈钢管 | D4: DN200,δ=3.0mm, PN=1.0MPa | E4: S31603 | G4: m | H4: 9 | K4: =IF(H4="",0,H4*I4) -> 0
B5: 2 | C5: 临时供水费用 | G5: 项 | H5: 1 | K5: =IF(H5="",0,H5*I5) -> 0
B6: 3 | C6: 不锈钢管 | D6: DN150,δ=2.5mm, PN=1.6MPa | E6: S31603 | G6: m | H6: 6 | K6: =IF(H6="",0,H6*I6) -> 0
B7: 4 | C7: 不锈钢管 | D7: DN100,δ=2.0mm, PN=1.6MPa | E7: S31603 | G7: m | H7: 18 | K7: =IF(H7="",0,H7*I7) -> 0
B8: 5 | C8: 正三通 | D8: DN200XDN150 , PN=1.6MPa | E8: S31603 | G8: 个 | H8: 1 | K8: =IF(H8="",0,H8*I8) -> 0
B9: 6 | C9: 不锈钢90°弯头 | D9: DN200,δ=2.8mm PN=1.0MPa | E9: S31603 | G9: 个 | H9: 4 | K9: =IF(H9="",0,H9*I9) -> 0
B10: 7 | C10: 不锈钢90°弯头 | D10: DN150,δ=2.8mm PN=1.6MPa | E10: S31603 | G10: 个 | H10: 2 | K10: =IF(H10="",0,H10*I10) -> 0
B11: 8 | C11: 不锈钢90°弯头 | D11: DN100,δ=2.0mm PN=1.6MPa | E11: S31603 | G11: 个 | H11: 6 | K11: =IF(H11="",0,H11*I11) -> 0
B12: 9 | C12: 法兰片 | D12: DN200,PN=1.0MPa | E12: S31603 | G12: 个 | H12: 6 | K12: =IF(H12="",0,H12*I12) -> 0
B13: 10 | C13: 法兰片 | D13: DN150,PN=1.0MPa | E13: S31603 | G13: 个 | H13: 6 | K13: =IF(H13="",0,H13*I13) -> 0
B14: 11 | C14: 法兰片 | D14: DN100,PN=1.6MPa | E14: S31603 | G14: 个 | H14: 16 | K14: =IF(H14="",0,H14*I14) -> 0
B15: 12 | C15: Y型过滤器 | D15: DN200,PN=1.0MPa | E15: S30408 | G15: 个 | H15: 1 | K15: =IF(H15="",0,H15*I15) -> 0
B16: 13 | C16: 水锤吸纳器 | D16: DN100,PN=1.6MPa | E16: S30408 | G16: 个 | H16: 2 | K16: =IF(H16="",0,H16*I16) -> 0
B17: 14 | C17: 手自一体电动蝶阀 | D17: DN100,PN=1.6MPa,D943H | E17: S30408 | G17: 个 | H17: 2 | K17: =IF(H17="",0,H17*I17) -> 0
... B22: 19 | C22: 倒流防止器 | D22: DN150,P=1.0MPa | E22: S30408 | G22: 个 | H22: 2 | K22: =IF(H22="",0,H22*I22) -> 0
B23: 20 | C23: 灭火器 | D23: --第一阶段 MF/ABC5 | G23: 具 | H23: 2 | K23: =IF(H23="",0,H23*I23) -> 0
B24: 21 | C24: 拆除原管道 | D24: 钢管DN100 | E24: 钢制 | G24: m | H24: 45 | K24: =IF(H24="",0,H24*I24) -> 0
B25: 22 | C25: 橡胶隔振垫 | G25: 个 | H25: 8 | K25: =IF(H25="",0,H25*I25) -> 0
B26: 23 | C26: 柔性防水套管 | G26: 个 | H26: 3 | K26: =IF(H26="",0,H26*I26) -> 0
A27: 注意：本材料表所列管道及设备基础工程量为设计参考值,最终工程量需根据设备中标单位出具的二次深化设计正式成果文件进行调整。
C28: 工艺部分小计 | K28: =SUM(K4:K26) -> 0
A29: 二、标准化泵房改造
B30: 1 | C30: 标准化泵房改造 | D30: 标准化泵房内部修缮改造，内容详见设计图 | G30: m2 | H30: 65 | K30: =IF(H30="",0,H30*I30) -> 0
C31: 标准化泵房改造部分小计 | K31: =SUM(K30:K30) -> 0
A32: 三、电气及自控设备
A33: 照明设备 | B33: 1 | C33: 应急照明箱(A型应急照明集中电源) ELD | D33: N-D-0.1kW-36(应急时间90min) | G33: 面 | H33: 1 | J33: 明装,底边距地1.6m | K33: =IF(H33="",0,H33*I33) -> 0
B34: 2 | C34: 应急LED泛光灯 | D34: 配60W LED灯,IP65 5500lm,6000K,Ra>85,COS%%C>0.95 | G34: 套 | H34: 4 | J34: 壁装,装高2.4m 自带蓄电池,应急时间180min | K34: =IF(H34="",0,H34*I34) -> 0
B35: 3 | C35: 双联开关 | D35: 250V.10A,防溅型 | G35: 只 | H35: 1 | J35: 底边距地1.3m(暗装) | K35: =IF(H35="",0,H35*I35) -> 0
B36: 4 | C36: 二+三孔带接地安全插座 | D36: 250V.10A,防溅型 | G36: 只 | H36: 2 | J36: 暗设,底边距地1.5m | K36: =IF(H36="",0,H36*I36) -> 0
B37: 5 | C37: 照明及插座管线 | D37: 详配电系统图及照明、插座平面布置图 | G37: 项 | H37: 1 | K37: =IF(H37="",0,H37*I37) -> 0
B38: 6 | C38: 消防应急照明灯具-壁装(中型) | D38: 7W,DC36V,A型,具有应急照明、巡检、开灯、灭灯功能 | G38: 套 | H38: 6 | J38: 底边距地2.2m,IP65 | K38: =IF(H38="",0,H38*I38) -> 0
B39: 7 | C39: 消防应急标志灯具-安全出口(中型) | D39: 1W,DC36V,A型,具有巡检、常亮、频闪功能 | G39: 套 | H39: 2 | J39: 装于门上方或悬挂安装,IP65 | K39: =IF(H39="",0,H39*I39) -> 0
B40: 8 | C40: 消防应急标志灯具-单面右向(中型) | D40: 1W,DC36V,A型,具有巡检、常亮、频闪功能 | G40: 套 | H40: 1 | J40: 底边距地0.5m,IP65 | K40: =IF(H40="",0,H40*I40) -> 0
B41: 9 | C41: 消防应急标志灯具-单面左向(中型) | D41: 1W,DC36V,A型,具有巡检、常亮、频闪功能 | G41: 套 | H41: 2 | J41: 底边距地0.5m,IP65 | K41: =IF(H41="",0,H41*I41) -> 0
A42: 配电设备 | B42: 1 | C42: 泵房主控柜 ZKA | D42: 附件图纸,详见:D-EG-KC-02、K-EG-KC-04、05 注意：本单项报价还应包含自控图K-EG-KC-04、05中的所有设备元件价格。 | G42: 面 | H42: 1 | J42: 柜体采用304不锈钢材质,IP55,落地安装 基础用C30素混凝土垫高300mm 素混凝土基础上采用10#槽钢架高200mm | K42: =IF(H42="",0,H42*I42) -> 0
B43: 2 | C43: 电缆及保护管 | D43: 详:电缆一览表 | G43: 项 | H43: 1 | K43: =IF(H43="",0,H43*I43) -> 0
B44: 3 | C44: 304不锈钢电缆桥架(包括盖板) | D44: 200*100,采用304不锈钢板分隔,控制电缆占宽80mm 壁厚不小于2.0mm | G44: 米 | H44: 15 | J44: 配套所有配件及托臂,均采用304不锈钢材质 | K44: =IF(H44="",0,H44*I44) -> 0
...

Sheet 双轮化机经济适用房
A1: 双轮化机经济适用房 清单明细表
A2: 分部 | B2: 序号 | C2: 细项名称 | D2: 规格型号/技术要求 | F2: 制造商及品牌 | G2: 单位 | H2: 数量 | I2: 不含税单价(元) | J2: 备注 | K2: 合价(元)
A3: 一、工艺设备
B4: 1 | C4: 成套加压供水设备 （核心产品） | D4: Q=16m3/h,H=55m,单泵功率2.2kw | G4: 套 | H4: 1 | K4: =IF(H4="",0,H4*I4) -> 0
B5: 2 | C5: 临时供水费用 | G5: 项 | H5: 1 | K5: =IF(H5="",0,H5*I5) -> 0
B6: 3 | C6: 不锈钢管 | D6: DN100,δ=2.0mm,Pn=1.0MPa | G6: m | H6: 10 | K6: =IF(H6="",0,H6*I6) -> 0
B7: 4 | C7: 不锈钢管 | D7: DN80,δ=2.0mm,Pn=1.0MPa | G7: m | H7: 15 | K7: =IF(H7="",0,H7*I7) -> 0
B8: 5 | C8: 不锈钢90°弯头 | D8: DN100,δ=2.0mm,Pn=1.0MPa | G8: 个 | H8: 5 | K8: =IF(H8="",0,H8*I8) -> 0
B9: 6 | C9: 不锈钢90°弯头 | D9: DN80,δ=2.0mm,Pn=1.0MPa | G9: 个 | H9: 4 | K9: =IF(H9="",0,H9*I9) -> 0
B10: 7 | C10: 法兰片 | D10: DN100,P=1.0MPa | G10: 个 | H10: 4 | K10: =IF(H10="",0,H10*I10) -> 0
B11: 8 | C11: 法兰片 | D11: DN80,P=1.0MPa | G11: 个 | H11: 6 | K11: =IF(H11="",0,H11*I11) -> 0
B12: 9 | C12: 手自一体电动蝶阀 | D12: DN100,P=1.0MPa,Z945X | G12: 个 | H12: 1 | K12: =IF(H12="",0,H12*I12) -> 0
B13: 10 | C13: 手自一体电动蝶阀 | D13: DN80,P=1.0MPa,Z945X | G13: 个 | H13: 1 | K13: =IF(H13="",0,H13*I13) -> 0
B14: 11 | C14: 不锈钢波纹管 | D14: DN100,P=1.0MPa | G14: 个 | H14: 1 | K14: =IF(H14="",0,H14*I14) -> 0
B15: 12 | C15: Y型过滤器 | D15: DN100,P=1.0MPa | G15: 个 | H15: 1 | K15: =IF(H15="",0,H15*I15) -> 0
B16: 13 | C16: 倒流防止器 | D16: DN100,P=1.0MPa | G16: 个 | H16: 1 | K16: =IF(H16="",0,H16*I16) -> 0
B17: 14 | C17: 自动排气阀 | D17: DN25,P=1.0MPa | G17: 个 | H17: 1 | K17: =IF(H17="",0,H17*I17) -> 0
... B24: 21 | C24: 柔性防水套管(B型) | D24: DN80 | G24: 个 | H24: 1 | K24: =IF(H24="",0,H24*I24) -> 0
A25: 注意：本材料表所列管道及设备基础工程量为设计参考值,最终工程量需根据设备中标单位出具的二次深化设计正式成果文件进行调整。
C26: 工艺部分小计 | K26: =SUM(K4:K24) -> 0
A27: 二、标准化泵房改造
B28: 1 | C28: 标准化泵房改造 | D28: 标准化泵房内部修缮改造，内容详见设计图 | G28: m2 | H28: 50 | K28: =IF(H28="",0,H28*I28) -> 0
C29: 标准化泵房改造部分小计 | K29: =SUM(K28:K28) -> 0
A30: 三、电气及自控设备
A31: 照明设备 | B31: 1 | C31: 应急照明箱(A型应急照明集中电源) ELD | D31: N-D-0.1kW-36(应急时间90min) | G31: 面 | H31: 1 | J31: 明装,底边距地1.6m | K31: =IF(H31="",0,H31*I31) -> 0
B32: 2 | C32: 应急LED泛光灯 | D32: 配36W LED灯,IP65 3600lm,6000K,Ra>85,COS%%C>0.95 | G32: 套 | H32: 4 | J32: 壁装,装高3.0m 自带蓄电池,应急时间180min | K32: =IF(H32="",0,H32*I32) -> 0
B33: 3 | C33: 壁装灯 | D33: 配18W LED灯,IP65 1800lm,6000K,Ra>85,COS%%C>0.95 | G33: 套 | H33: 2 | J33: 壁装,装高2.8m | K33: =IF(H33="",0,H33*I33) -> 0
B34: 4 | C34: 双联开关 | D34: 250V.10A,防溅型 | G34: 只 | H34: 2 | J34: 底边距地1.3m(暗装) | K34: =IF(H34="",0,H34*I34) -> 0
B35: 5 | C35: 二+三孔带接地安全插座 | D35: 250V.10A,防溅型 | G35: 只 | H35: 2 | J35: 暗设,底边距地1.5m | K35: =IF(H35="",0,H35*I35) -> 0
B36: 6 | C36: 照明及插座管线 | D36: 详配电系统图及照明、插座平面布置图 | G36: 项 | H36: 1 | K36: =IF(H36="",0,H36*I36) -> 0
B37: 7 | C37: 消防应急照明灯具-壁装(中型) | D37: 7W,DC36V,A型,具有应急照明、巡检、开灯、灭灯功能 | G37: 套 | H37: 6 | J37: 底边距地2.5m,IP65 | K37: =IF(H37="",0,H37*I37) -> 0
B38: 8 | C38: 消防应急标志灯具-安全出口(中型) | D38: 1W,DC36V,A型,具有巡检、常亮、频闪功能 | G38: 套 | H38: 1 | J38: 装于门上方或悬挂安装,IP65 | K38: =IF(H38="",0,H38*I38) -> 0
B39: 9 | C39: 消防应急标志灯具-单面右向(中型) | D39: 1W,DC36V,A型,具有巡检、常亮、频闪功能 | G39: 套 | H39: 2 | J39: 底边距地0.5m,IP65 | K39: =IF(H39="",0,H39*I39) -> 0
B40: 10 | C40: 消防应急标志灯具-单面左向(中型) | D40: 1W,DC36V,A型,具有巡检、常亮、频闪功能 | G40: 套 | H40: 1 | J40: 底边距地0.5m,IP65 | K40: =IF(H40="",0,H40*I40) -> 0
A41: 配电设备 | B41: 1 | C41: 配电控制柜 DLA | D41: 附件图纸,详见:D-EG-SL-02 | G41: 面 | H41: 1 | J41: 柜体采用304不锈钢材质,IP55,落地安装 基础用C30素混凝土垫高300mm 素混凝土基础上采用10#槽钢架高200mm | K41: =IF(H41="",0,H41*I41) -> 0
B42: 2 | C42: 电缆及保护管 | D42: 详:电缆一览表 | G42: 项 | H42: 1 | K42: =IF(H42="",0,H42*I42) -> 0
B43: 3 | C43: 304不锈钢电缆桥架(包括盖板) | D43: 200*100,采用304不锈钢板分隔,控制电缆占宽80mm 壁厚不小于2.0mm | G43: 米 | H43: 14 | J43: 配套所有配件及托臂,均采用304不锈钢材质 | K43: =IF(H43="",0,H43*I43) -> 0
B44: 4 | C44: 304不锈钢电缆桥架(包括盖板) | D44: 50*25,壁厚不小于2.0mm | G44: 米 | H44: 14 | J44: 配套所有配件及托臂,均采用304不锈钢材质 | K44: =IF(H44="",0,H44*I44) -> 0
B45: 5 | C45: 总等电位联结箱 MEB | D45: 详15D502 | G45: 面 | H45: 1 | J45: 底边距地0.3m(暗装) | K45: =IF(H45="",0,H45*I45) -> 0
B46: 6 | C46: 接地线 | D46: -40*4扁钢,304不锈钢材质 | G46: 米 | H46: 30 | K46: =IF(H46="",0,H46*I46) -> 0
...

Sheet 外滩一号
A1: 外滩一号 清单明细表
A2: 分部 | B2: 序号 | C2: 细项名称 | D2: 规格型号/技术要求 | E2: 材质 | F2: 制造商及品牌 | G2: 单位 | H2: 数量 | I2: 不含税单价(元) | J2: 备注 | K2: 合价(元)
A3: 一、工艺设备
B4: 1 | C4: 不锈钢管 | D4: DN200,δ=3.0mm,PN=1.0MPa | E4: S31603 | G4: m | H4: 9 | K4: =IF(H4="",0,H4*I4) -> 0
B5: 2 | C5: 临时供水费用 | G5: 项 | H5: 1 | K5: =IF(H5="",0,H5*I5) -> 0
B6: 3 | C6: 不锈钢管 | D6: DN150,δ=2.5mm,PN=1.6MPa | E6: S31603 | G6: m | H6: 30 | K6: =IF(H6="",0,H6*I6) -> 0
B7: 4 | C7: 不锈钢管 | D7: DN100,δ=2.0mm,PN=1.6MPa | E7: S31603 | G7: m | H7: 8 | K7: =IF(H7="",0,H7*I7) -> 0
B8: 5 | C8: 正三通 | D8: DN200XDN150 , PN=1.0MPa | E8: S31603 | G8: 个 | H8: 2 | K8: =IF(H8="",0,H8*I8) -> 0
B9: 6 | C9: 不锈钢90°弯头 | D9: DN200,δ=2.8mm PN=1.0MPa | E9: S31603 | G9: 个 | H9: 2 | K9: =IF(H9="",0,H9*I9) -> 0
B10: 7 | C10: 不锈钢90°弯头 | D10: DN150,δ=2.8mm PN=1.6MPa | E10: S31603 | G10: 个 | H10: 18 | K10: =IF(H10="",0,H10*I10) -> 0
B11: 8 | C11: 不锈钢90°弯头 | D11: DN100,δ=2.0mm PN=1.6MPa | E11: S31603 | G11: 个 | H11: 2 | K11: =IF(H11="",0,H11*I11) -> 0
B12: 9 | C12: 法兰片 | D12: DN200,PN=1.0MPa | E12: S31603 | G12: 个 | H12: 8 | K12: =IF(H12="",0,H12*I12) -> 0
B13: 10 | C13: 法兰片 | D13: DN150,PN=1.6MPa | E13: S31603 | G13: 个 | H13: 22 | K13: =IF(H13="",0,H13*I13) -> 0
B14: 11 | C14: 法兰片 | D14: DN100,PN=1.6MPa | E14: S31603 | G14: 个 | H14: 3 | K14: =IF(H14="",0,H14*I14) -> 0
B15: 12 | C15: 手自一体电动蝶阀 | D15: DN200,PN=1.0MPa,D943H | E15: S30408 | G15: 个 | H15: 2 | K15: =IF(H15="",0,H15*I15) -> 0
B16: 13 | C16: 手自一体电动蝶阀 | D16: DN150,PN=1.0MPa,D943H | E16: S30408 | G16: 个 | H16: 4 | K16: =IF(H16="",0,H16*I16) -> 0
B17: 14 | C17: 手自一体电动蝶阀 | D17: DN150,PN=1.6MPa,D943H | E17: S30408 | G17: 个 | H17: 3 | K17: =IF(H17="",0,H17*I17) -> 0
... B25: 22 | C25: 水锤吸纳器 | D25: --第一阶段 DN150,PN=1.6MPa | E25: S30408 | G25: 个 | H25: 3 | K25: =IF(H25="",0,H25*I25) -> 0
B26: 23 | C26: 灭火器 | D26: --第一阶段 MF/ABC5 | G26: 具 | H26: 4 | K26: =IF(H26="",0,H26*I26) -> 0
B27: 24 | C27: 拆除原管道 | D27: 钢管DN150 | E27: 钢制 | G27: m | H27: 50 | K27: =IF(H27="",0,H27*I27) -> 0
B28: 25 | C28: 橡胶隔振垫 | G28: 个 | H28: 16 | K28: =IF(H28="",0,H28*I28) -> 0
B29: 26 | C29: 柔性防水套管 | G29: 个 | H29: 6 | K29: =IF(H29="",0,H29*I29) -> 0
A30: 注意：本材料表所列管道及设备基础工程量为设计参考值,最终工程量需根据设备中标单位出具的二次深化设计正式成果文件进行调整。
C31: 工艺部分小计 | K31: =SUM(K4:K29) -> 0
A32: 二、标准化泵房改造
B33: 1 | C33: 标准化泵房改造 | D33: 标准化泵房内部修缮改造，内容详见设计图 | G33: m2 | H33: 30 | K33: =IF(H33="",0,H33*I33) -> 0
C34: 标准化泵房改造部分小计 | K34: =SUM(K33:K33) -> 0
A35: 三、电气及自控设备
A36: 室外车库入口旁泵房 照明设备 | B36: 1 | C36: 应急照明箱(A型应急照明集中电源) ELD | D36: N-D-0.1kW-36(应急时间90min) | G36: 面 | H36: 1 | J36: 明装,底边距地1.6m | K36: =IF(H36="",0,H36*I36) -> 0
B37: 2 | C37: 应急LED泛光灯 | D37: 配40W LED灯,IP65 3600lm,6000K,Ra>85,COS%%C>0.95 | G37: 套 | H37: 2 | J37: 壁装,装高2.6m 自带蓄电池,应急时间180min | K37: =IF(H37="",0,H37*I37) -> 0
B38: 3 | C38: 双联开关 | D38: 250V.10A,防溅型 | G38: 只 | H38: 1 | J38: 底边距地1.3m(暗装) | K38: =IF(H38="",0,H38*I38) -> 0
B39: 4 | C39: 二+三孔带接地安全插座 | D39: 250V.10A,防溅型 | G39: 只 | H39: 2 | J39: 暗设,底边距地1.5m | K39: =IF(H39="",0,H39*I39) -> 0
B40: 5 | C40: 照明及插座管线 | D40: 详配电系统图及照明、插座平面布置图 | G40: 项 | H40: 1 | K40: =IF(H40="",0,H40*I40) -> 0
B41: 6 | C41: 消防应急照明灯具-壁装(中型) | D41: 7W,DC36V,A型,具有应急照明、巡检、开灯、灭灯功能 | G41: 套 | H41: 3 | J41: 底边距地2.1m,IP65 | K41: =IF(H41="",0,H41*I41) -> 0
B42: 7 | C42: 消防应急照明灯具-壁装(中型) | D42: 7W,DC36V,A型,具有应急照明、巡检、开灯、灭灯功能 | G42: 套 | H42: 1 | J42: 底边距地2.5m,户外型，IP67
B43: 8 | C43: 消防应急标志灯具-安全出口(中型) | D43: 1W,DC36V,A型,具有巡检、常亮、频闪功能 | G43: 套 | H43: 1 | J43: 装于门上方或悬挂安装,IP65 | K43: =IF(H43="",0,H43*I43) -> 0
A44: 室外车库入口旁泵房 配电设备 | B44: 1 | C44: 泵房主控柜 ZKA | D44: 附件图纸,详见:D-EG-WT-02、K-EG-WT-04、05 注意：本单项报价还应包含自控图K-EG-KC-04、05中的所有设备元件价格。 | G44: 面 | H44: 1 | J44: 柜体采用304不锈钢材质,IP55,落地安装 基础用C30素混凝土垫高300mm 素混凝土基础上采用10#槽钢架高200mm | K44: =IF(H44="",0,H44*I44) -> 0
B45: 2 | C45: 电缆及保护管 | D45: 详:电缆一览表 | G45: 项 | H45: 1 | K45: =IF(H45="",0,H45*I45) -> 0
B46: 3 | C46: 304不锈钢电缆桥架(包括盖板) | D46: 200*100,采用304不锈钢板分隔,控制电缆占宽80mm 壁厚不小于2.0mm | G46: 米 | H46: 11 | J46: 配套所有配件及托臂,均采用304不锈钢材质 | K46: =IF(H46="",0,H46*I46) -> 0
B47: 4 | C47: 接地线 | D47: -40*4扁钢,304不锈钢材质 | G47: 米 | H47: 20 | K47: =IF(H47="",0,H47*I47) -> 0
...

Sheet 白沙省一建
A1: 白沙省一建 清单明细表
A2: 分部 | B2: 序号 | C2: 细项名称 | D2: 规格型号/技术要求 | E2: 材质 | F2: 制造商及品牌 | G2: 单位 | H2: 数量 | I2: 不含税单价(元) | J2: 备注 | K2: 合价(元)
A3: 一、工艺设备
B4: 1 | C4: 不锈钢管 | D4: DN100,δ=2.0mm,,PN=1.0MPa | E4: S31603 | G4: m | H4: 5 | K4: =IF(H4="",0,H4*I4) -> 0
B5: 2 | C5: 临时供水费用 | G5: 项 | H5: 1 | K5: =IF(H5="",0,H5*I5) -> 0
B6: 3 | C6: 不锈钢管 | D6: DN80,δ=2.0mm,PN=1.6MPa | E6: S31603 | G6: m | H6: 6 | K6: =IF(H6="",0,H6*I6) -> 0
B7: 4 | C7: 不锈钢90°弯头 | D7: DN100,δ=2.0mm PN=1.6MPa | E7: S31603 | G7: 个 | H7: 3 | K7: =IF(H7="",0,H7*I7) -> 0
B8: 5 | C8: 不锈钢90°弯头 | D8: DN100,δ=2.0mm PN=1.6MPa | E8: S31603 | G8: 个 | H8: 2 | K8: =IF(H8="",0,H8*I8) -> 0
B9: 6 | C9: 法兰片 | D9: DN100,PN=1.0MPa | E9: S31603 | G9: 个 | H9: 3 | K9: =IF(H9="",0,H9*I9) -> 0
B10: 7 | C10: 法兰片 | D10: DN80,PN=1.6MPa | E10: S31603 | G10: 个 | H10: 3 | K10: =IF(H10="",0,H10*I10) -> 0
B11: 8 | C11: Y型过滤器 | D11: DN100,PN=1.0MPa | E11: S30408 | G11: 个 | H11: 1 | K11: =IF(H11="",0,H11*I11) -> 0
B12: 9 | C12: 手自一体电动蝶阀 | D12: DN80,PN=1.6MPa,D943H | E12: S30408 | G12: 个 | H12: 1 | K12: =IF(H12="",0,H12*I12) -> 0
B13: 10 | C13: 手自一体电动蝶阀 | D13: DN100,PN=1.0MPa,D943H | E13: S30408 | G13: 个 | H13: 1 | K13: =IF(H13="",0,H13*I13) -> 0
B14: 11 | C14: 不锈钢波纹管 | D14: DN80,PN=1.6MPa | E14: S30408 | G14: 个 | H14: 1 | K14: =IF(H14="",0,H14*I14) -> 0
B15: 12 | C15: 不锈钢波纹管 | D15: DN100,PN=1.0MPa | E15: S30408 | G15: 个 | H15: 1 | K15: =IF(H15="",0,H15*I15) -> 0
B16: 13 | C16: 倒流防止器 | D16: DN100,PN=1.0MPa | E16: S30408 | G16: 个 | H16: 1 | K16: =IF(H16="",0,H16*I16) -> 0
B17: 14 | C17: 水锤吸纳器 | D17: DN80,PN=1.6MPa | E17: S30408 | G17: 个 | H17: 1 | K17: =IF(H17="",0,H17*I17) -> 0
B18: 15 | C18: 灭火器 | D18: --第一阶段 MF/ABC5 | G18: 具 | H18: 2 | K18: =IF(H18="",0,H18*I18) -> 0
B19: 16 | C19: 拆除原管道 | D19: 钢管DN100 | E19: 钢制 | G19: m | H19: 15 | K19: =IF(H19="",0,H19*I19) -> 0
B20: 17 | C20: 橡胶隔振垫 | G20: 个 | H20: 4 | K20: =IF(H20="",0,H20*I20) -> 0
B21: 18 | C21: 柔性防水套管 | G21: 个 | H21: 2 | K21: =IF(H21="",0,H21*I21) -> 0
A22: 注意：本材料表所列管道及设备基础工程量为设计参考值,最终工程量需根据设备中标单位出具的二次深化设计正式成果文件进行调整。
C23: 工艺部分小计 | K23: =SUM(K4:K21) -> 0
A24: 二、标准化泵房改造
B25: 1 | C25: 标准化泵房改造 | D25: 标准化泵房内部修缮改造，内容详见设计图 | G25: m2 | H25: 25
C26: 标准化泵房改造部分小计 | K26: =SUM(K25:K25) -> 0
A27: 三、电气及自控设备
A28: 照明设备 | B28: 1 | C28: 应急照明箱(A型应急照明集中电源) ELD | D28: N-D-0.1kW-36(应急时间90min) | G28: 面 | H28: 1 | J28: 明装,底边距地1.6m | K28: =IF(H28="",0,H28*I28) -> 0
B29: 2 | C29: 应急LED泛光灯 | D29: 配36W LED灯,IP65 3600lm,6000K,Ra>85,COS%%C>0.95 | G29: 套 | H29: 2 | J29: 壁装,装高3.0m 自带蓄电池,应急时间180min | K29: =IF(H29="",0,H29*I29) -> 0
B30: 3 | C30: 双联开关 | D30: 250V.10A,防溅型 | G30: 只 | H30: 1 | J30: 底边距地1.3m(暗装) | K30: =IF(H30="",0,H30*I30) -> 0
B31: 4 | C31: 二+三孔带接地安全插座 | D31: 250V.10A,防溅型 | G31: 只 | H31: 2 | J31: 暗设,底边距地1.5m | K31: =IF(H31="",0,H31*I31) -> 0
B32: 5 | C32: 照明及插座管线 | D32: 详配电系统图及照明、插座平面布置图 | G32: 项 | H32: 1 | K32: =IF(H32="",0,H32*I32) -> 0
B33: 6 | C33: 消防应急照明灯具-壁装(中型) | D33: 7W,DC36V,A型,具有应急照明、巡检、开灯、灭灯功能 | G33: 套 | H33: 3 | J33: 底边距地2.5m,IP65 | K33: =IF(H33="",0,H33*I33) -> 0
B34: 7 | C34: 消防应急标志灯具-安全出口(中型) | D34: 1W,DC36V,A型,具有巡检、常亮、频闪功能 | G34: 套 | H34: 1 | J34: 装于门上方或悬挂安装,IP65 | K34: =IF(H34="",0,H34*I34) -> 0
A35: 配电设备 | B35: 1 | C35: 泵房主控柜 ZKA | D35: 附件图纸,详见:D-EG-BS-02、K-EG-BS-04、05 注意：本单项报价还应包含自控图K-EG-BS-04、05中的所有设备元件价格。 | G35: 面 | H35: 1 | J35: 柜体采用304不锈钢材质,IP55,落地安装 基础用C30素混凝土垫高300mm 素混凝土基础上采用10#槽钢架高200mm | K35: =IF(H35="",0,H35*I35) -> 0
B36: 2 | C36: 电缆及保护管 | D36: 详:电缆一览表 | G36: 项 | H36: 1 | K36: =IF(H36="",0,H36*I36) -> 0
B37: 3 | C37: 304不锈钢电缆桥架(包括盖板) | D37: 200*100,采用304不锈钢板分隔,控制电缆占宽80mm 壁厚不小于2.0mm | G37: 米 | H37: 11 | J37: 配套所有配件及托臂,均采用304不锈钢材质 | K37: =IF(H37="",0,H37*I37) -> 0
B38: 4 | C38: 接地线 | D38: -40*4扁钢,304不锈钢材质 | G38: 米 | H38: 20 | K38: =IF(H38="",0,H38*I38) -> 0
B39: 5 | C39: 防水防火密封堵料 | G39: 千克 | H39: 3 | K39: =IF(H39="",0,H39*I39) -> 0
A40: 拆除设备 | B40: 1 | C40: 现状照明灯具、电缆及保护管 | G40: 项 | H40: 1 | K40: =IF(H40="",0,H40*I40) -> 0
...

Sheet 三化经济适用房
A1: 三化经济适用房 清单明细表
A2: 分部 | B2: 序号 | C2: 细项名称 | D2: 规格型号/技术要求 | E2: 材质 | F2: 制造商及品牌 | G2: 单位 | H2: 数量 | I2: 不含税单价(元) | J2: 备注 | K2: 合价(元)
A3: 一、工艺设备
B4: 1 | C4: 不锈钢管 | D4: DN100,δ=2.0mm, PN=1.6MPa | E4: S31603 | G4: m | H4: 50 | K4: =IF(H4="",0,H4*I4) -> 0
B5: 2 | C5: 临时供水费用 | G5: 项 | H5: 1 | K5: =IF(H5="",0,H5*I5) -> 0
B6: 3 | C6: 不锈钢90°弯头 | D6: DN100,δ=2.0mm, PN=1.6MPa | E6: S31603 | G6: 个 | H6: 4 | K6: =IF(H6="",0,H6*I6) -> 0
B7: 4 | C7: 法兰片 | D7: DN100,PN=1.0MPa | E7: S31603 | G7: 个 | H7: 4 | K7: =IF(H7="",0,H7*I7) -> 0
B8: 5 | C8: 法兰片 | D8: DN100,PN=1.6MPa | E8: S31603 | G8: 个 | H8: 5 | K8: =IF(H8="",0,H8*I8) -> 0
B9: 6 | C9: Y型过滤器 | D9: DN100,PN=1.0MPa | E9: S30408 | G9: 个 | H9: 1 | K9: =IF(H9="",0,H9*I9) -> 0
B10: 7 | C10: 电磁流量计 | D10: DN100,PN=1.6MPa,带远传模块 测量精度<0.5级,测量范围0-50m3/h 具体参数详见电气专业 | E10: S30408 | G10: 个 | H10: 1 | K10: =IF(H10="",0,H10*I10) -> 0
B11: 8 | C11: 手自一体电动蝶阀 | D11: DN100,PN=1.6MPa,D943H | E11: S30408 | G11: 个 | H11: 2 | K11: =IF(H11="",0,H11*I11) -> 0
B12: 9 | C12: 不锈钢波纹管 | D12: DN100,PN=1.0MPa | E12: S30408 | G12: 个 | H12: 1 | K12: =IF(H12="",0,H12*I12) -> 0
B13: 10 | C13: 倒流防止器 | D13: DN100,PN=1.0MPa | E13: S30408 | G13: 个 | H13: 1 | K13: =IF(H13="",0,H13*I13) -> 0
B14: 11 | C14: 水锤吸纳器 | D14: DN100,PN=1.6MPa | E14: S30408 | G14: 个 | H14: 1 | K14: =IF(H14="",0,H14*I14) -> 0
B15: 12 | C15: 灭火器 | D15: MF/ABC5 | G15: 具 | H15: 2 | K15: =IF(H15="",0,H15*I15) -> 0
B16: 13 | C16: 拆除原管道 | D16: 钢管DN100 | E16: 钢制 | G16: m | H16: 50 | K16: =IF(H16="",0,H16*I16) -> 0
B17: 14 | C17: 橡胶隔振垫 | G17: 个 | H17: 4 | K17: =IF(H17="",0,H17*I17) -> 0
A18: 注意：本材料表所列管道及设备基础工程量为设计参考值,最终工程量需根据设备中标单位出具的二次深化设计正式成果文件进行调整。
C19: 工艺部分小计 | K19: =SUM(K4:K17) -> 0
A20: 二、标准化泵房改造
B21: 1 | C21: 标准化泵房改造 | D21: 标准化泵房内部修缮改造，内容详见设计图 | G21: m2 | H21: 260
C22: 标准化泵房改造部分小计 | K22: =SUM(K21:K21) -> 0
A23: 三、电气及自控设备
A24: 照明设备 | B24: 1 | C24: 应急照明箱(A型应急照明集中电源) ELD | D24: N-D-0.1kW-36(应急时间90min) | G24: 面 | H24: 1 | J24: 明装,底边距地1.6m | K24: =IF(H24="",0,H24*I24) -> 0
B25: 2 | C25: 应急双管LED支架灯 | D25: LED灯管 2*36W,IP65 3600lm,6000K,Ra>85,COS%%C>0.95 | G25: 套 | H25: 12 | J25: 吊装,装高3.0m 自带蓄电池,应急时间180min | K25: =IF(H25="",0,H25*I25) -> 0
B26: 3 | C26: 双联开关 | D26: 250V.10A,防溅型 | G26: 只 | H26: 4 | J26: 底边距地1.3m(暗装) | K26: =IF(H26="",0,H26*I26) -> 0
B27: 4 | C27: 二+三孔带接地安全插座 | D27: 250V.10A,防溅型 | G27: 只 | H27: 4 | J27: 暗设,底边距地1.5m | K27: =IF(H27="",0,H27*I27) -> 0
B28: 5 | C28: 照明及插座管线 | D28: 详配电系统图及照明、插座平面布置图 | G28: 项 | H28: 1 | K28: =IF(H28="",0,H28*I28) -> 0
B29: 6 | C29: 消防应急照明灯具-壁装(中型) | D29: 7W,DC36V,A型,具有应急照明、巡检、开灯、灭灯功能 | G29: 套 | H29: 8 | J29: 底边距地2.5m,IP65 | K29: =IF(H29="",0,H29*I29) -> 0
B30: 7 | C30: 消防应急标志灯具-安全出口(中型) | D30: 1W,DC36V,A型,具有巡检、常亮、频闪功能 | G30: 套 | H30: 2 | J30: 装于门上方或悬挂安装,IP65 | K30: =IF(H30="",0,H30*I30) -> 0
B31: 8 | C31: 消防应急标志灯具-单面双向(中型) | D31: 1W,DC36V,A型,具有巡检、常亮、频闪功能 | G31: 套 | H31: 2 | J31: 底边距地0.5m,IP65 | K31: =IF(H31="",0,H31*I31) -> 0
A32: 配电设备 | B32: 1 | C32: 泵房主控柜 ZKA | D32: 附件图纸,详见:D-EG-SH-02、K-EG-SH-04、05 注意：本单项报价还应包含自控图K-EG-SH-04、05中的所有设备元件价格。 | G32: 面 | H32: 1 | J32: 柜体采用304不锈钢材质,IP55,落地安装 基础用C30素混凝土垫高300mm 素混凝土基础上采用10#槽钢架高200mm | K32: =IF(H32="",0,H32*I32) -> 0
B33: 2 | C33: 电缆及保护管 | D33: 详:电缆一览表 | G33: 项 | H33: 1 | K33: =IF(H33="",0,H33*I33) -> 0
B34: 3 | C34: 304不锈钢电缆桥架(包括盖板) | D34: 200*100,采用304不锈钢板分隔,控制电缆占宽80mm 壁厚不小于2.0mm | G34: 米 | H34: 1 | J34: 配套所有配件及托臂,均采用304不锈钢材质 | K34: =IF(H34="",0,H34*I34) -> 0
B35: 4 | C35: 接地线 | D35: -40*4扁钢,304不锈钢材质 | G35: 米 | H35: 20 | K35: =IF(H35="",0,H35*I35) -> 0
B36: 5 | C36: 防水防火密封堵料 | G36: 千克 | H36: 3 | K36: =IF(H36="",0,H36*I36) -> 0
A37: 拆除设备 | B37: 1 | C37: 现状照明灯具、电缆及保护管 | G37: 项 | H37: 1 | K37: =IF(H37="",0,H37*I37) -> 0
A38: 自控设备 | B38: 1 | C38: 泵房主控柜 ZKA | D38: 附件图纸,详见:D-EG-SH-02、K-EG-SH-04、05 | G38: 面 | H38: 1 | I38: 此单项不计价，计入配电设备中
B39: 2 | C39: 电磁流量计变送器 FIT1 | D39: 测量口径:DN100,PN=1.6MPa,电源:~220VAC 测量范围:0~50m3/h,配置MODBUS通讯接口 测量精度不低于0.5级 变送器防护等级IP65,传感器防护等级IP68 | G39: 套 | H39: 1 | J39: 检测中区设备出水瞬时流量、累积流量 配套仪表箱(400*300*500),IP55 挂墙安装,底边距地1.1m, 箱体采用304不锈钢材质 | K39: =H39*I39 -> 0
C40: 电磁流量计传感器 FE1
...

Sheet 五金机电城
A1: 五金机电城 清单明细表
A2: 分部 | B2: 序号 | C2: 细项名称 | D2: 规格型号/技术要求 | E2: 材质 | F2: 制造商及品牌 | G2: 单位 | H2: 数量 | I2: 不含税单价(元) | J2: 备注 | K2: 合价(元)
A3: 一、工艺设备
B4: 1 | C4: 不锈钢管 | D4: DN200,δ=3.0mm , PN=1.0MPa | E4: S31603 | G4: m | H4: 12 | K4: =IF(H4="",0,H4*I4) -> 0
B5: 2 | C5: 临时供水费用 | G5: 项 | H5: 1 | K5: =IF(H5="",0,H5*I5) -> 0
B6: 2 | C6: 不锈钢管 | D6: DN150,δ=2.5mm , PN=1.0MPa | E6: S31603 | G6: m | H6: 2 | K6: =IF(H6="",0,H6*I6) -> 0
B7: 3 | C7: 不锈钢管 | D7: DN100,δ=2.0mm , PN=1.6MPa | E7: S31603 | G7: m | H7: 16 | K7: =IF(H7="",0,H7*I7) -> 0
B8: 4 | C8: 正三通 | D8: DN200XDN150 , PN=1.0MPa | E8: S31603 | G8: 个 | H8: 1 | K8: =IF(H8="",0,H8*I8) -> 0
B9: 5 | C9: 不锈钢90°弯头 | D9: DN200,δ=2.8mm PN=1.0MPa | E9: S31603 | G9: 个 | H9: 4 | K9: =IF(H9="",0,H9*I9) -> 0
B10: 6 | C10: 不锈钢90°弯头 | D10: DN150,δ=2.8mm PN=1.6MPa | E10: S31603 | G10: 个 | H10: 2 | K10: =IF(H10="",0,H10*I10) -> 0
B11: 7 | C11: 不锈钢90°弯头 | D11: DN100,δ=2.0mm PN=1.6MPa | E11: S31603 | G11: 个 | H11: 10 | K11: =IF(H11="",0,H11*I11) -> 0
B12: 8 | C12: 法兰片 | D12: DN200,PN=1.0MPa | E12: S31603 | G12: 个 | H12: 6 | K12: =IF(H12="",0,H12*I12) -> 0
B13: 9 | C13: 法兰片 | D13: DN150,PN=1.0MPa | E13: S31603 | G13: 个 | H13: 4 | K13: =IF(H13="",0,H13*I13) -> 0
B14: 10 | C14: 法兰片 | D14: DN100,PN=1.6MPa | E14: S31603 | G14: 个 | H14: 16 | K14: =IF(H14="",0,H14*I14) -> 0
B15: 11 | C15: 手自一体电动蝶阀 | D15: DN200,PN=1.0MPa,D943H | E15: S30408 | G15: 个 | H15: 1 | K15: =IF(H15="",0,H15*I15) -> 0
B16: 12 | C16: 手自一体电动蝶阀 | D16: DN150,PN=1.0MPa,D943H | E16: S30408 | G16: 个 | H16: 2 | K16: =IF(H16="",0,H16*I16) -> 0
B17: 13 | C17: 手自一体电动蝶阀 | D17: DN100,PN=1.6MPa,D943H | E17: S30408 | G17: 个 | H17: 2 | K17: =IF(H17="",0,H17*I17) -> 0
... B25: 23 | C25: 倒流防止器 | D25: DN150,PN=1.0MPa | E25: S30408 | G25: 个 | H25: 2 | K25: =IF(H25="",0,H25*I25) -> 0
B26: 24 | C26: 灭火器 | D26: MF/ABC5 | G26: 具 | H26: 2 | K26: =IF(H26="",0,H26*I26) -> 0
B27: 25 | C27: 拆除原管道 | D27: 钢管DN100 | E27: 钢制 | G27: m | H27: 50 | K27: =IF(H27="",0,H27*I27) -> 0
B28: 26 | C28: 橡胶隔振垫 | G28: 个 | H28: 16 | K28: =IF(H28="",0,H28*I28) -> 0
B29: 27 | C29: 柔性防水套管 | G29: 个 | H29: 3 | K29: =IF(H29="",0,H29*I29) -> 0
A30: 注意：本材料表所列管道及设备基础工程量为设计参考值,最终工程量需根据设备中标单位出具的二次深化设计正式成果文件进行调整。
C31: 工艺部分小计 | K31: =SUM(K4:K29) -> 0
A32: 二、标准化泵房改造
B33: 1 | C33: 标准化泵房改造 | D33: 标准化泵房内部修缮改造，内容详见设计图 | G33: m2 | H33: 55
C34: 标准化泵房改造部分小计 | K34: =SUM(K33:K33) -> 0
A35: 三、电气及自控设备
A36: 照明设备 | B36: 1 | C36: 应急照明箱(A型应急照明集中电源) ELD | D36: N-D-0.1kW-36(应急时间90min) | G36: 面 | H36: 1 | J36: 明装,底边距地1.6m | K36: =IF(H36="",0,H36*I36) -> 0
B37: 2 | C37: 应急双管LED支架灯 | D37: LED灯管 2*20W,IP65 2000lm,6000K,Ra>85,COS%%C>0.95 | G37: 套 | H37: 4 | J37: 吊装,装高3.0m 自带蓄电池,应急时间180min | K37: =IF(H37="",0,H37*I37) -> 0
B38: 3 | C38: 双联开关 | D38: 250V.10A,防溅型 | G38: 只 | H38: 1 | J38: 底边距地1.3m(暗装) | K38: =IF(H38="",0,H38*I38) -> 0
B39: 4 | C39: 二+三孔带接地安全插座 | D39: 250V.10A,防溅型 | G39: 只 | H39: 2 | J39: 暗设,底边距地1.5m | K39: =IF(H39="",0,H39*I39) -> 0
B40: 5 | C40: 照明及插座管线 | D40: 详配电系统图及照明、插座平面布置图 | G40: 项 | H40: 1 | K40: =IF(H40="",0,H40*I40) -> 0
B41: 6 | C41: 消防应急照明灯具-壁装(中型) | D41: 7W,DC36V,A型,具有应急照明、巡检、开灯、灭灯功能 | G41: 套 | H41: 5 | J41: 底边距地2.5m,IP65 | K41: =IF(H41="",0,H41*I41) -> 0
B42: 7 | C42: 消防应急标志灯具-安全出口(中型) | D42: 1W,DC36V,A型,具有巡检、常亮、频闪功能 | G42: 套 | H42: 2 | J42: 装于门上方或悬挂安装,IP65 | K42: =IF(H42="",0,H42*I42) -> 0
A43: 配电设备 | B43: 1 | C43: 泵房主控柜 ZKA | D43: 附件图纸,详见:D-EG-WJ-02、K-EG-WJ-04、05 注意：本单项报价还应包含自控图K-EG-WJ-04、05中的所有设备元件价格。 | G43: 面 | H43: 1 | J43: 柜体采用304不锈钢材质,IP55,落地安装 基础用C30素混凝土垫高300mm 素混凝土基础上采用10#槽钢架高200mm | K43: =IF(H43="",0,H43*I43) -> 0
B44: 2 | C44: 电缆及保护管 | D44: 详:电缆一览表 | G44: 项 | H44: 1 | K44: =IF(H44="",0,H44*I44) -> 0
B45: 3 | C45: 304不锈钢电缆桥架(包括盖板) | D45: 200*100,采用304不锈钢板分隔,控制电缆占宽80mm 壁厚不小于2.0mm | G45: 米 | H45: 11 | J45: 配套所有配件及托臂,均采用304不锈钢材质 | K45: =IF(H45="",0,H45*I45) -> 0
B46: 4 | C46: 304不锈钢电缆桥架(包括盖板) | D46: 100*50,采用304不锈钢板分隔,控制电缆占宽50mm 壁厚不小于2.0mm | G46: 米 | H46: 3 | J46: 配套所有配件及托臂,均采用304不锈钢材质 | K46: =IF(H46="",0,H46*I46) -> 0
B47: 5 | C47: 接地线 | D47: -40*4扁钢,304不锈钢材质 | G47: 米 | H47: 20 | K47: =IF(H47="",0,H47*I47) -> 0
...

Sheet 元一花园
A1: 元一花园 清单明细表
A2: 分部 | B2: 序号 | C2: 细项名称 | D2: 规格型号/技术要求 | E2: 材质 | F2: 制造商及品牌 | G2: 单位 | H2: 数量 | I2: 不含税单价(元) | J2: 备注 | K2: 合价(元)
A3: 一、工艺设备
B4: 1 | C4: 成套加压供水设备 （核心产品） | D4: Q=16m3/h,H=68m,单泵功率4kw, 供水设备流量:16m3/h(水泵两用一备,单泵流量8m3/h,单泵功率4KW), 设备出口压力设置为0.78MPa,设备进口市政动压力约为0.3MPa, 采用全变频无负压供水加压设备，设备应具有实时显示流量、压力功能。 | E4: S31603 | G4: 套 | H4: 1 | K4: =IF(H4="",0,H4*I4) -> 0
B5: 2 | C5: 临时供水费用 | G5: 项 | H5: 1 | K5: =IF(H5="",0,H5*I5) -> 0
B6: 2 | C6: 不锈钢管 | D6: DN100,δ=2.0mm,Pn=1.0MPa | E6: S31603 | G6: m | H6: 30 | K6: =IF(H6="",0,H6*I6) -> 0
B7: 3 | C7: 不锈钢90°弯头 | D7: DN100,δ=2.0mm,Pn=1.0MPa | E7: S31603 | G7: 个 | H7: 5 | K7: =IF(H7="",0,H7*I7) -> 0
B8: 4 | C8: 法兰片 | D8: DN100,P=1.0MPa | E8: S31603 | G8: 个 | H8: 12 | K8: =IF(H8="",0,H8*I8) -> 0
B9: 5 | C9: 手自一体电动蝶阀 | D9: DN100,P=1.0MPa,Z945X | E9: S30408 | G9: 个 | H9: 2 | K9: =IF(H9="",0,H9*I9) -> 0
B10: 6 | C10: 不锈钢波纹管 | D10: DN100,P=1.0MPa | E10: S30408 | G10: 个 | H10: 2 | K10: =IF(H10="",0,H10*I10) -> 0
B11: 7 | C11: Y型过滤器 | D11: DN100,P=1.0MPa | E11: S30408 | G11: 个 | H11: 1 | K11: =IF(H11="",0,H11*I11) -> 0
B12: 8 | C12: 倒流防止器 | D12: DN100,P=1.0MPa | E12: S30408 | G12: 个 | H12: 1 | K12: =IF(H12="",0,H12*I12) -> 0
B13: 10 | C13: 自动排气阀 | D13: DN25,P=1.0MPa | E13: S30408 | G13: 个 | H13: 1 | K13: =IF(H13="",0,H13*I13) -> 0
B14: 11 | C14: 拆除原设备基础 | D14: 1700x2300x200 | E14: 混凝土 | G14: m 3 | H14: 0.78 | K14: =IF(H14="",0,H14*I14) -> 0
B15: 12 | C15: 灭火器 | D15: MF/ABC5 | G15: 个 | H15: 1 | K15: =IF(H15="",0,H15*I15) -> 0
B16: 13 | C16: 压力表 | D16: DN15,P=1.0MPa 安装于进水 | E16: S30408 | G16: 个 | H16: 1 | K16: =IF(H16="",0,H16*I16) -> 0
B17: 14 | C17: 水锤吸纳器 | D17: DN100,P=1.0MPa | E17: S30408 | G17: 个 | H17: 1 | K17: =IF(H17="",0,H17*I17) -> 0
B18: 15 | C18: 拆除原管道 | D18: 钢管DN100 | E18: 钢制 | G18: m | H18: 20 | K18: =IF(H18="",0,H18*I18) -> 0
B19: 16 | C19: 柔性防水套管(B型) | D19: DN100 | G19: 个 | H19: 2 | K19: =IF(H19="",0,H19*I19) -> 0
A20: 注意：本材料表所列管道及设备基础工程量为设计参考值,最终工程量需根据设备中标单位出具的二次深化设计正式成果文件进行调整。
C21: 工艺部分小计 | K21: =SUM(K4:K19) -> 0
A22: 二、标准化泵房改造
B23: 1 | C23: 标准化泵房改造 | D23: 标准化泵房内部修缮改造，内容详见设计图 | G23: m2 | H23: 65 | K23: =IF(H23="",0,H23*I23) -> 0
C24: 标准化泵房改造部分小计 | K24: =SUM(K23:K23) -> 0
A25: 三、电气及自控设备
A26: 照明设备 | B26: 1 | C26: 应急照明箱(A型应急照明集中电源) ELD | D26: N-D-0.1kW-36(应急时间90min) | G26: 面 | H26: 1 | J26: 明装,底边距地1.6m | K26: =IF(H26="",0,H26*I26) -> 0
B27: 2 | C27: 应急LED泛光灯 | D27: 配36W LED灯,IP65 3600lm,6000K,Ra>85,COS%%C>0.95 | G27: 套 | H27: 6 | J27: 壁装,装高3.0m 自带蓄电池,应急时间180min | K27: =IF(H27="",0,H27*I27) -> 0
B28: 3 | C28: 三联开关 | D28: 250V.10A,防溅型 | G28: 只 | H28: 1 | J28: 底边距地1.3m(暗装) | K28: =IF(H28="",0,H28*I28) -> 0
B29: 4 | C29: 二+三孔带接地安全插座 | D29: 250V.10A,防溅型 | G29: 只 | H29: 2 | J29: 暗设,底边距地1.5m | K29: =IF(H29="",0,H29*I29) -> 0
B30: 5 | C30: 照明及插座管线 | D30: 详配电系统图及照明、插座平面布置图 | G30: 项 | H30: 1 | K30: =IF(H30="",0,H30*I30) -> 0
B31: 6 | C31: 消防应急照明灯具-壁装(大型) | D31: 7W,DC36V,A型,具有应急照明、巡检、开灯、灭灯功能 | G31: 套 | H31: 7 | J31: 底边距地2.5m,IP65 | K31: =IF(H31="",0,H31*I31) -> 0
B32: 7 | C32: 消防应急标志灯具-安全出口(大型) | D32: 1W,DC36V,A型,具有巡检、常亮、频闪功能 | G32: 套 | H32: 1 | J32: 装于门上方或悬挂安装,IP65 | K32: =IF(H32="",0,H32*I32) -> 0
B33: 8 | C33: 消防应急标志灯具-单面右向(大型) | D33: 1W,DC36V,A型,具有巡检、常亮、频闪功能 | G33: 套 | H33: 1 | J33: 底边距地0.5m,IP65 | K33: =IF(H33="",0,H33*I33) -> 0
B34: 9 | C34: 消防应急标志灯具-单面左向(大型) | D34: 1W,DC36V,A型,具有巡检、常亮、频闪功能 | G34: 套 | H34: 1 | J34: 底边距地0.5m,IP65 | K34: =IF(H34="",0,H34*I34) -> 0
A35: 配电设备 | B35: 1 | C35: 配电控制柜 DLA | D35: 附件图纸,详见:D-EG-YY-02 | G35: 面 | H35: 1 | J35: 柜体采用304不锈钢材质,IP55,落地安装 基础用C30素混凝土垫高300mm 素混凝土基础上采用10#槽钢架高200mm | K35: =IF(H35="",0,H35*I35) -> 0
B36: 2 | C36: 电缆及保护管 | D36: 详:电缆一览表 | G36: 项 | H36: 1 | K36: =IF(H36="",0,H36*I36) -> 0
B37: 3 | C37: 304不锈钢电缆桥架(包括盖板) | D37: 200*100,采用304不锈钢板分隔,控制电缆占宽80mm 壁厚不小于2.0mm | G37: 米 | H37: 22 | J37: 配套所有配件及托臂,均采用304不锈钢材质 | K37: =IF(H37="",0,H37*I37) -> 0
B38: 4 | C38: 304不锈钢电缆桥架(包括盖板) | D38: 50*25,壁厚不小于2.0mm | G38: 米 | H38: 22 | J38: 配套所有配件及托臂,均采用304不锈钢材质 | K38: =IF(H38="",0,H38*I38) -> 0
B39: 5 | C39: 总等电位联结箱 | D39: 详15D502 | G39: 面 | H39: 1 | J39: 底边距地0.3m(暗装) | K39: =IF(H39="",0,H39*I39) -> 0
B40: 6 | C40: 接地线 | D40: -40*4扁钢,304不锈钢材质 | G40: 米 | H40: 35 | K40: =IF(H40="",0,H40*I40) -> 0
...

Sheet 江滨豪园
A1: 江滨豪园 清单明细表
A2: 分部 | B2: 序号 | C2: 细项名称 | D2: 规格型号/技术要求 | E2: 材质 | F2: 制造商及品牌 | G2: 单位 | H2: 数量 | I2: 不含税单价(元) | J2: 备注 | K2: 合价(元)
A3: 一、工艺设备
B4: 1 | C4: 不锈钢管 | D4: DN200,δ=3.0mm,Pn=1.0MPa | E4: S31603 | G4: m | H4: 10 | K4: =IF(H4="",0,H4*I4) -> 0
B5: 2 | C5: 临时供水费用 | G5: 项 | H5: 1 | K5: =IF(H5="",0,H5*I5) -> 0
B6: 2 | C6: 不锈钢管 | D6: DN150,δ=2.5mm,Pn=1.0MPa | E6: S31603 | G6: m | H6: 18 | K6: =IF(H6="",0,H6*I6) -> 0
B7: 3 | C7: 法兰片 | D7: DN200,Pn=1.0MPa | E7: S31603 | G7: 个 | H7: 8 | K7: =IF(H7="",0,H7*I7) -> 0
B8: 4 | C8: 法兰片 | D8: DN100,Pn=1.6MPa | E8: S31603 | G8: 个 | H8: 12 | K8: =IF(H8="",0,H8*I8) -> 0
B9: 5 | C9: 手自一体电动蝶阀 | D9: DN200,Pn=1.0MPa,D943H | E9: S30408 | G9: 个 | H9: 3 | K9: =IF(H9="",0,H9*I9) -> 0
B10: 6 | C10: 手自一体电动蝶阀 | D10: DN150,Pn=1.0MPa,D943H | E10: S30408 | G10: 个 | H10: 1 | K10: =IF(H10="",0,H10*I10) -> 0
B11: 7 | C11: 手自一体电动蝶阀 | D11: DN150,Pn=1.6MPa,D943H | E11: S30408 | G11: 个 | H11: 1 | K11: =IF(H11="",0,H11*I11) -> 0
B12: 8 | C12: 不锈钢90°弯头 | D12: DN200,δ=2.8mm,Pn=1.0MPa | E12: S31603 | G12: 个 | H12: 3 | K12: =IF(H12="",0,H12*I12) -> 0
B13: 9 | C13: 不锈钢90°弯头 | D13: DN100,δ=2.0mm,Pn=1.0MPa | E13: S31603 | G13: 个 | H13: 2 | K13: =IF(H13="",0,H13*I13) -> 0
B14: 10 | C14: 不锈钢波纹管 | D14: DN200,Pn=1.0MPa | E14: S30408 | G14: 个 | H14: 2 | K14: =IF(H14="",0,H14*I14) -> 0
B15: 11 | C15: 不锈钢波纹管 | D15: DN100,Pn=1.0MPa | E15: S30408 | G15: 个 | H15: 1 | K15: =IF(H15="",0,H15*I15) -> 0
B16: 12 | C16: 不锈钢波纹管 | D16: DN100,Pn=1.6MPa | E16: S30408 | G16: 个 | H16: 1 | K16: =IF(H16="",0,H16*I16) -> 0
B17: 13 | C17: Y型过滤器 | D17: DN200,Pn=1.0MPa | G17: 个 | H17: 1 | K17: =IF(H17="",0,H17*I17) -> 0
B18: 15 | C18: 倒流防止器 | D18: DN200,Pn=1.0MPa | G18: 个 | H18: 2 | K18: =IF(H18="",0,H18*I18) -> 0
B19: 19 | C19: 自动排气阀 | D19: DN25 | E19: S30408 | G19: 个 | H19: 2 | K19: =IF(H19="",0,H19*I19) -> 0
B20: 20 | C20: 水锤吸纳器 | D20: DN150,Pn=1.0MPa | E20: SUS304 | G20: 个 | H20: 1 | K20: =IF(H20="",0,H20*I20) -> 0
B21: 21 | C21: 水锤吸纳器 | D21: DN150,Pn=1.6MPa | E21: SUS304 | G21: 个 | H21: 1 | K21: =IF(H21="",0,H21*I21) -> 0
B22: 22 | C22: 拆除原管道 | D22: 钢管DN200 | E22: 钢制 | G22: m | H22: 11 | K22: =IF(H22="",0,H22*I22) -> 0
B23: 23 | C23: 拆除原管道 | D23: 钢管DN100 | E23: 钢制 | G23: m | H23: 18 | K23: =IF(H23="",0,H23*I23) -> 0
B24: 24 | C24: 灭火器 | D24: MF/ABC5 | G24: 个 | H24: 1 | K24: =IF(H24="",0,H24*I24) -> 0
B25: 25 | C25: 柔性防水套管 | D25: DN150 | G25: 个 | H25: 2 | K25: =IF(H25="",0,H25*I25) -> 0
B26: 26 | C26: 柔性防水套管 | D26: DN200 | G26: 个 | H26: 1 | K26: =IF(H26="",0,H26*I26) -> 0
B27: 27 | C27: 橡胶隔振垫 | D27: 用于现状设备机组 | G27: 个 | H27: 8 | K27: =IF(H27="",0,H27*I27) -> 0
A28: 注意：本材料表所列管道及设备基础工程量为设计参考值,最终工程量需根据设备中标单位出具的二次深化设计正式成果文件进行调整。
C29: 工艺部分小计 | K29: =SUM(K4:K27) -> 0
A30: 二、标准化泵房改造
B31: 1 | C31: 标准化泵房改造 | D31: 标准化泵房内部修缮改造，内容详见设计图 | G31: m2 | H31: 70 | K31: =IF(H31="",0,H31*I31) -> 0
C32: 标准化泵房改造部分小计 | K32: =SUM(K31:K31) -> 0
A33: 三、电气及自控设备
A34: 照明设备 | B34: 1 | C34: 应急照明箱(A型应急照明集中电源) ELD | D34: N-D-0.1kW-36(应急时间90min) | G34: 面 | H34: 1 | J34: 明装,底边距地1.6m | K34: =IF(H34="",0,H34*I34) -> 0
B35: 2 | C35: 应急LED泛光灯 | D35: 配50W LED灯,IP65 5000lm,6000K,Ra>85,COS%%C>0.95 | G35: 套 | H35: 5 | J35: 壁装,装高3.0m 自带蓄电池,应急时间180min | K35: =IF(H35="",0,H35*I35) -> 0
B36: 3 | C36: 单(双)联开关 | D36: 250V.10A,防溅型 | G36: 只 | H36: 2 | J36: 底边距地1.3m(暗装) | K36: =IF(H36="",0,H36*I36) -> 0
B37: 4 | C37: 二+三孔带接地安全插座 | D37: 250V.10A,防溅型 | G37: 只 | H37: 2 | J37: 暗设,底边距地1.5m | K37: =IF(H37="",0,H37*I37) -> 0
B38: 5 | C38: 照明及插座管线 | D38: 详配电系统图及照明、插座平面布置图 | G38: 项 | H38: 1 | K38: =IF(H38="",0,H38*I38) -> 0
B39: 6 | C39: 消防应急照明灯具-壁装(中型) | D39: 7W,DC36V,A型,具有应急照明、巡检、开灯、灭灯功能 | G39: 套 | H39: 6 | J39: 底边距地2.5m,IP65 | K39: =IF(H39="",0,H39*I39) -> 0
B40: 7 | C40: 消防应急标志灯具-安全出口(中型) | D40: 1W,DC36V,A型,具有巡检、常亮、频闪功能 | G40: 套 | H40: 2 | J40: 装于门上方或悬挂安装,IP65 | K40: =IF(H40="",0,H40*I40) -> 0
...

Sheet 山水御园
A1: 山水御园 清单明细表
A2: 分部 | B2: 序号 | C2: 细项名称 | D2: 规格型号/技术要求 | E2: 材质 | F2: 制造商及品牌 | G2: 单位 | H2: 数量 | I2: 不含税单价(元) | J2: 备注 | K2: 合价(元)
A3: 一、工艺设备
B4: 1 | C4: 不锈钢管 | D4: DN300,δ=4.0mm,Pn=1.0MPa | E4: S31603 | G4: m | H4: 17 | K4: =IF(H4="",0,H4*I4) -> 0
B5: 2 | C5: 临时供水费用 | G5: 项 | H5: 1 | K5: =IF(H5="",0,H5*I5) -> 0
B6: 2 | C6: 不锈钢管 | D6: DN200,δ=3.0mm,Pn=1.0MPa | E6: S31603 | G6: m | H6: 10 | K6: =IF(H6="",0,H6*I6) -> 0
B7: 3 | C7: 不锈钢管 | D7: DN150,δ=2.5mm,Pn=1.0MPa | E7: S31603 | G7: m | H7: 32 | K7: =IF(H7="",0,H7*I7) -> 0
B8: 4 | C8: 不锈钢管 | D8: DN150,δ=2.5mm,Pn=1.6MPa | E8: S31603 | G8: m | H8: 57 | K8: =IF(H8="",0,H8*I8) -> 0
B9: 5 | C9: 不锈钢管 | D9: DN100,δ=2.0mm,Pn=1.6MPa | E9: S31603 | G9: m | H9: 15 | K9: =IF(H9="",0,H9*I9) -> 0
B10: 6 | C10: 法兰片 | D10: DN300,Pn=1.0MPa | E10: S31603 | G10: 个 | H10: 9 | K10: =IF(H10="",0,H10*I10) -> 0
B11: 7 | C11: 法兰片 | D11: DN200,Pn=1.0MPa | E11: S31603 | G11: 个 | H11: 4 | K11: =IF(H11="",0,H11*I11) -> 0
B12: 8 | C12: 法兰片 | D12: DN200,Pn=1.6MPa | E12: S31603 | G12: 个 | H12: 6 | K12: =IF(H12="",0,H12*I12) -> 0
B13: 9 | C13: 法兰片 | D13: DN150,Pn=1.0MPa | E13: S31603 | G13: 个 | H13: 4 | K13: =IF(H13="",0,H13*I13) -> 0
B14: 10 | C14: 法兰片 | D14: DN150,Pn=1.6MPa | E14: S31603 | G14: 个 | H14: 9 | K14: =IF(H14="",0,H14*I14) -> 0
B15: 11 | C15: 法兰片 | D15: DN100,Pn=1.6MPa | E15: S31603 | G15: 个 | H15: 1 | K15: =IF(H15="",0,H15*I15) -> 0
B16: 12 | C16: 手自一体电动蝶阀 | D16: DN300,Pn=1.0MPa,D943H | E16: S30408 | G16: 个 | H16: 3 | K16: =IF(H16="",0,H16*I16) -> 0
B17: 13 | C17: 手自一体电动蝶阀 | D17: DN200,Pn=1.0MPa,D943H | E17: S30408 | G17: 个 | H17: 2 | K17: =IF(H17="",0,H17*I17) -> 0
... B19: 15 | C19: 手自一体电动蝶阀 | D19: DN150,Pn=1.6MPa,D943H | E19: S30408 | G19: 个 | H19: 3 | K19: =IF(H19="",0,H19*I19) -> 0
B20: 16 | C20: 手动阀门 | D20: DN300,Pn=1.0MPa,Z45X | G20: 个 | H20: 1 | K20: =IF(H20="",0,H20*I20) -> 0
B21: 17 | C21: 手动阀门 | D21: DN200,Pn=1.0MPa,Z45X | G21: 个 | H21: 1 | K21: =IF(H21="",0,H21*I21) -> 0
B22: 18 | C22: 手动阀门 | D22: DN200,Pn=1.0MPa,Z45X | G22: 个 | H22: 3 | K22: =IF(H22="",0,H22*I22) -> 0
B23: 19 | C23: 异径管 | D23: DN300XDN200 | E23: SUS304 | G23: 个 | H23: 2 | K23: =IF(H23="",0,H23*I23) -> 0
B24: 20 | C24: 异径管 | D24: DN200XDN150 | E24: SUS304 | G24: 个 | H24: 2 | K24: =IF(H24="",0,H24*I24) -> 0
B25: 21 | C25: 正三通 | D25: DN300XDN300 | E25: SUS304 | G25: 个 | H25: 3 | K25: =IF(H25="",0,H25*I25) -> 0
B26: 22 | C26: 正三通 | D26: DN150XDN150 | E26: SUS304 | G26: 个 | H26: 1 | K26: =IF(H26="",0,H26*I26) -> 0
B27: 23 | C27: 正三通 | D27: DN150XDN100 | E27: SUS304 | G27: 个 | H27: 1 | K27: =IF(H27="",0,H27*I27) -> 0
