Workbook

Sheet 清单汇总表
A1: 二次供水设备采购安装及标准化泵房改造— 采购清单汇总表
A2: 清单说明： | B2: 1.项目概况：本次改造包括但不限于：加压设备更换（按图纸要求）、临时供水系统、泵房内部修缮、给水管道更换、减振防噪措施、安防监控系统(按图纸要求)、质保期内泵房网络通讯、智慧泵房改造及相关设备的供货、安装、调试等全流程工作，改造边界为泵房外部一米范围内(含穿墙套管)及加压泵站电子围栏，不包含白沙加压泵站、陈大高源加压泵站、黄砂加压泵站的高低压配电系统以及白沙加压泵站补氯间设备，具体工程量以图纸为准，采购清单仅作为参考。 2.清单中的价格均为材料设备不含税、含运费、含安装调试费等费用的价格。 3.各泵房价格均需对应其明细表进行报价。
A3: 序号 | B3: 泵房名称 | C3: 工艺设备 | D3: 标准化泵房改造 | E3: 电气及自控设备 | F3: 泵房合计报价
A4: 1 | B4: 百姓人家 | C4: =百姓人家!C87 -> 0 | D4: =百姓人家!D87 -> 0 | E4: =百姓人家!H87 -> 0 | F4: =C4+D4+E4 -> 0
A5: 2 | B5: 海西安置房 | C5: =海西安置房!C132 -> 0 | D5: =海西安置房!D132 -> 0 | E5: =海西安置房!H132 -> 0 | F5: =C5+D5+E5 -> 0
A6: 3 | B6: 三水小区 | C6: =三水小区!C91 -> 0 | D6: =三水小区!D91 -> 0 | E6: =三水小区!H91 -> 0 | F6: =C6+D6+E6 -> 0
A7: 4 | B7: 徐碧二村40#楼 | C7: ='徐碧二村40#楼'!C90 -> 0 | D7: ='徐碧二村40#楼'!D90 -> 0 | E7: ='徐碧二村40#楼'!H90 -> 0 | F7: =C7+D7+E7 -> 0
A8: 5 | B8: 翁墩二村经济适用房 | C8: =翁墩二村经济适用房!C90 -> 0 | D8: =翁墩二村经济适用房!D90 -> 0 | E8: =翁墩二村经济适用房!H90 -> 0 | F8: =C8+D8+E8 -> 0
A9: 6 | B9: 康城水都 | C9: =康城水都!C89 -> 0 | D9: =康城水都!D89 -> 0 | E9: =康城水都!H89 -> 0 | F9: =C9+D9+E9 -> 0
A10: 7 | B10: 双轮化机经济适用房 | C10: =双轮化机经济适用房!C95 -> 0 | D10: =双轮化机经济适用房!D95 -> 0 | E10: =双轮化机经济适用房!H95 -> 0 | F10: =C10+D10+E10 -> 0
A11: 8 | B11: 外滩一号 | C11: =外滩一号!C118 -> 0 | D11: =外滩一号!D118 -> 0 | E11: =外滩一号!H118 -> 0 | F11: =C11+D11+E11 -> 0
A12: 9 | B12: 白沙省一建经济适用房 | C12: =白沙省一建!C77 -> 0 | D12: =白沙省一建!D77 -> 0 | E12: =白沙省一建!H77 -> 0 | F12: =C12+D12+E12 -> 0
A13: 10 | B13: 三化经济适用房 | C13: =三化经济适用房!C75 -> 0 | D13: =三化经济适用房!D75 -> 0 | E13: =三化经济适用房!H75 -> 0 | F13: =C13+D13+E13 -> 0
A14: 11 | B14: 五金机电城 | C14: =五金机电城!C91 -> 0 | D14: =五金机电城!D91 -> 0 | E14: =五金机电城!H91 -> 0 | F14: =C14+D14+E14 -> 0
A15: 12 | B15: 元一花园 | C15: =元一花园!C89 -> 0 | D15: =元一花园!D89 -> 0 | E15: =元一花园!H89 -> 0 | F15: =C15+D15+E15 -> 0
A16: 13 | B16: 江滨豪园 | C16: =江滨豪园!C87 -> 0 | D16: =江滨豪园!D87 -> 0 | E16: =江滨豪园!H87 -> 0 | F16: =C16+D16+E16 -> 0
A17: 14 | B17: 山水御园 | C17: =山水御园!C118 -> 0 | D17: =山水御园!D118 -> 0 | E17: =山水御园!H118 -> 0 | F17: =C17+D17+E17 -> 0
A18: 15 | B18: 绿景花园 | C18: =绿景花园!C64 -> 0 | D18: =绿景花园!D64 -> 0 | E18: =绿景花园!H64 -> 0 | F18: =C18+D18+E18 -> 0
A19: 16 | B19: 左岸名都一期二期 | C19: =左岸名都一期二期!C139 -> 0 | D19: =左岸名都一期二期!D139 -> 0 | E19: =左岸名都一期二期!H139 -> 0 | F19: =C19+D19+E19 -> 0
A20: 17 | B20: 省安小区 | C20: =省安小区!C74 -> 0 | D20: =省安小区!D74 -> 0 | E20: =省安小区!H74 -> 0 | F20: =C20+D20+E20 -> 0
A21: 18 | B21: 华宇双城 | C21: =华宇双城!C73 -> 0 | D21: =华宇双城!D73 -> 0 | E21: =华宇双城!H73 -> 0 | F21: =C21+D21+E21 -> 0
A22: 19 | B22: 梅狮新村 | C22: =梅狮新村!C92 -> 0 | D22: =梅狮新村!D92 -> 0 | E22: =梅狮新村!H92 -> 0 | F22: =C22+D22+E22 -> 0
A23: 20 | B23: 三明医学科技职业学院 | C23: =三明医学科技职业学院!C73 -> 0 | D23: =三明医学科技职业学院!D73 -> 0 | E23: =三明医学科技职业学院!H73 -> 0 | F23: =C23+D23+E23 -> 0
A24: 21 | B24: 府中大厦 | C24: =府中大厦!C68 -> 0 | D24: =府中大厦!D68 -> 0 | E24: =府中大厦!H68 -> 0 | F24: =C24+D24+E24 -> 0
A25: 22 | B25: 阳光城68#泵房 | C25: ='阳光城68#泵房'!C64 -> 0 | D25: ='阳光城68#泵房'!D64 -> 0 | E25: ='阳光城68#泵房'!H64 -> 0 | F25: =C25+D25+E25 -> 0
A26: 23 | B26: 阳光城82#泵房 | C26: ='阳光城82#泵房'!C91 -> 0 | D26: ='阳光城82#泵房'!D91 -> 0 | E26: ='阳光城82#泵房'!H91 -> 0 | F26: =C26+D26+E26 -> 0
A27: 24 | B27: 北山新村 | C27: =北山新村!C71 -> 0 | D27: =北山新村!D71 -> 0 | E27: =北山新村!H71 -> 0 | F27: =C27+D27+E27 -> 0
A28: 25 | B28: 三纺科技大厦 | C28: =三纺科技大厦!C99 -> 0 | D28: =三纺科技大厦!D99 -> 0 | E28: =三纺科技大厦!H99 -> 0 | F28: =C28+D28+E28 -> 0
A29: 26 | B29: 三真大厦 | C29: =三真大厦!C104 -> 0 | D29: =三真大厦!D104 -> 0 | E29: =三真大厦!H104 -> 0 | F29: =C29+D29+E29 -> 0
A30: 27 | B30: 翡翠城一期、二期 | C30: =翡翠城一期、二期!C102 -> 0 | D30: =翡翠城一期、二期!D102 -> 0 | E30: =翡翠城一期、二期!H102 -> 0 | F30: =C30+D30+E30 -> 0
A31: 28 | B31: 泰禾人家 | C31: =泰禾人家!C100 -> 0 | D31: =泰禾人家!D100 -> 0 | E31: =泰禾人家!H100 -> 0 | F31: =C31+D31+E31 -> 0
A32: 29 | B32: 东方伟业 | C32: =东方伟业!C70 -> 0 | D32: =东方伟业!D70 -> 0 | E32: =东方伟业!H70 -> 0 | F32: =C32+D32+E32 -> 0
A33: 30 | B33: 永星国际 | C33: =永星国际!C100 -> 0 | D33: =永星国际!D100 -> 0 | E33: =永星国际!H100 -> 0 | F33: =C33+D33+E33 -> 0
A34: 31 | B34: 美地大道 | C34: =美地大道!C243 -> 0 | D34: =美地大道!D243 -> 0 | E34: =美地大道!H243 -> 0 | F34: =C34+D34+E34 -> 0
A35: 32 | B35: 裕丰尚品 | C35: =裕丰尚品!C122 -> 0 | D35: =裕丰尚品!D122 -> 0 | E35: =裕丰尚品!H122 -> 0 | F35: =C35+D35+E35 -> 0
A36: 33 | B36: 中央领域 | C36: =中央领域!C109 -> 0 | D36: =中央领域!D109 -> 0 | E36: =中央领域!H109 -> 0 | F36: =C36+D36+E36 -> 0
A37: 34 | B37: 时代锦园 | C37: =时代锦园!C136 -> 0 | D37: =时代锦园!D136 -> 0 | E37: =时代锦园!H136 -> 0 | F37: =C37+D37+E37 -> 0
A38: 35 | B38: 龙泽小区 | C38: =龙泽小区!C104 -> 0 | D38: =龙泽小区!D104 -> 0 | E38: =龙泽小区!H104 -> 0 | F38: =C38+D38+E38 -> 0
A39: 36 | B39: 乾龙新村 | C39: =乾龙新村!C101 -> 0 | D39: =乾龙新村!D101 -> 0 | E39: =乾龙新村!H101 -> 0 | F39: =C39+D39+E39 -> 0
A40: 37 | B40: 新城首府 | C40: =新城首府!C107 -> 0 | D40: =新城首府!D107 -> 0 | E40: =新城首府!H107 -> 0 | F40: =C40+D40+E40 -> 0
A41: 38 | B41: 时代颐园 | C41: =时代颐园!C111 -> 0 | D41: =时代颐园!D111 -> 0 | E41: =时代颐园!H111 -> 0 | F41: =C41+D41+E41 -> 0
A42: 39 | B42: 水榭新城一龙岗花园 | C42: =水榭新城一龙岗花园!C135 -> 0 | D42: =水榭新城一龙岗花园!D135 -> 0 | E42: =水榭新城一龙岗花园!H135 -> 0 | F42: =C42+D42+E42 -> 0
A43: 40 | B43: 盛景家园综合楼(水晶公寓) | C43: ='盛景家园综合楼(水晶公寓)'!C88 -> 0 | D43: ='盛景家园综合楼(水晶公寓)'!D88 -> 0 | E43: ='盛景家园综合楼(水晶公寓)'!H88 -> 0 | F43: =C43+D43+E43 -> 0
A44: 41 | B44: 滨江新城6# | C44: ='滨江新城6#'!C110 -> 0 | D44: ='滨江新城6#'!D110 -> 0 | E44: ='滨江新城6#'!H110 -> 0 | F44: =C44+D44+E44 -> 0
A45: 42 | B45: 滨江新城9# | C45: ='滨江新城9#'!C89 -> 0 | D45: ='滨江新城9#'!D89 -> 0 | E45: ='滨江新城9#'!H89 -> 0 | F45: =C45+D45+E45 -> 0
A46: 43 | B46: 滨江新城2# | C46: ='滨江新城2#'!C72 -> 0 | D46: ='滨江新城2#'!D72 -> 0 | E46: ='滨江新城2#'!H72 -> 0 | F46: =C46+D46+E46 -> 0
A47: 44 | B47: 上河城上知园1# | C47: ='上河城上知园1#'!C91 -> 0 | D47: ='上河城上知园1#'!D91 -> 0 | E47: ='上河城上知园1#'!H91 -> 0 | F47: =C47+D47+E47 -> 0
A48: 45 | B48: 上河城上知园5# | C48: ='上河城上知园5#'!C87 -> 0 | D48: ='上河城上知园5#'!D87 -> 0 | E48: ='上河城上知园5#'!H87 -> 0 | F48: =C48+D48+E48 -> 0
A49: 46 | B49: 上河城上知园9# | C49: ='上河城上知园9#'!C91 -> 0 | D49: ='上河城上知园9#'!D91 -> 0 | E49: ='上河城上知园9#'!H91 -> 0 | F49: =C49+D49+E49 -> 0
A50: 47 | B50: 上河城上德园12# | C50: ='上河城上德园12#'!C85 -> 0 | D50: ='上河城上德园12#'!D85 -> 0 | E50: ='上河城上德园12#'!H85 -> 0 | F50: =C50+D50+E50 -> 0
A51: 48 | B51: 上河城上德园13# | C51: ='上河城上德园13#'!C91 -> 0 | D51: ='上河城上德园13#'!D91 -> 0 | E51: ='上河城上德园13#'!H91 -> 0 | F51: =C51+D51+E51 -> 0
A52: 49 | B52: 上河城上德园23# | C52: ='上河城上德园23#'!C91 -> 0 | D52: ='上河城上德园23#'!D91 -> 0 | E52: ='上河城上德园23#'!H91 -> 0 | F52: =C52+D52+E52 -> 0
A53: 50 | B53: 上河城会所 | C53: =上河城会所!C94 -> 0 | D53: =上河城会所!D94 -> 0 | E53: =上河城会所!H94 -> 0 | F53: =C53+D53+E53 -> 0
A54: 51 | B54: 白沙加压泵站 | C54: =白沙加压泵站!C188 -> 0 | D54: =白沙加压泵站!D188 -> 0 | E54: =白沙加压泵站!H188 -> 0 | F54: =C54+D54+E54 -> 0
A55: 52 | B55: 陈大高源加压泵站 | C55: =陈大高源加压泵站!C180 -> 0 | D55: =陈大高源加压泵站!D180 -> 0 | E55: =陈大高源加压泵站!H180 -> 0 | F55: =C55+D55+E55 -> 0
A56: 53 | B56: 黄砂加压站 | C56: ='黄砂加压站 '!C153 -> 0 | D56: ='黄砂加压站 '!D153 -> 0 | E56: ='黄砂加压站 '!H153 -> 0 | F56: =C56+D56+E56 -> 0
A57: 54 | B57: 城关加压泵站 | C57: =城关加压泵站!C71 -> 0 | D57: =城关加压泵站!D71 -> 0 | E57: =城关加压泵站!H71 -> 0 | F57: =C57+D57+E57 -> 0
A58: 55 | B58: 南山加压站 | C58: =南山加压站!C99 -> 0 | D58: =南山加压站!D99 -> 0 | E58: =南山加压站!H99 -> 0 | F58: =C58+D58+E58 -> 0
A59: 56 | B59: 长坑加压泵站 | C59: =长坑加压泵站!C94 -> 0 | D59: =长坑加压泵站!D94 -> 0 | E59: =长坑加压泵站!H94 -> 0 | F59: =C59+D59+E59 -> 0
A60: 57 | B60: 荆东240平台加压泵站 | C60: =荆东240平台加压泵站!C110 -> 0 | D60: =荆东240平台加压泵站!D110 -> 0 | E60: =荆东240平台加压泵站!H110 -> 0 | F60: =C60+D60+E60 -> 0
A61: 58 | B61: 下洋加压泵站 | C61: ='下洋加压泵站 '!C90 -> 0 | D61: ='下洋加压泵站 '!D90 -> 0 | E61: ='下洋加压泵站 '!H90 -> 0 | F61: =C61+D61+E61 -> 0
A62: 59 | B62: 东泉加压泵站 | C62: =东泉加压泵站!C94 -> 0 | D62: =东泉加压泵站!D94 -> 0 | E62: =东泉加压泵站!H94 -> 0 | F62: =C62+D62+E62 -> 0
A63: 合计 | C63: =SUM(C4:C62) -> 0 | D63: =SUM(D4:D62) -> 0 | E63: =SUM(E4:E62) -> 0 | F63: =C63+D63+E63 -> 0

Sheet 百姓人家
A1: 百姓人家 清单明细表
A2: 分部 | B2: 序号 | C2: 细项名称 | D2: 规格型号/技术要求 | E2: 材质 | F2: 制造商及品牌 | G2: 单位 | H2: 数量 | I2: 不含税单价(元) | J2: 备注 | K2: 合价(元)
A3: 一、工艺设备
B4: 1 | C4: 成套加压供水设备 （核心产品） | D4: Q=32m3/h,H=46m,运行功率8kw。 供水设备流量:32m3/h(水泵两用一备,单泵流量16m3/h,单泵功率4.0KW), 设备出口压力设置为0.46MPa,设备进口市政动压力约为0.3MPa, 采用全变频无负压供水加压设备，设备应具有实时显示流量、压力功能。 | E4: SUS304 | G4: 套 | H4: 1 | K4: =IF(H4="",0,H4*I4) -> 0
B5: 2 | C5: 临时供水费用 | G5: 项 | H5: 1 | K5: =IF(H5="",0,H5*I5) -> 0
B6: 3 | C6: 不锈钢管 | D6: DN100,δ=4.0mm | E6: SUS304 | G6: m | H6: 12 | K6: =IF(H6="",0,H6*I6) -> 0
B7: 4 | C7: 不锈钢90°弯头 | D7: DN100,δ=4.0mm | E7: SUS304 | G7: 个 | H7: 2 | K7: =IF(H7="",0,H7*I7) -> 0
B8: 5 | C8: 法兰片 | D8: DN100,P=1.0MPa | E8: SUS304 | G8: 个 | H8: 10 | K8: =IF(H8="",0,H8*I8) -> 0
B9: 6 | C9: 电动蝶阀 | D9: DN100,P=1.0MPa,D943H | E9: 球墨铸铁 | G9: 个 | H9: 2 | K9: =IF(H9="",0,H9*I9) -> 0
B10: 7 | C10: 手动阀门 | D10: DN100,P=1.0MPa,Z45X | E10: 球墨铸铁 | G10: 个 | H10: 1 | K10: =IF(H10="",0,H10*I10) -> 0
B11: 8 | C11: 双法兰限位伸缩器 | D11: DN100,P=1.0MPa | E11: SUS304 | G11: 个 | H11: 3 | K11: =IF(H11="",0,H11*I11) -> 0
B12: 9 | C12: Y型过滤器 | D12: DN100,P=1.0MPa | E12: SUS304 | G12: 个 | H12: 1 | K12: =IF(H12="",0,H12*I12) -> 0
B13: 10 | C13: 倒流防止器 | D13: DN100,P=1.0MPa | E13: SUS304 | G13: 个 | H13: 1 | K13: =IF(H13="",0,H13*I13) -> 0
B14: 11 | C14: 自动排气阀 | D14: DN25,P=1.0MPa | E14: SUS304 | G14: 个 | H14: 1 | K14: =IF(H14="",0,H14*I14) -> 0
B15: 12 | C15: 拆除原设备基础 | D15: 1700x2300x200 | E15: 混凝土 | G15: m3 | H15: 0.78 | K15: =IF(H15="",0,H15*I15) -> 0
B16: 13 | C16: 拆除原管道 | D16: 钢管DN100 | E16: 钢制 | G16: m | H16: 12 | K16: =IF(H16="",0,H16*I16) -> 0
B17: 14 | C17: 灭火器 | D17: --第一阶段 MF/ABC5 | G17: 个 | H17: 2 | K17: =IF(H17="",0,H17*I17) -> 0
A18: 注意：本材料表所列管道及设备基础工程量为设计参考值,最终工程量需根据设备中标单位出具的二次深化设计正式成果文件进行调整。
C19: 工艺部分小计 | K19: =SUM(K4:K17) -> 0
A20: 二、标准化泵房改造
B21: 1 | C21: 标准化泵房改造 | D21: 标准化泵房内部修缮改造，内容详见设计图 | G21: m2 | H21: 80 | K21: =IF(H21="",0,H21*I21) -> 0
C23: 标准化泵房改造部分小计 | K23: =SUM(K21:K22) -> 0
A24: 三、电气及自控设备
A25: 照明设备 | B25: 1 | C25: 应急照明箱(A型应急照明集中电源) | D25: N-D-0.1kW-36(应急时间90min) | G25: 面 | H25: 1 | J25: 明装,底边距地1.6m | K25: =IF(H25="",0,H25*I25) -> 0
B26: 2 | C26: 应急双管LED支架灯 | D26: LED灯管 2*18W,IP65 1800lm,6000K,Ra>85,COS%%C>0.95 | G26: 套 | H26: 6 | J26: 吊装,装高3.0m 自带蓄电池,应急时间180min | K26: =IF(H26="",0,H26*I26) -> 0
B27: 3 | C27: 三联开关 | D27: 250V.10A,防溅型 | G27: 只 | H27: 1 | J27: 底边距地1.3m(暗装) | K27: =IF(H27="",0,H27*I27) -> 0
B28: 4 | C28: 二+三孔带接地安全插座 | D28: 250V.10A,防溅型 | G28: 只 | H28: 2 | J28: 暗设,底边距地1.5m | K28: =IF(H28="",0,H28*I28) -> 0
B29: 5 | C29: 照明及插座管线 | D29: 详配电系统图及照明、插座平面布置图 | G29: 项 | H29: 1 | K29: =IF(H29="",0,H29*I29) -> 0
B30: 6 | C30: 消防应急照明灯具-壁装(中型) | D30: 7W,DC36V,A型,具有应急照明、巡检、开灯、灭灯功能 | G30: 套 | H30: 8 | J30: 底边距地2.5m,IP65 | K30: =IF(H30="",0,H30*I30) -> 0
B31: 7 | C31: 消防应急标志灯具-安全出口(中型) | D31: 1W,DC36V,A型,具有巡检、常亮、频闪功能 | G31: 套 | H31: 1 | J31: 装于门上方或悬挂安装,IP65 | K31: =IF(H31="",0,H31*I31) -> 0
B32: 8 | C32: 消防应急标志灯具-单面右向(中型) | D32: 1W,DC36V,A型,具有巡检、常亮、频闪功能 | G32: 套 | H32: 1 | J32: 底边距地0.5m,IP65 | K32: =IF(H32="",0,H32*I32) -> 0
B33: 9 | C33: 消防应急标志灯具-单面左向(中型) | D33: 1W,DC36V,A型,具有巡检、常亮、频闪功能 | G33: 套 | H33: 1 | J33: 底边距地0.5m,IP65 | K33: =IF(H33="",0,H33*I33) -> 0
A34: 配电设备 | B34: 1 | C34: 配电控制柜（含PLC控制系统） | D34: DLA 附件图纸,详见:D-EG-BX-02、K-EG-BX-04 | G34: 面 | H34: 1 | J34: 柜体采用304不锈钢材质,IP55,落地安装基础用C30素混凝土垫高300mm素混凝土基础上采用10#槽钢架高200mm。 | K34: =IF(H34="",0,H34*I34) -> 0
B35: 2 | C35: 电缆及保护管 | D35: 详:电缆一览表 | G35: 项 | H35: 1 | K35: =IF(H35="",0,H35*I35) -> 0
B36: 3 | C36: 304不锈钢电缆桥架(包括盖板) | D36: 200*100,采用304不锈钢板分隔,控制电缆占宽80mm | G36: 米 | H36: 12 | J36: 配套所有配件及托臂,均采用304不锈钢材质 | K36: =IF(H36="",0,H36*I36) -> 0
B37: 4 | C37: 304不锈钢电缆桥架(包括盖板) | D37: 50*25 | G37: 米 | H37: 12 | J37: 配套所有配件及托臂,均采用304不锈钢材质 | K37: =IF(H37="",0,H37*I37) -> 0
B38: 5 | C38: 总等电位联结箱 | D38: 详15D502 | G38: 面 | H38: 1 | J38: 底边距地0.3m(暗装) | K38: =IF(H38="",0,H38*I38) -> 0
B39: 6 | C39: 接地线 | D39: -40*4扁钢,304不锈钢材质 | G39: 米 | H39: 30 | K39: =IF(H39="",0,H39*I39) -> 0
B40: 7 | C40: 防水防火密封堵料 | G40: 千克 | H40: 5 | K40: =IF(H40="",0,H40*I40) -> 0
A41: 设备拆除 | B41: 1 | C41: 水泵配电控制柜,700*400*1700mm | G41: 面 | H41: 1 | K41: =IF(H41="",0,H41*I41) -> 0
B42: 2 | C42: 电缆及保护管 | G42: 项 | H42: 1 | J42: 现状水泵机组相关电缆、保护管 | K42: =IF(H42="",0,H42*I42) -> 0
B43: 3 | C43: 现状照明灯具、电缆及保护管 | G43: 项 | H43: 1 | K43: =IF(H43="",0,H43*I43) -> 0
A44: 自控设备 | B44: 2 | C44: 成套中区水泵变频控制系统 | D44: 详见:D-EG-BX-02、K-EG-BX-04 厂家配套提供并安装 | G44: 项 | H44: 1 | K44: =I44 -> 0
B45: 2.1 | C45: 成套中区水泵控制柜 | D45: ZPA 内设PLC控制系统、触摸屏及其它电气元器件等, PLC应预留以太网及RS485通讯接口。 | G45: 面 | H45: 1
B46: 2.2 | C46: 网络交换机 | D46: 4个RJ45口(千兆) | G46: 台 | H46: 1
B47: 2.3 | C47: 检测仪表 | D47: 含压力变送器及其它必要的检测仪表 | G47: 项 | H47: 1
B48: 2.4 | C48: 控制柜至设备电缆 | D48: 厂家配套提供并安装 | G48: 项 | H48: 1
B49: 2.5 | C49: 现场电缆保护管 | D49: 热镀锌钢管,厂家配套提供并安装 | G49: 套 | H49: 1
B50: 3 | C50: 不间断电源柜 | D50: UPS 2kVA,2.0小时在线,UPS主机需采用铅酸免维护蓄电池 | G50: 项 | H50: 1 | J50: 柜体采用304不锈钢材质,IP55,落地安装基础用C30素混凝土垫高300mm素混凝土基础上采用10#槽钢架高200mm。 | K50: =IF(H50="",0,H50*I50) -> 0
B51: 4 | C51: 电磁流量计变送器 FIT1 | D51: 输入/输出电压:220VAC 测量口径:DN100,PN=1.0MPa 输出信号4~20mA,配置MODBUS通讯接口 变送器防护等级IP65,传感器防护等级IP68 | G51: 套 | H51: 1 | J51: 检测泵房出水瞬时流量、累积流量 配套仪表箱(400*300*500),IP55 挂墙安装,底边距地1.1m, 箱体采用304不锈钢材质 | K51: =I51 -> 0
C52: 电磁流量计传感器 FE1
B53: 6 | C53: 液位开关 LS | D53: 水位监测电极 | G53: 套 | H53: 1 | J53: 检测泵房水位 | K53: =IF(H53="",0,H53*I53) -> 0
B54: 7 | C54: 电缆及保护管 | D54: 详:电缆一览表 | G54: 项 | H54: 1 | K54: =IF(H54="",0,H54*I54) -> 0
B55: 8 | C55: 室内高清彩色网络枪机 | D55: 400万像素,带红外、柔光补光、 人形侦测、智能警戒等功能,IP65 | G55: 套 | H55: 1 | J55: 装高2.6m,配套电源等辅件。 | K55: =H55*I55 -> 0
B56: 9 | C56: 室内一体化网络高清球机 | D56: 400万像素,带红外、柔光补光、 人形侦测、智能警戒等功能,IP65 | G56: 套 | H56: 1 | J56: 装高2.6m,配套电源等辅件。 | K56: =H56*I56 -> 0
B57: 10 | C57: 液晶显示器 YJA | D57: 21寸,配15米HDMI线缆,IP55 | G57: 套 | H57: 1 | J57: 挂墙安装,顶边距地1.6m,配套支架 | K57: =H57*I57 -> 0
B58: 11 | C58: 新风系统 | G58: 项 | H58: 1 | K58: =H58*I58 -> 0
B59: 12 | C59: 质保期内网络通讯费 | G59: 项 | H59: 1 | K59: =IF(H59="",0,H59*I59) -> 0
B60: 13 | C60: 防水防火密封堵料 | G60: 千克 | H60: 5 | K60: =IF(H60="",0,H60*I60) -> 0
C61: 电气部分小计 | K61: =SUM(K25:K60) -> 0
C62: 本泵房报价合计 | K62: =K19+K23+K61 -> 0
A87: 锚点(供汇总引用) | C87: =K19 -> 0 | D87: =K23 -> 0 | H87: =K61 -> 0 | K87: =K62 -> 0
A88: 备注： | B88: 请注明报价包含/不包含范围、品牌偏好、供货周期、质保期及是否含安装调试。

Sheet 三水小区
A1: 三水小区 清单明细表
A2: 分部 | B2: 序号 | C2: 细项名称 | D2: 规格型号/技术要求 | E2: 材质 | F2: 制造商及品牌 | G2: 单位 | H2: 数量 | I2: 不含税单价(元) | J2: 备注 | K2: 合价(元)
A3: 一、工艺设备
B4: 1 | C4: 成套加压供水设备 （核心产品） | D4: Q=16m3/h,H=54m,运行功率6kw 供水设备流量:16m3/h(水泵两用一备,单泵流量8m3/h,单泵功率3KW), 设备出口压力设置为0.54MPa,设备进口市政动压力约为0.3MPa, 采用全变频无负压供水加压设备，设备应具有实时显示流量、压力功能。 | E4: SUS304 | G4: 套 | H4: 1 | K4: =IF(H4="",0,H4*I4) -> 0
B5: 2 | C5: 临时供水费用 | G5: 项 | H5: 1 | K5: =IF(H5="",0,H5*I5) -> 0
B6: 3 | C6: 不锈钢管 | D6: DN80,δ=3.0mm | E6: SUS304 | G6: m | H6: 10 | K6: =IF(H6="",0,H6*I6) -> 0
B7: 4 | C7: 不锈钢90°弯头 | D7: DN80,δ=3.0mm | E7: SUS304 | G7: 个 | H7: 5 | K7: =IF(H7="",0,H7*I7) -> 0
B8: 5 | C8: 法兰片 | D8: DN80,P=1.0MPa | E8: SUS304 | G8: 个 | H8: 13 | K8: =IF(H8="",0,H8*I8) -> 0
B9: 6 | C9: 电动蝶阀 | D9: DN80,P=1.0MPa,D943H | E9: 球墨铸铁 | G9: 个 | H9: 2 | K9: =IF(H9="",0,H9*I9) -> 0
B10: 7 | C10: 手动阀门 | D10: DN80,P=1.0MPa,Z45X | E10: 球墨铸铁 | G10: 个 | H10: 1 | K10: =IF(H10="",0,H10*I10) -> 0
B11: 8 | C11: 双法兰限位伸缩器 | D11: DN80,P=1.0MPa | E11: SUS304 | G11: 个 | H11: 2 | K11: =IF(H11="",0,H11*I11) -> 0
B12: 9 | C12: Y型过滤器 | D12: DN80,P=1.0MPa | E12: SUS304 | G12: 个 | H12: 1 | K12: =IF(H12="",0,H12*I12) -> 0
B13: 10 | C13: 倒流防止器 | D13: DN80,P=1.0MPa | E13: SUS304 | G13: 个 | H13: 1 | K13: =IF(H13="",0,H13*I13) -> 0
B14: 11 | C14: 自动排气阀 | D14: DN25,P=1.0MPa | E14: SUS304 | G14: 个 | H14: 1 | K14: =IF(H14="",0,H14*I14) -> 0
B15: 12 | C15: 轴流风机 | D15: FT35-11 No.3.15 P=237Pa Q=3125m3/h,N=0.37kw | G15: 台 | H15: 1 | K15: =IF(H15="",0,H15*I15) -> 0
B16: 13 | C16: 拆除原设备基础 | D16: 1700x2300x200 | E16: 混凝土 | G16: m 3 | H16: 0.78 | K16: =IF(H16="",0,H16*I16) -> 0
B17: 14 | C17: 拆除原管道 | D17: 钢管DN80 | E17: 钢制 | G17: m | H17: 10 | K17: =IF(H17="",0,H17*I17) -> 0
B18: 15 | C18: 灭火器 | D18: MF/ABC5 | G18: 个 | H18: 2 | K18: =IF(H18="",0,H18*I18) -> 0
A19: 注意：本材料表所列管道及设备基础工程量为设计参考值,最终工程量需根据设备中标单位出具的二次深化设计正式成果文件进行调整。
C20: 工艺部分小计 | K20: =SUM(K4:K18) -> 0
A21: 二、标准化泵房改造
B22: 1 | C22: 标准化泵房改造 | D22: 标准化泵房内部修缮改造，内容详见设计图 | G22: m2 | H22: 15 | K22: =IF(H22="",0,H22*I22) -> 0
C27: 标准化泵房改造部分小计 | K27: =SUM(K22:K26) -> 0
A28: 三、电气及自控设备
A29: 照明设备 | B29: 1 | C29: 应急照明箱(A型应急照明集中电源) | D29: ELD N-D-0.1kW-36(应急时间90min) | G29: 面 | H29: 1 | J29: 明装,底边距地1.6m | K29: =IF(H29="",0,H29*I29) -> 0
B30: 2 | C30: 应急单管LED支架灯 | D30: LED灯管 1*18W,IP65 1800lm,6000K,Ra>85,COS%%C>0.95 | G30: 套 | H30: 2 | J30: 吊装,装高3.0m 自带蓄电池,应急时间180min | K30: =IF(H30="",0,H30*I30) -> 0
B31: 3 | C31: 双联开关 | D31: 250V.10A,防溅型 | G31: 只 | H31: 1 | J31: 底边距地1.3m(暗装) | K31: =IF(H31="",0,H31*I31) -> 0
B32: 4 | C32: 二+三孔带接地安全插座 | D32: 250V.10A,防溅型 | G32: 只 | H32: 2 | J32: 暗设,底边距地1.5m | K32: =IF(H32="",0,H32*I32) -> 0
B33: 5 | C33: 照明及插座管线 | D33: 详配电系统图及照明、插座平面布置图 | G33: 项 | H33: 1 | K33: =IF(H33="",0,H33*I33) -> 0
B34: 6 | C34: 消防应急照明灯具-壁装(中型) | D34: 7W,DC36V,A型,具有应急照明、巡检、开灯、灭灯功能 | G34: 套 | H34: 1 | J34: 底边距地2.5m,IP65 | K34: =IF(H34="",0,H34*I34) -> 0
B35: 7 | C35: 消防应急照明灯具-壁装(中型) | D35: 7W,DC36V,A型,具有应急照明、巡检、开灯、灭灯功能 | G35: 套 | H35: 1 | J35: 底边距地2.5m,户外型,IP67 | K35: =IF(H35="",0,H35*I35) -> 0
B36: 8 | C36: 消防应急标志灯具-安全出口(中型) | D36: 1W,DC36V,A型,具有巡检、常亮、频闪功能 | G36: 套 | H36: 1 | J36: 装于门上方或悬挂安装,IP65 | K36: =IF(H36="",0,H36*I36) -> 0
A37: 配电设备 | B37: 1 | C37: 配电控制柜（含PLC控制系统） | D37: DLA 附件图纸,详见:D-EG-SS-02、K-EG-SS-04 | G37: 面 | H37: 1 | J37: 柜体采用304不锈钢材质,IP55,落地安装 基础用C30素混凝土垫高300mm 素混凝土基础上采用10#槽钢架高200mm。 | K37: =IF(H37="",0,H37*I37) -> 0
B38: 2 | C38: 电缆及保护管 | D38: 详:电缆一览表 | G38: 项 | H38: 1 | K38: =IF(H38="",0,H38*I38) -> 0
B39: 3 | C39: 304不锈钢电缆桥架(包括盖板) | D39: 200*100,采用304不锈钢板分隔,控制电缆占宽80mm | G39: 米 | H39: 8 | J39: 配套所有配件及托臂,均采用304不锈钢材质 | K39: =IF(H39="",0,H39*I39) -> 0
B40: 4 | C40: 304不锈钢电缆桥架(包括盖板) | D40: 50*25 | G40: 米 | H40: 8 | J40: 配套所有配件及托臂,均采用304不锈钢材质 | K40: =IF(H40="",0,H40*I40) -> 0
B41: 5 | C41: 总等电位联结箱 | D41: MEB 详15D502 | G41: 面 | H41: 1 | J41: 底边距地0.3m(暗装) | K41: =IF(H41="",0,H41*I41) -> 0
B42: 6 | C42: 接地线 | D42: -40*4扁钢,304不锈钢材质 | G42: 米 | H42: 25 | K42: =IF(H42="",0,H42*I42) -> 0
B43: 7 | C43: 防水防火密封堵料 | G43: 千克 | H43: 5 | K43: =IF(H43="",0,H43*I43) -> 0
A44: 拆除设备 | B44: 1 | C44: 生活水泵配电控制柜,600*400*1200mm | G44: 面 | H44: 1 | K44: =IF(H44="",0,H44*I44) -> 0
B45: 2 | C45: 生活水泵配电箱,400*300*500mm | G45: 面 | H45: 1 | K45: =IF(H45="",0,H45*I45) -> 0
B46: 3 | C46: 电缆及保护管 | G46: 项 | H46: 1 | J46: 现状水泵机组相关电缆、保护管 | K46: =IF(H46="",0,H46*I46) -> 0
B47: 4 | C47: 现状照明灯具、电缆及保护管 | G47: 项 | H47: 1 | K47: =IF(H47="",0,H47*I47) -> 0
A48: 自控系统 | B48: 2 | C48: 成套中区水泵变频控制系统 | D48: 详见:D-EG-SS-02、K-EG-SS-04 厂家配套提供并安装 | G48: 项 | H48: 1 | K48: =IF(H48="",0,H48*I48) -> 0
B49: 2.1 | C49: 成套中区水泵控制柜 | D49: ZPA 内设PLC控制系统、触摸屏及其它电气元器件等, PLC应预留以太网及RS485通讯接口。 | G49: 面 | H49: 1
B50: 2.2 | C50: 网络交换机 | D50: 4个RJ45口(千兆) | G50: 台 | H50: 1
B51: 2.3 | C51: 检测仪表 | D51: 含压力变送器及其它必要的检测仪表 | G51: 项 | H51: 1
B52: 2.4 | C52: 控制柜至设备电缆 | D52: 厂家配套提供并安装 | G52: 项 | H52: 1
B53: 2.5 | C53: 现场电缆保护管 | D53: 热镀锌钢管,厂家配套提供并安装 | G53: 套 | H53: 1
B54: 3 | C54: 不间断电源柜 | D54: UPS 2kVA,2.0小时在线,UPS主机需采用铅酸免维护蓄电池 | G54: 项 | H54: 1 | J54: 柜体采用304不锈钢材质,IP55,落地安装 基础用C30素混凝土垫高300mm 素混凝土基础上采用10#槽钢架高200mm。 | K54: =IF(H54="",0,H54*I54) -> 0
B55: 4 | C55: 电磁流量计变送器 FIT1 | D55: 输入/输出电压:220VAC 测量口径:DN80,PN=1.0MPa 输出信号4~20mA,配置MODBUS通讯接口 变送器防护等级IP65,传感器防护等级IP68 | G55: 套 | H55: 1 | J55: 检测泵房出水瞬时流量、累积流量 配套仪表箱(400*300*500),IP55 挂墙安装,底边距地1.1m, 箱体采用304不锈钢材质 | K55: =IF(H55="",0,H55*I55) -> 0
C56: 电磁流量计传感器 FE1
B57: 5 | C57: 液位开关 LS | D57: 水位监测电极 | G57: 套 | H57: 1 | J57: 检测泵房水位 | K57: =IF(H57="",0,H57*I57) -> 0
B58: 6 | C58: 电缆及保护管 | D58: 详:电缆一览表 | G58: 项 | H58: 1 | K58: =IF(H58="",0,H58*I58) -> 0
B59: 7 | C59: 新风系统 | G59: 项 | H59: 1 | K59: =H59*I59 -> 0
B60: 8 | C60: 室内高清彩色网络枪机 | D60: 400万像素,带红外、柔光补光、 人形侦测、智能警戒等功能,IP65 | G60: 套 | H60: 1 | J60: 装高2.6m,配套电源等辅件。 | K60: =H60*I60 -> 0
B61: 9 | C61: 室内一体化网络高清球机 | D61: 400万像素,带红外、柔光补光、 人形侦测、智能警戒等功能,IP65 | G61: 套 | H61: 1 | J61: 装高2.6m,配套电源等辅件。 | K61: =H61*I61 -> 0
B62: 10 | C62: 液晶显示器 YJA | D62: 21寸,配15米HDMI线缆,IP55 | G62: 套 | H62: 1 | J62: 挂墙安装,顶边距地1.6m,配套支架 | K62: =H62*I62 -> 0
B63: 11 | C63: 质保期内网络通讯费 | G63: 项 | H63: 1 | K63: =IF(H63="",0,H63*I63) -> 0
B64: 12 | C64: 防水防火密封堵料 | G64: 千克 | H64: 5 | K64: =IF(H64="",0,H64*I64) -> 0
C65: 电气部分小计 | K65: =SUM(K29:K64) -> 0
C66: 本泵房报价合计 | K66: =K20+K27+K65 -> 0
A91: 锚点(供汇总引用) | C91: =K20 -> 0 | D91: =K27 -> 0 | H91: =K65 -> 0 | K91: =K66 -> 0
A92: 备注： | B92: 请注明报价包含/不包含范围、品牌偏好、供货周期、质保期及是否含安装调试。

Sheet 海西安置房
A1: 海西安置房 清单明细表
A2: 分部 | B2: 序号 | C2: 细项名称 | D2: 规格型号/技术要求 | E2: 材质 | F2: 制造商及品牌 | G2: 单位 | H2: 数量 | I2: 不含税单价(元) | J2: 备注 | K2: 合价(元)
A3: 一、工艺设备
B4: 1 | C4: 成套加压供水设备 （核心产品） | D4: Q=30m3/h,H=70m,运行功率11kw, 供水设备流量:30m3/h(水泵两用一备,单泵流量15m3/h,单泵功率5.5KW), 设备出口压力设置为0.70MPa,设备进口市政动压力约为0.20MPa, 采用全变频无负压供水加压设备，设备应具有实时显示流量、压力功能。 | E4: SUS304 | G4: 套 | H4: 1 | K4: =IF(H4="",0,H4*I4) -> 0
B5: 2 | C5: 临时供水费用 | G5: 项 | H5: 1 | K5: =IF(H5="",0,H5*I5) -> 0
B6: 3 | C6: 成套加压供水设备 （核心产品） | D6: Q=36m3/h,H=70m,运行功率11kw, 供水设备流量:36m3/h(水泵两用一备,单泵流量18m3/h,单泵功率5.5KW), 设备出口压力设置为0.70MPa,设备进口市政动压力约为0.20MPa, 采用全变频无负压供水加压设备，设备应具有实时显示流量、压力功能。 | E6: SUS304 | G6: 套 | H6: 1 | K6: =IF(H6="",0,H6*I6) -> 0
B7: 4 | C7: 不锈钢管 | D7: DN100,δ=4.0mm | E7: SUS304 | G7: m | H7: 40 | K7: =IF(H7="",0,H7*I7) -> 0
B8: 5 | C8: 法兰片 | D8: DN100,P=1.0MPa | E8: SUS304 | G8: 个 | H8: 22 | K8: =IF(H8="",0,H8*I8) -> 0
B9: 6 | C9: 电动蝶阀 | D9: DN100,P=1.0MPa,D943H | E9: 球墨铸铁 | G9: 个 | H9: 4 | K9: =IF(H9="",0,H9*I9) -> 0
B10: 7 | C10: 手动阀门 | D10: DN100,P=1.0MPa,Z45X | E10: 球墨铸铁 | G10: 个 | H10: 4 | K10: =IF(H10="",0,H10*I10) -> 0
B11: 8 | C11: 不锈钢90°弯头 | D11: DN100,δ=4.0mm | E11: SUS304 | G11: 个 | H11: 6 | K11: =IF(H11="",0,H11*I11) -> 0
B12: 9 | C12: 双法兰限位伸缩器 | D12: DN100,P=1.0MPa | E12: SUS304 | G12: 个 | H12: 6 | K12: =IF(H12="",0,H12*I12) -> 0
B13: 10 | C13: Y型过滤器 | D13: DN100,P=1.0MPa | E13: SUS304 | G13: 个 | H13: 2 | K13: =IF(H13="",0,H13*I13) -> 0
B14: 11 | C14: 拆除原设备基础 | D14: 1700x2300x200 | E14: 混凝土 | G14: m 3 | H14: 0.78 | K14: =IF(H14="",0,H14*I14) -> 0
B15: 12 | C15: 拆除原管道 | D15: 钢管DN100 | E15: 钢制 | G15: m | H15: 40 | K15: =IF(H15="",0,H15*I15) -> 0
B16: 13 | C16: 灭火器 | D16: MF/ABC5 | G16: 个 | H16: 2 | K16: =IF(H16="",0,H16*I16) -> 0
A17: 注意：本材料表所列管道及设备基础工程量为设计参考值,最终工程量需根据设备中标单位出具的二次深化设计正式成果文件进行调整。
C18: 工艺部分小计 | K18: =SUM(K4:K16) -> 0
A19: 二、标准化泵房改造
B20: 1 | C20: 标准化泵房改造 | D20: 标准化泵房内部修缮改造，内容详见设计图 | G20: m2 | H20: 35 | K20: =IF(H20="",0,H20*I20) -> 0
C28: 标准化泵房改造部分小计 | K28: =SUM(K20:K27) -> 0
A29: 三、电气及自控设备
A30: 3#照明设备 | B30: 1 | C30: 应急照明箱(A型应急照明集中电源) | D30: N-D-0.1kW-36(应急时间90min) | G30: 面 | H30: 1 | J30: 明装,底边距地1.6m | K30: =IF(H30="",0,H30*I30) -> 0
B31: 2 | C31: 应急双管LED支架灯 | D31: LED灯管 2*18W,IP65 1800lm,6000K,Ra>85,COS%%C>0.95 | G31: 套 | H31: 1 | J31: 吸顶安装 自带蓄电池,应急时间180min | K31: =IF(H31="",0,H31*I31) -> 0
B32: 3 | C32: 应急单管LED支架灯 | D32: LED灯管 1*18W,IP65 1800lm,6000K,Ra>85,COS%%C>0.95 | G32: 套 | H32: 4 | J32: 壁装,装高2.8m 自带蓄电池,应急时间180min | K32: =IF(H32="",0,H32*I32) -> 0
B33: 4 | C33: 三联开关 | D33: 250V.10A,防溅型 | G33: 只 | H33: 1 | J33: 底边距地1.3m(暗装) | K33: =IF(H33="",0,H33*I33) -> 0
B34: 5 | C34: 二+三孔带接地安全插座 | D34: 250V.10A,防溅型 | G34: 只 | H34: 2 | J34: 暗设,底边距地1.5m | K34: =IF(H34="",0,H34*I34) -> 0
B35: 6 | C35: 照明及插座管线 | D35: 详配电系统图及照明、插座平面布置图 | K35: =IF(H35="",0,H35*I35) -> 0
B36: 7 | C36: 消防应急照明灯具-壁装(中型) | D36: 7W,DC36V,A型,具有应急照明、巡检、开灯、灭灯功能 | G36: 套 | H36: 1 | J36: 底边距地2.5m,IP65 | K36: =IF(H36="",0,H36*I36) -> 0
B37: 8 | C37: 消防应急照明灯具-壁装(中型) | D37: 7W,DC36V,A型,具有应急照明、巡检、开灯、灭灯功能 | G37: 套 | H37: 1 | J37: 底边距地2.5m,户外型,IP67 | K37: =IF(H37="",0,H37*I37) -> 0
B38: 9 | C38: 消防应急标志灯具-安全出口(中型) | D38: 1W,DC36V,A型,具有巡检、常亮、频闪功能 | G38: 套 | H38: 1 | J38: 装于门上方或悬挂安装,IP65 | K38: =IF(H38="",0,H38*I38) -> 0
A39: 3#配电设备 | B39: 1 | C39: 配电控制柜（含PLC控制系统） | D39: DLA 附件图纸,详见:D-EG-HX-02、K-EG-HX-04 | G39: 面 | H39: 1 | J39: 柜体采用304不锈钢材质,IP55,落地安装基础用C30素混凝土垫高300mm | K39: =IF(H39="",0,H39*I39) -> 0
B40: 2 | C40: 电缆及保护管 | D40: 详:电缆一览表 | G40: 项 | H40: 1 | K40: =IF(H40="",0,H40*I40) -> 0
B41: 3 | C41: 304不锈钢电缆桥架(包括盖板) | D41: 200*100,采用304不锈钢板分隔,控制电缆占宽80mm | G41: 米 | H41: 10 | J41: 配套所有配件及托臂,均采用304不锈钢材质 | K41: =IF(H41="",0,H41*I41) -> 0
B42: 4 | C42: 304不锈钢电缆桥架(包括盖板) | D42: 100*50 | G42: 米 | H42: 6 | J42: 配套所有配件及托臂,均采用304不锈钢材质 | K42: =IF(H42="",0,H42*I42) -> 0
B43: 5 | C43: 304不锈钢电缆桥架(包括盖板) | D43: 50*25 | G43: 米 | H43: 10 | J43: 配套所有配件及托臂,均采用304不锈钢材质 | K43: =IF(H43="",0,H43*I43) -> 0
B44: 6 | C44: 总等电位联结箱 | D44: MEB 详15D502 | G44: 面 | H44: 1 | J44: 底边距地0.3m(暗装) | K44: =IF(H44="",0,H44*I44) -> 0
B45: 7 | C45: 接地线 | D45: -40*4扁钢,304不锈钢材质 | G45: 米 | H45: 30 | K45: =IF(H45="",0,H45*I45) -> 0
B46: 8 | C46: 防水防火密封堵料 | G46: 千克 | H46: 5 | K46: =IF(H46="",0,H46*I46) -> 0
A47: 3#拆除设备 | B47: 1 | C47: 水泵配电控制柜,600*400*1600mm | G47: 面 | H47: 1 | K47: =IF(H47="",0,H47*I47) -> 0
B48: 2 | C48: 电缆及保护管 | G48: 项 | H48: 1 | J48: 现状水泵机组相关电缆、保护管 | K48: =IF(H48="",0,H48*I48) -> 0
B49: 3 | C49: 现状照明灯具、电缆及保护管 | G49: 项 | H49: 1 | K49: =IF(H49="",0,H49*I49) -> 0
A50: 3#自控设备 | B50: 2 | C50: 成套中区水泵变频控制系统 | D50: 详见:D-EG-HX-02,K-EG-HX-04 厂家配套提供并安装 | G50: 项 | H50: 1 | K50: =IF(H50="",0,H50*I50) -> 0
B51: 2.1 | C51: 成套中区水泵控制柜 | D51: ZPA 内设PLC控制系统、触摸屏及其它电气元器件等, PLC应预留以太网及RS485通讯接口。 | G51: 面 | H51: 1
B52: 2.2 | C52: 网络交换机 | D52: 4个RJ45口(千兆) | G52: 台 | H52: 1
B53: 2.3 | C53: 检测仪表 | D53: 含压力变送器及其它必要的检测仪表 | G53: 项 | H53: 1
B54: 2.4 | C54: 控制柜至设备电缆 | D54: 厂家配套提供并安装 | G54: 项 | H54: 1
B55: 2.5 | C55: 现场电缆保护管 | D55: 热镀锌钢管,厂家配套提供并安装 | G55: 套 | H55: 1
B56: 3 | C56: 不间断电源柜 | D56: UPS 2kVA,2.0小时在线,UPS主机需采用铅酸免维护蓄电池 | G56: 项 | H56: 1 | J56: 柜体采用304不锈钢材质,IP55,落地安装基础用C30素混凝土垫高300mm | K56: =IF(H56="",0,H56*I56) -> 0
B57: 4 | C57: 电磁流量计变送器 FIT1 | D57: 输入/输出电压:220VAC 测量口径:DN100,PN=1.0MPa 输出信号4~20mA,配置MODBUS通讯接口 变送器防护等级IP65,传感器防护等级IP68 | G57: 套 | H57: 1 | J57: 检测泵房出水瞬时流量、累积流量 配套仪表箱(400*300*500),IP55 挂墙安装,底边距地1.1m, 箱体采用304不锈钢材质 | K57: =IF(H57="",0,H57*I57) -> 0
C58: 电磁流量计传感器 FE1
B59: 5 | C59: 超声波液位计变送器 LIT1 | D59: 0~5m, 输出信号:4~20mA,盲区≤0.25m 变送器防护等级IP65,传感器防护等级IP68 配套提供安装附件,装于水箱顶部 | G59: 套 | H59: 1 | J59: 检测水箱液位 配套仪表箱(400*300*500),IP55 挂墙安装,底边距地1.1m, 箱体采用304不锈钢材质 | K59: =IF(H59="",0,H59*I59) -> 0
C60: 超声波液位计传感器 LE1
B61: 6 | C61: 浮球水位开关 LS1 | D61: 带接线盒,输出无源触点信号 | G61: 套 | H61: 1 | J61: 检测水箱高、低液位 | K61: =IF(H61="",0,H61*I61) -> 0
B62: 7 | C62: 液位开关 LS | D62: 水位监测电极 | G62: 套 | H62: 1 | J62: 检测泵房水位 | K62: =IF(H62="",0,H62*I62) -> 0
B63: 8 | C63: 电缆及保护管 | D63: 详:电缆一览表 | G63: 项 | H63: 1 | K63: =IF(H63="",0,H63*I63) -> 0
B64: 9 | C64: 质保期内网络通讯费 | G64: 项 | H64: 1 | K64: =IF(H64="",0,H64*I64) -> 0
B65: 10 | C65: 防水防火密封堵料 | G65: 千克 | H65: 5 | K65: =IF(H65="",0,H65*I65) -> 0
A66: 8#照明设备 | B66: 1 | C66: 应急照明箱(A型应急照明集中电源) | D66: N-D-0.1kW-36(应急时间90min) | G66: 面 | H66: 1 | J66: 明装,底边距地1.6m | K66: =IF(H66="",0,H66*I66) -> 0
B67: 2 | C67: 应急双管LED支架灯 | D67: LED灯管 2*18W,IP65 1800lm,6000K,Ra>85,COS%%C>0.95 | G67: 套 | H67: 1 | J67: 吸顶安装 自带蓄电池,应急时间180min | K67: =IF(H67="",0,H67*I67) -> 0
B68: 3 | C68: 应急单管LED支架灯 | D68: LED灯管 1*18W,IP65 1800lm,6000K,Ra>85,COS%%C>0.95 | G68: 套 | H68: 4 | J68: 壁装,装高2.8m 自带蓄电池,应急时间180min | K68: =IF(H68="",0,H68*I68) -> 0
B69: 4 | C69: 三联开关 | D69: 250V.10A,防溅型 | G69: 只 | H69: 1 | J69: 底边距地1.3m(暗装) | K69: =IF(H69="",0,H69*I69) -> 0
B70: 5 | C70: 二+三孔带接地安全插座 | D70: 250V.10A,防溅型 | G70: 只 | H70: 2 | J70: 暗设,底边距地1.5m | K70: =IF(H70="",0,H70*I70) -> 0
B71: 6 | C71: 照明及插座管线 | D71: 详配电系统图及照明、插座平面布置图 | G71: 项 | H71: 1 | K71: =IF(H71="",0,H71*I71) -> 0
B72: 7 | C72: 消防应急照明灯具-壁装(中型) | D72: 7W,DC36V,A型,具有应急照明、巡检、开灯、灭灯功能 | G72: 套 | H72: 1 | J72: 底边距地2.5m,IP65 | K72: =IF(H72="",0,H72*I72) -> 0
B73: 8 | C73: 消防应急照明灯具-壁装(中型) | D73: 7W,DC36V,A型,具有应急照明、巡检、开灯、灭灯功能 | G73: 套 | H73: 1 | J73: 底边距地2.5m,户外型,IP67 | K73: =IF(H73="",0,H73*I73) -> 0
B74: 9 | C74: 消防应急标志灯具-安全出口(中型) | D74: 1W,DC36V,A型,具有巡检、常亮、频闪功能 | G74: 套 | H74: 1 | J74: 装于门上方或悬挂安装,IP65 | K74: =IF(H74="",0,H74*I74) -> 0
A75: 8#配电设备 | B75: 1 | C75: 配电控制柜（含PLC控制系统） | D75: DLA 600*400*2000(W*D*H),详见:D-EG-HX-02,K-EG-HX-05 | G75: 面 | H75: 1 | J75: 柜体采用304不锈钢材质,IP55,落地安装基础用C30素混凝土垫高300mm素混凝土基础上采用10#槽钢架高200mm。 | K75: =IF(H75="",0,H75*I75) -> 0
B76: 2 | C76: 电缆及保护管 | D76: 详:电缆一览表 | G76: 项 | H76: 1 | K76: =IF(H76="",0,H76*I76) -> 0
B77: 3 | C77: 304不锈钢电缆桥架(包括盖板) | D77: 200*100,采用304不锈钢板分隔,控制电缆占宽80mm | G77: 米 | H77: 10 | J77: 配套所有配件及托臂,均采用304不锈钢材质 | K77: =IF(H77="",0,H77*I77) -> 0
B78: 4 | C78: 304不锈钢电缆桥架(包括盖板) | D78: 100*50 | G78: 米 | H78: 6 | J78: 配套所有配件及托臂,均采用304不锈钢材质 | K78: =IF(H78="",0,H78*I78) -> 0
B79: 5 | C79: 304不锈钢电缆桥架(包括盖板) | D79: 50*25 | G79: 米 | H79: 10 | J79: 配套所有配件及托臂,均采用304不锈钢材质 | K79: =IF(H79="",0,H79*I79) -> 0
B80: 6 | C80: 总等电位联结箱 | D80: MEB 详15D502 | G80: 面 | H80: 1 | J80: 底边距地0.3m(暗装) | K80: =IF(H80="",0,H80*I80) -> 0
B81: 7 | C81: 接地线 | D81: -40*4扁钢,304不锈钢材质 | G81: 米 | H81: 30 | K81: =IF(H81="",0,H81*I81) -> 0
B82: 8 | C82: 防水防火密封堵料 | G82: 千克 | H82: 5 | K82: =IF(H82="",0,H82*I82) -> 0
A83: 8#拆除设备 | B83: 1 | C83: 水泵配电控制柜,600*400*1600mm | G83: 面 | H83: 1 | K83: =IF(H83="",0,H83*I83) -> 0
B84: 2 | C84: 电缆及保护管 | G84: 项 | H84: 1 | J84: 现状水泵机组相关电缆、保护管 | K84: =IF(H84="",0,H84*I84) -> 0
B85: 3 | C85: 现状照明灯具、电缆及保护管 | G85: 项 | H85: 1 | K85: =IF(H85="",0,H85*I85) -> 0
A86: 8#自控设备 | B86: 2 | C86: 成套中区水泵变频控制系统 | D86: 厂家配套提供并安装 | G86: 项 | H86: 1 | K86: =IF(H86="",0,H86*I86) -> 0
B87: 2.1 | C87: 成套中区水泵控制柜 | D87: ZPA 内设PLC控制系统、触摸屏及其它电气元器件等, PLC应预留以太网及RS485通讯接口。 | G87: 面 | H87: 1
B88: 2.2 | C88: 网络交换机 | D88: 4个RJ45口(千兆) | G88: 台 | H88: 1
B89: 2.3 | C89: 检测仪表 | D89: 含压力变送器及其它必要的检测仪表 | G89: 项 | H89: 1
B90: 2.4 | C90: 控制柜至设备电缆 | D90: 厂家配套提供并安装 | G90: 项 | H90: 1
B91: 2.5 | C91: 现场电缆保护管 | D91: 热镀锌钢管,厂家配套提供并安装 | G91: 套 | H91: 1
B92: 3 | C92: 不间断电源柜 | D92: UPS 2kVA,2.0小时在线,UPS主机需采用铅酸免维护蓄电池 | G92: 项 | H92: 1 | J92: 柜体采用304不锈钢材质,IP55,落地安装基础用C30素混凝土垫高300mm素混凝土基础上采用10#槽钢架高200mm。 | K92: =IF(H92="",0,H92*I92) -> 0
B93: 4 | C93: 电磁流量计变送器 FIT1 | D93: 输入/输出电压:220VAC 测量口径:DN100,PN=1.0MPa 输出信号4~20mA,配置MODBUS通讯接口 变送器防护等级IP65,传感器防护等级IP68 | G93: 套 | H93: 1 | J93: 检测泵房出水瞬时流量、累积流量 配套仪表箱(400*300*500),IP55 挂墙安装,底边距地1.1m, 箱体采用304不锈钢材质 | K93: =IF(H93="",0,H93*I93) -> 0
C94: 电磁流量计传感器 FE1
B95: 5 | C95: 超声波液位计变送器 LIT1 | D95: 0~5m, 输出信号:4~20mA,盲区≤0.25m 变送器防护等级IP65,传感器防护等级IP68 配套提供安装附件,装于水箱顶部 | G95: 套 | H95: 1 | J95: 检测水箱液位 配套仪表箱(400*300*500),IP55 挂墙安装,底边距地1.1m, 箱体采用304不锈钢材质 | K95: =IF(H95="",0,H95*I95) -> 0
C96: 超声波液位计传感器 LE1
B97: 6 | C97: 浮球水位开关 LS1 | D97: 带接线盒,输出无源触点信号 | G97: 套 | H97: 1 | J97: 检测水箱高、低液位 | K97: =IF(H97="",0,H97*I97) -> 0
B98: 7 | C98: 液位开关 LS | D98: 水位监测电极 | G98: 套 | H98: 1 | J98: 检测泵房水位 | K98: =IF(H98="",0,H98*I98) -> 0
B99: 8 | C99: 电缆及保护管 | D99: 详:电缆一览表 | G99: 项 | H99: 1 | K99: =IF(H99="",0,H99*I99) -> 0
B100: 9 | C100: 室内高清彩色网络枪机 | D100: 400万像素,带红外、柔光补光、 人形侦测、智能警戒等功能,IP65 | G100: 套 | H100: 1 | J100: 装高2.6m,配套电源等辅件。 | K100: =H100*I100 -> 0
B101: 10 | C101: 室内一体化网络高清球机 | D101: 400万像素,带红外、柔光补光、 人形侦测、智能警戒等功能,IP65 | G101: 套 | H101: 1 | J101: 装高2.6m,配套电源等辅件。 | K101: =H101*I101 -> 0
B102: 11 | C102: 新风系统 | G102: 项 | H102: 1 | K102: =H102*I102 -> 0
B103: 12 | C103: 液晶显示器 YJA | D103: 21寸,配15米HDMI线缆,IP55 | G103: 套 | H103: 1 | J103: 挂墙安装,顶边距地1.6m,配套支架 | K103: =H103*I103 -> 0
B104: 13 | C104: 质保期内网络通讯费 | G104: 项 | H104: 1 | K104: =IF(H104="",0,H104*I104) -> 0
B105: 14 | C105: 防水防火密封堵料 | G105: 千克 | H105: 5 | K105: =IF(H105="",0,H105*I105) -> 0
C106: 电气部分小计 | K106: =SUM(K30:K105) -> 0
C107: 本泵房报价合计 | K107: =K18+K28+K106 -> 0
...

Sheet 徐碧二村40#楼
A1: 徐碧二村40#楼 清单明细表
A2: 分部 | B2: 序号 | C2: 细项名称 | D2: 规格型号/技术要求 | E2: 材质 | F2: 制造商及品牌 | G2: 单位 | H2: 数量 | I2: 不含税单价(元) | J2: 备注 | K2: 合价(元)
A3: 一、工艺设备
B4: 1 | C4: 成套加压供水设备 （核心产品） | D4: Q=6m3/h,H=70m,运行功率2.2kw 供水设备流量:14m3/h(水泵一用一备,单泵流量14m3/h), 设备出口压力设置为0.60MPa,设备进口市政动压力约为0.4MPa, 采用全变频无负压供水加压设备，设备应具有实时显示流量、压力功能。 此套供水设备及配件,压力等级均采用1.0MPa。 | G4: 套 | H4: 1 | K4: =IF(H4="",0,H4*I4) -> 0
B5: 2 | C5: 临时供水费用 | G5: 项 | H5: 1 | K5: =IF(H5="",0,H5*I5) -> 0
B6: 3 | C6: 不锈钢管 | D6: DN65,δ=3.0mm | E6: SUS304 | G6: m | H6: 18 | K6: =IF(H6="",0,H6*I6) -> 0
B7: 4 | C7: 不锈钢90°弯头 | D7: DN65,δ=3.0mm | E7: SUS304 | G7: 个 | H7: 7 | K7: =IF(H7="",0,H7*I7) -> 0
B8: 5 | C8: 法兰片 | D8: DN65,P=1.0MPa | E8: SUS304 | G8: 个 | H8: 10 | K8: =IF(H8="",0,H8*I8) -> 0
B9: 6 | C9: 手动阀门 | D9: DN65,P=1.0MPa,Z45X | G9: 个 | H9: 1 | K9: =IF(H9="",0,H9*I9) -> 0
B10: 7 | C10: 电动阀门 | D10: DN65,P=1.0MPa,D943H | G10: 个 | H10: 2 | K10: =IF(H10="",0,H10*I10) -> 0
B11: 8 | C11: 双法兰限位伸缩器 | D11: DN65,P=1.0MPa | G11: 个 | H11: 3 | K11: =IF(H11="",0,H11*I11) -> 0
B12: 9 | C12: Y型过滤器 | D12: DN65,P=1.0MPa | G12: 个 | H12: 1 | K12: =IF(H12="",0,H12*I12) -> 0
B13: 10 | C13: 倒流防止器 | D13: DN65,P=1.0MPa | G13: 个 | H13: 1 | K13: =IF(H13="",0,H13*I13) -> 0
B14: 11 | C14: 自动排气阀 | D14: DN50 | G14: 个 | H14: 1 | K14: =IF(H14="",0,H14*I14) -> 0
B15: 12 | C15: 拆除原设备基础 | D15: 1300x750x200 | E15: 混凝土 | G15: m 3 | H15: 0.2 | K15: =IF(H15="",0,H15*I15) -> 0
B16: 13 | C16: 拆除原管道 | D16: de63 | E16: UPVC | G16: m | H16: 18 | K16: =IF(H16="",0,H16*I16) -> 0
B17: 14 | C17: 灭火器 | D17: MF/ABC5 | G17: 个 | H17: 2 | K17: =IF(H17="",0,H17*I17) -> 0
A18: 注意：本材料表所列管道及设备基础工程量为设计参考值,最终工程量需根据设备中标单位出具的二次深化设计正式成果文件进行调整。
C19: 工艺部分小计 | K19: =SUM(K4:K17) -> 0
A20: 二、标准化泵房改造
B21: 1 | C21: 标准化泵房改造 | D21: 标准化泵房内部修缮改造，内容详见设计图 | G21: m2 | H21: 75 | K21: =IF(H21="",0,H21*I21) -> 0
C26: 标准化泵房改造部分小计 | K26: =SUM(K21:K25) -> 0
A27: 三、电气及自控设备
A28: 照明设备 | B28: 1 | C28: 应急照明箱(A型应急照明集中电源) | D28: N-D-0.1kW-36(应急时间90min) | G28: 面 | H28: 1 | J28: 明装,底边距地1.6m | K28: =IF(H28="",0,H28*I28) -> 0
B29: 2 | C29: 应急双管LED支架灯 | D29: LED灯管 2*22W,IP65 2200lm,6000K,Ra>85,COS%%C>0.95 | G29: 套 | H29: 5 | J29: 吊装,装高3.0m 自带蓄电池,应急时间180min | K29: =IF(H29="",0,H29*I29) -> 0
B30: 3 | C30: 双联开关 | D30: 250V.10A,防溅型 | G30: 只 | H30: 1 | J30: 底边距地1.3m(暗装) | K30: =IF(H30="",0,H30*I30) -> 0
B31: 4 | C31: 二+三孔带接地安全插座 | D31: 250V.10A,防溅型 | G31: 只 | H31: 2 | J31: 暗设,底边距地1.5m | K31: =IF(H31="",0,H31*I31) -> 0
B32: 5 | C32: 照明及插座管线 | D32: 详配电系统图及照明、插座平面布置图 | K32: =IF(H32="",0,H32*I32) -> 0
B33: 6 | C33: 消防应急照明灯具-壁装(中型) | D33: 7W,DC36V,A型,具有应急照明、巡检、开灯、灭灯功能 | G33: 套 | H33: 8 | J33: 底边距地2.5m,IP65 | K33: =IF(H33="",0,H33*I33) -> 0
B34: 7 | C34: 消防应急标志灯具-安全出口(中型) | D34: 1W,DC36V,A型,具有巡检、常亮、频闪功能 | G34: 套 | H34: 1 | J34: 装于门上方或悬挂安装,IP65 | K34: =IF(H34="",0,H34*I34) -> 0
B35: 8 | C35: 消防应急标志灯具-单面右向(中型) | D35: 1W,DC36V,A型,具有巡检、常亮、频闪功能 | G35: 套 | H35: 1 | J35: 底边距地0.5m,IP65 | K35: =IF(H35="",0,H35*I35) -> 0
B36: 9 | C36: 消防应急标志灯具-单面左向(中型) | D36: 1W,DC36V,A型,具有巡检、常亮、频闪功能 | G36: 套 | H36: 1 | J36: 底边距地0.5m,IP65 | K36: =IF(H36="",0,H36*I36) -> 0
A37: 配电设备 | B37: 1 | C37: 配电控制柜（含PLC控制系统） | D37: DLA 附件图纸,详见:D-EG-XB-02、K-EG-XB-04 | G37: 面 | H37: 1 | J37: 柜体采用304不锈钢材质,IP55,落地安装 基础用C30素混凝土垫高300mm 素混凝土基础上采用10#槽钢架高200mm。 | K37: =IF(H37="",0,H37*I37) -> 0
B38: 2 | C38: 电缆及保护管 | D38: 详:电缆一览表 | G38: 项 | H38: 1 | K38: =IF(H38="",0,H38*I38) -> 0
B39: 3 | C39: 304不锈钢电缆桥架(包括盖板) | D39: 200*100,采用304不锈钢板分隔,控制电缆占宽80mm | G39: 米 | H39: 12 | J39: 配套所有配件及托臂,均采用304不锈钢材质 | K39: =IF(H39="",0,H39*I39) -> 0
B40: 4 | C40: 304不锈钢电缆桥架(包括盖板) | D40: 50*25 | G40: 米 | H40: 12 | J40: 配套所有配件及托臂,均采用304不锈钢材质 | K40: =IF(H40="",0,H40*I40) -> 0
B41: 5 | C41: 总等电位联结箱 | D41: MEB 详15D502 | G41: 面 | H41: 1 | J41: 底边距地0.3m(暗装) | K41: =IF(H41="",0,H41*I41) -> 0
B42: 6 | C42: 接地线 | D42: -40*4扁钢,304不锈钢材质 | G42: 米 | H42: 30 | K42: =IF(H42="",0,H42*I42) -> 0
B43: 7 | C43: 防水防火密封堵料 | G43: 千克 | H43: 5 | K43: =IF(H43="",0,H43*I43) -> 0
A44: 拆除设备 | B44: 1 | C44: 水泵配电控制柜,650*370*1300mm | G44: 面 | H44: 1 | K44: =IF(H44="",0,H44*I44) -> 0
B45: 2 | C45: 电缆及保护管 | G45: 项 | H45: 1 | J45: 现状水泵机组相关电缆、保护管 | K45: =IF(H45="",0,H45*I45) -> 0
B46: 3 | C46: 现状照明灯具、电缆及保护管 | G46: 项 | H46: 1 | K46: =IF(H46="",0,H46*I46) -> 0
A47: 自控设备 | B47: 2 | C47: 成套中区水泵变频控制系统 | D47: 详见:D-EG-XB-02、K-EG-XB-04 厂家配套提供并安装 | G47: 项 | H47: 1 | K47: =IF(H47="",0,H47*I47) -> 0
B48: 2.1 | C48: 成套中区水泵控制柜 | D48: ZPA 内设PLC控制系统、触摸屏及其它电气元器件等, PLC应预留以太网及RS485通讯接口。 | G48: 面 | H48: 1
B49: 2.2 | C49: 网络交换机 | D49: 4个RJ45口(千兆) | G49: 台 | H49: 1
B50: 2.3 | C50: 检测仪表 | D50: 含压力变送器及其它必要的检测仪表 | G50: 项 | H50: 1
B51: 2.4 | C51: 控制柜至设备电缆 | D51: 厂家配套提供并安装 | G51: 项 | H51: 1
B52: 2.5 | C52: 现场电缆保护管 | D52: 热镀锌钢管,厂家配套提供并安装 | G52: 套 | H52: 1
B53: 3 | C53: 不间断电源柜 UPS | D53: 2kVA,2.0小时在线,UPS主机需采用铅酸免维护蓄电池 | G53: 项 | H53: 1 | J53: 柜体采用304不锈钢材质,IP55,落地安装基础用C30素混凝土垫高300mm 素混凝土基础上采用10#槽钢架高200mm。 | K53: =IF(H53="",0,H53*I53) -> 0
B54: 4 | C54: 电磁流量计变送器 FIT1 | D54: 输入/输出电压:220VAC 测量口径:DN65,PN=1.0MPa 输出信号4~20mA,配置MODBUS通讯接口 变送器防护等级IP65,传感器防护等级IP68 | G54: 套 | H54: 1 | J54: 检测泵房出水瞬时流量、累积流量 配套仪表箱(400*300*500),IP55 挂墙安装,底边距地1.1m, 箱体采用304不锈钢材质 | K54: =IF(H54="",0,H54*I54) -> 0
C55: 电磁流量计传感器 FE1
B56: 5 | C56: 液位开关 LS | D56: 水位监测电极 | G56: 套 | H56: 1 | J56: 检测泵房水位 | K56: =IF(H56="",0,H56*I56) -> 0
B57: 6 | C57: 电缆及保护管 | D57: 详:电缆一览表 | G57: 项 | H57: 1 | K57: =IF(H57="",0,H57*I57) -> 0
B58: 7 | C58: 室内高清彩色网络枪机 | D58: 400万像素,带红外、柔光补光、 人形侦测、智能警戒等功能,IP65 | G58: 套 | H58: 1 | J58: 装高2.6m,配套电源等辅件。 | K58: =H58*I58 -> 0
B59: 8 | C59: 新风系统 | G59: 项 | H59: 1 | K59: =H59*I59 -> 0
B60: 9 | C60: 室内一体化网络高清球机 | D60: 400万像素,带红外、柔光补光、 人形侦测、智能警戒等功能,IP65 | G60: 套 | H60: 1 | J60: 装高2.6m,配套电源等辅件。 | K60: =H60*I60 -> 0
B61: 10 | C61: 液晶显示器 YJA | D61: 21寸,配15米HDMI线缆,IP55 | G61: 套 | H61: 1 | J61: 挂墙安装,顶边距地1.6m,配套支架 | K61: =H61*I61 -> 0
B62: 11 | C62: 质保期内网络通讯费 | G62: 项 | H62: 1 | K62: =IF(H62="",0,H62*I62) -> 0
B63: 12 | C63: 防水防火密封堵料 | G63: 千克 | H63: 5 | K63: =IF(H63="",0,H63*I63) -> 0
C64: 电气部分小计 | K64: =SUM(K28:K63) -> 0
C65: 本泵房报价合计 | K65: =K19+K26+K64 -> 0
A90: 锚点(供汇总引用) | C90: =K19 -> 0 | D90: =K26 -> 0 | H90: =K64 -> 0 | K90: =K65 -> 0
A91: 备注： | B91: 请注明报价包含/不包含范围、品牌偏好、供货周期、质保期及是否含安装调试。

Sheet 翁墩二村经济适用房
A1: 翁墩二村经济适用房 清单明细表
A2: 分部 | B2: 序号 | C2: 细项名称 | D2: 规格型号/技术要求 | E2: 材质 | F2: 制造商及品牌 | G2: 单位 | H2: 数量 | I2: 不含税单价(元) | J2: 备注 | K2: 合价(元)
A3: 一、工艺设备
B4: 1 | C4: 成套加压供水设备 （核心产品） | D4: Q=14m3/h,H=60m,运行功率2.2kw 供水设备流量:14m3/h(水泵一用一备,单泵流量14m|/h), 设备出口压力设置为0.60MPa,设备进口市政动压力约为0.4MPa, 采用全变频无负压供水加压设备，设备应具有实时显示流量、压力功能。 此套供水设备及配件,压力等级均采用1.0MPa。 | G4: 套 | H4: 1 | K4: =IF(H4="",0,H4*I4) -> 0
B5: 2 | C5: 临时供水费用 | G5: 项 | H5: 1 | K5: =IF(H5="",0,H5*I5) -> 0
B6: 3 | C6: 不锈钢管 | D6: DN80,δ=3.0mm | E6: SUS304 | G6: m | H6: 24 | K6: =IF(H6="",0,H6*I6) -> 0
B7: 4 | C7: 不锈钢90°弯头 | D7: DN80,δ=3.0mm | E7: SUS304 | G7: 个 | H7: 7 | K7: =IF(H7="",0,H7*I7) -> 0
B8: 5 | C8: 法兰片 | D8: DN80,P=1.0MPa | E8: SUS304 | G8: 个 | H8: 10 | K8: =IF(H8="",0,H8*I8) -> 0
B9: 6 | C9: 手动阀门 | D9: DN80,P=1.0MPa,Z45X | G9: 个 | H9: 1 | K9: =IF(H9="",0,H9*I9) -> 0
B10: 7 | C10: 电动阀门 | D10: DN80,P=1.0MPa,D943H | G10: 个 | H10: 2 | K10: =IF(H10="",0,H10*I10) -> 0
B11: 8 | C11: 双法兰限位伸缩器 | D11: DN80,P=1.0MPa | G11: 个 | H11: 3 | K11: =IF(H11="",0,H11*I11) -> 0
B12: 9 | C12: Y型过滤器 | D12: DN80,P=1.0MPa | G12: 个 | H12: 1 | K12: =IF(H12="",0,H12*I12) -> 0
B13: 10 | C13: 倒流防止器 | D13: DN80,P=1.0MPa | G13: 个 | H13: 1 | K13: =IF(H13="",0,H13*I13) -> 0
B14: 11 | C14: 自动排气阀 | D14: DN50 | G14: 个 | H14: 1 | K14: =IF(H14="",0,H14*I14) -> 0
B15: 12 | C15: 拆除原管道 | D15: de90 | E15: UPVC | G15: m | H15: 24 | K15: =IF(H15="",0,H15*I15) -> 0
B16: 13 | C16: 灭火器 | D16: MF/ABC5 | G16: 个 | H16: 2 | K16: =IF(H16="",0,H16*I16) -> 0
A17: 注意：本材料表所列管道及设备基础工程量为设计参考值,最终工程量需根据设备中标单位出具的二次深化设计正式成果文件进行调整。
C18: 工艺部分小计 | K18: =SUM(K4:K16) -> 0
A19: 二、标准化泵房改造
B20: 1 | C20: 标准化泵房改造 | D20: 标准化泵房内部修缮改造，内容详见设计图 | G20: m2 | H20: 35 | K20: =IF(H20="",0,H20*I20) -> 0
C25: 标准化泵房改造部分小计 | K25: =SUM(K20:K24) -> 0
A26: 三、电气及自控设备
A27: 照明设备 | B27: 1 | C27: 应急照明箱(A型应急照明集中电源) | D27: N-D-0.1kW-36(应急时间90min) | G27: 面 | H27: 1 | J27: 明装,底边距地1.6m | K27: =IF(H27="",0,H27*I27) -> 0
B28: 2 | C28: 应急LED泛光灯 | D28: 配36WLED灯,IP65 3600lm,6000K,Ra>85,COS%%C>0.95 | G28: 套 | H28: 3 | J28: 壁装,装高3.0m 自带蓄电池,应急时间180min | K28: =IF(H28="",0,H28*I28) -> 0
B29: 3 | C29: 壁装灯 | D29: 配18WLED灯,IP65 1800lm,6000K,Ra>85,COS%%C>0.95 | G29: 套 | H29: 2 | J29: 壁装,装高2.8m | K29: =IF(H29="",0,H29*I29) -> 0
B30: 4 | C30: 双(三)联开关 | D30: 250V.10A,防溅型 | G30: 只 | H30: 2 | J30: 底边距地1.3m(暗装) | K30: =IF(H30="",0,H30*I30) -> 0
B31: 5 | C31: 二+三孔带接地安全插座 | D31: 250V.10A,防溅型 | G31: 只 | H31: 2 | J31: 暗设,底边距地1.5m | K31: =IF(H31="",0,H31*I31) -> 0
B32: 6 | C32: 照明及插座管线 | D32: 详配电系统图及照明、插座平面布置图 | G32: 项 | H32: 1 | K32: =IF(H32="",0,H32*I32) -> 0
B33: 7 | C33: 消防应急照明灯具-壁装(中型) | D33: 7W,DC36V,A型,具有应急照明、巡检、开灯、灭灯功能 | G33: 套 | H33: 6 | J33: 底边距地2.5m,IP65 | K33: =IF(H33="",0,H33*I33) -> 0
B34: 8 | C34: 消防应急标志灯具-安全出口(中型) | D34: 1W,DC36V,A型,具有巡检、常亮、频闪功能 | G34: 套 | H34: 1 | J34: 装于门上方或悬挂安装,IP65 | K34: =IF(H34="",0,H34*I34) -> 0
B35: 9 | C35: 消防应急标志灯具-单面右向(中型) | D35: 1W,DC36V,A型,具有巡检、常亮、频闪功能 | G35: 套 | H35: 1 | J35: 底边距地0.5m,IP65 | K35: =IF(H35="",0,H35*I35) -> 0
B36: 10 | C36: 消防应急标志灯具-单面左向(中型) | D36: 1W,DC36V,A型,具有巡检、常亮、频闪功能 | G36: 套 | H36: 2 | J36: 底边距地0.5m,IP65 | K36: =IF(H36="",0,H36*I36) -> 0
A37: 配电设备 | B37: 1 | C37: 配电控制柜（含PLC控制系统） | D37: DLA 附件图纸,详见:D-EG-WD-02、K-EG-WD-04 | G37: 面 | H37: 1 | J37: 柜体采用304不锈钢材质,IP55,落地安装 基础用C30素混凝土垫高300mm 素混凝土基础上采用10#槽钢架高200mm | K37: =IF(H37="",0,H37*I37) -> 0
B38: 2 | C38: 电缆及保护管 | D38: 详:电缆一览表 | G38: 项 | H38: 1 | K38: =IF(H38="",0,H38*I38) -> 0
B39: 3 | C39: 304不锈钢电缆桥架(包括盖板) | D39: 200*100,采用304不锈钢板分隔,控制电缆占宽80mm | G39: 米 | H39: 12 | J39: 配套所有配件及托臂,均采用304不锈钢材质 | K39: =IF(H39="",0,H39*I39) -> 0
B40: 4 | C40: 304不锈钢电缆桥架(包括盖板) | D40: 50*25 | G40: 米 | H40: 12 | J40: 配套所有配件及托臂,均采用304不锈钢材质 | K40: =IF(H40="",0,H40*I40) -> 0
B41: 5 | C41: 总等电位联结箱 | D41: MEB 详15D502 | G41: 面 | H41: 1 | J41: 底边距地0.3m(暗装) | K41: =IF(H41="",0,H41*I41) -> 0
B42: 6 | C42: 接地线 | D42: -40*4扁钢,304不锈钢材质 | G42: 米 | H42: 30 | K42: =IF(H42="",0,H42*I42) -> 0
B43: 7 | C43: 防水防火密封堵料 | G43: 千克 | H43: 5 | K43: =IF(H43="",0,H43*I43) -> 0
A44: 拆除设备 | B44: 1 | C44: 水泵配电控制柜,600*380*1200mm | G44: 面 | H44: 1 | K44: =IF(H44="",0,H44*I44) -> 0
B45: 2 | C45: 电缆及保护管 | G45: 项 | H45: 1 | J45: 现状水泵机组相关电缆、保护管 | K45: =IF(H45="",0,H45*I45) -> 0
B46: 3 | C46: 现状照明灯具、电缆及保护管 | G46: 项 | H46: 1 | K46: =IF(H46="",0,H46*I46) -> 0
A47: 自控设备 | B47: 2 | C47: 成套中区水泵变频控制系统 | D47: 详见:D-EG-WD-02、K-EG-WD-04 厂家配套提供并安装 | G47: 项 | H47: 1 | K47: =IF(H47="",0,H47*I47) -> 0
B48: 2.1 | C48: 成套中区水泵控制柜 ZPA | D48: 内设PLC控制系统、触摸屏及其它电气元器件等, PLC应预留以太网及RS485通讯接口。 | G48: 面 | H48: 1
B49: 2.2 | C49: 网络交换机 | D49: 4个RJ45口(千兆) | G49: 台 | H49: 1
B50: 2.3 | C50: 检测仪表 | D50: 含压力变送器及其它必要的检测仪表 | G50: 项 | H50: 1
B51: 2.4 | C51: 控制柜至设备电缆 | D51: 厂家配套提供并安装 | G51: 项 | H51: 1
B52: 2.5 | C52: 现场电缆保护管 | D52: 热镀锌钢管,厂家配套提供并安装 | G52: 套 | H52: 1
B53: 3 | C53: 不间断电源柜 UPS | D53: 2kVA,2.0小时在线,UPS主机需采用铅酸免维护蓄电池 | G53: 项 | H53: 1 | J53: 柜体采用304不锈钢材质,IP55,落地安装 基础用C30素混凝土垫高300mm 素混凝土基础上采用10#槽钢架高200mm | K53: =IF(H53="",0,H53*I53) -> 0
B54: 4 | C54: 电磁流量计变送器 FIT1 | D54: 输入/输出电压:220VAC 测量口径:DN80,PN=1.0MPa 输出信号4~20mA,配置MODBUS通讯接口 变送器防护等级IP65,传感器防护等级IP68 | G54: 套 | H54: 1 | J54: 检测泵房进水瞬时流量、累积流量 配套仪表箱(400*300*500),IP55 挂墙安装,底边距地1.1m, 箱体采用304不锈钢材质 | K54: =IF(H54="",0,H54*I54) -> 0
C55: 电磁流量计传感器 FE1
B56: 5 | C56: 液位开关 LS | D56: 水位监测电极 | G56: 套 | H56: 1 | J56: 检测泵房水位 | K56: =IF(H56="",0,H56*I56) -> 0
B57: 6 | C57: 新风系统 | G57: 项 | H57: 1 | K57: =H57*I57 -> 0
B58: 7 | C58: 电缆及保护管 | D58: 详:电缆一览表 | G58: 项 | H58: 1 | K58: =IF(H58="",0,H58*I58) -> 0
B59: 8 | C59: 室内高清彩色网络枪机 | D59: 400万像素,带红外、柔光补光、 人形侦测、智能警戒等功能,IP65 | G59: 套 | H59: 1 | J59: 装高2.6m,配套电源等辅件。 | K59: =H59*I59 -> 0
B60: 9 | C60: 室内一体化网络高清球机 | D60: 400万像素,带红外、柔光补光、 人形侦测、智能警戒等功能,IP65 | G60: 套 | H60: 1 | J60: 装高2.6m,配套电源等辅件。 | K60: =H60*I60 -> 0
B61: 10 | C61: 液晶显示器 YJA | D61: 21寸,配15米HDMI线缆,IP55 | G61: 套 | H61: 1 | J61: 挂墙安装,顶边距地1.6m,配套支架 | K61: =H61*I61 -> 0
B62: 11 | C62: 质保期内网络通讯费 | G62: 项 | H62: 1 | K62: =IF(H62="",0,H62*I62) -> 0
B63: 11 | C63: 防水防火密封堵料 | G63: 千克 | H63: 5 | K63: =IF(H63="",0,H63*I63) -> 0
C64: 电气部分小计 | K64: =SUM(K27:K63) -> 0
C65: 本泵房报价合计 | K65: =K18+K25+K64 -> 0
A90: 锚点(供汇总引用) | C90: =K18 -> 0 | D90: =K25 -> 0 | H90: =K64 -> 0 | K90: =K65 -> 0
A91: 备注： | B91: 请注明报价包含/不包含范围、品牌偏好、供货周期、质保期及是否含安装调试。

Sheet 康城水都
A1: 康城水都 清单明细表
A2: 分部 | B2: 序号 | C2: 细项名称 | D2: 规格型号/技术要求 | E2: 材质 | F2: 制造商及品牌 | G2: 单位 | H2: 数量 | I2: 不含税单价(元) | J2: 备注 | K2: 合价(元)
A3: 一、工艺设备
B4: 1 | C4: 不锈钢管 | D4: DN200,δ=3.0mm, PN=1.0MPa | E4: S31603 | G4: m | H4: 9 | K4: =IF(H4="",0,H4*I4) -> 0
B5: 2 | C5: 临时供水费用 | G5: 项 | H5: 1 | K5: =IF(H5="",0,H5*I5) -> 0
B6: 3 | C6: 不锈钢管 | D6: DN150,δ=2.5mm, PN=1.6MPa | E6: S31603 | G6: m | H6: 6 | K6: =IF(H6="",0,H6*I6) -> 0
B7: 4 | C7: 不锈钢管 | D7: DN100,δ=2.0mm, PN=1.6MPa | E7: S31603 | G7: m | H7: 18 | K7: =IF(H7="",0,H7*I7) -> 0
B8: 5 | C8: 正三通 | D8: DN200XDN150 , PN=1.6MPa | E8: S31603 | G8: 个 | H8: 1 | K8: =IF(H8="",0,H8*I8) -> 0
B9: 6 | C9: 不锈钢90°弯头 | D9: DN200,δ=2.8mm PN=1.0MPa | E9: S31603 | G9: 个 | H9: 4 | K9: =IF(H9="",0,H9*I9) -> 0
B10: 7 | C10: 不锈钢90°弯头 | D10: DN150,δ=2.8mm PN=1.6MPa | E10: S31603 | G10: 个 | H10: 2 | K10: =IF(H10="",0,H10*I10) -> 0
B11: 8 | C11: 不锈钢90°弯头 | D11: DN100,δ=2.0mm PN=1.6MPa | E11: S31603 | G11: 个 | H11: 6 | K11: =IF(H11="",0,H11*I11) -> 0
B12: 9 | C12: 法兰片 | D12: DN200,PN=1.0MPa | E12: S31603 | G12: 个 | H12: 6 | K12: =IF(H12="",0,H12*I12) -> 0
B13: 10 | C13: 法兰片 | D13: DN150,PN=1.0MPa | E13: S31603 | G13: 个 | H13: 6 | K13: =IF(H13="",0,H13*I13) -> 0
B14: 11 | C14: 法兰片 | D14: DN100,PN=1.6MPa | E14: S31603 | G14: 个 | H14: 16 | K14: =IF(H14="",0,H14*I14) -> 0
B15: 12 | C15: Y型过滤器 | D15: DN200,PN=1.0MPa | E15: S30408 | G15: 个 | H15: 1 | K15: =IF(H15="",0,H15*I15) -> 0
B16: 13 | C16: 水锤吸纳器 | D16: DN100,PN=1.6MPa | E16: S30408 | G16: 个 | H16: 2 | K16: =IF(H16="",0,H16*I16) -> 0
B17: 14 | C17: 手自一体电动蝶阀 | D17: DN100,PN=1.6MPa,D943H | E17: S30408 | G17: 个 | H17: 2 | K17: =IF(H17="",0,H17*I17) -> 0
... B22: 19 | C22: 倒流防止器 | D22: DN150,P=1.0MPa | E22: S30408 | G22: 个 | H22: 2 | K22: =IF(H22="",0,H22*I22) -> 0
B23: 20 | C23: 灭火器 | D23: --第一阶段 MF/ABC5 | G23: 具 | H23: 2 | K23: =IF(H23="",0,H23*I23) -> 0
B24: 21 | C24: 拆除原管道 | D24: 钢管DN100 | E24: 钢制 | G24: m | H24: 45 | K24: =IF(H24="",0,H24*I24) -> 0
B25: 22 | C25: 橡胶隔振垫 | G25: 个 | H25: 8 | K25: =IF(H25="",0,H25*I25) -> 0
B26: 23 | C26: 柔性防水套管 | G26: 个 | H26: 3 | K26: =IF(H26="",0,H26*I26) -> 0
A27: 注意：本材料表所列管道及设备基础工程量为设计参考值,最终工程量需根据设备中标单位出具的二次深化设计正式成果文件进行调整。
C28: 工艺部分小计 | K28: =SUM(K4:K26) -> 0
A29: 二、标准化泵房改造
B30: 1 | C30: 标准化泵房改造 | D30: 标准化泵房内部修缮改造，内容详见设计图 | G30: m2 | H30: 65 | K30: =IF(H30="",0,H30*I30) -> 0
C31: 标准化泵房改造部分小计 | K31: =SUM(K30:K30) -> 0
A32: 三、电气及自控设备
A33: 照明设备 | B33: 1 | C33: 应急照明箱(A型应急照明集中电源) ELD | D33: N-D-0.1kW-36(应急时间90min) | G33: 面 | H33: 1 | J33: 明装,底边距地1.6m | K33: =IF(H33="",0,H33*I33) -> 0
B34: 2 | C34: 应急LED泛光灯 | D34: 配60W LED灯,IP65 5500lm,6000K,Ra>85,COS%%C>0.95 | G34: 套 | H34: 4 | J34: 壁装,装高2.4m 自带蓄电池,应急时间180min | K34: =IF(H34="",0,H34*I34) -> 0
B35: 3 | C35: 双联开关 | D35: 250V.10A,防溅型 | G35: 只 | H35: 1 | J35: 底边距地1.3m(暗装) | K35: =IF(H35="",0,H35*I35) -> 0
B36: 4 | C36: 二+三孔带接地安全插座 | D36: 250V.10A,防溅型 | G36: 只 | H36: 2 | J36: 暗设,底边距地1.5m | K36: =IF(H36="",0,H36*I36) -> 0
B37: 5 | C37: 照明及插座管线 | D37: 详配电系统图及照明、插座平面布置图 | G37: 项 | H37: 1 | K37: =IF(H37="",0,H37*I37) -> 0
B38: 6 | C38: 消防应急照明灯具-壁装(中型) | D38: 7W,DC36V,A型,具有应急照明、巡检、开灯、灭灯功能 | G38: 套 | H38: 6 | J38: 底边距地2.2m,IP65 | K38: =IF(H38="",0,H38*I38) -> 0
B39: 7 | C39: 消防应急标志灯具-安全出口(中型) | D39: 1W,DC36V,A型,具有巡检、常亮、频闪功能 | G39: 套 | H39: 2 | J39: 装于门上方或悬挂安装,IP65 | K39: =IF(H39="",0,H39*I39) -> 0
B40: 8 | C40: 消防应急标志灯具-单面右向(中型) | D40: 1W,DC36V,A型,具有巡检、常亮、频闪功能 | G40: 套 | H40: 1 | J40: 底边距地0.5m,IP65 | K40: =IF(H40="",0,H40*I40) -> 0
B41: 9 | C41: 消防应急标志灯具-单面左向(中型) | D41: 1W,DC36V,A型,具有巡检、常亮、频闪功能 | G41: 套 | H41: 2 | J41: 底边距地0.5m,IP65 | K41: =IF(H41="",0,H41*I41) -> 0
A42: 配电设备 | B42: 1 | C42: 泵房主控柜 ZKA | D42: 附件图纸,详见:D-EG-KC-02、K-EG-KC-04、05 注意：本单项报价还应包含自控图K-EG-KC-04、05中的所有设备元件价格。 | G42: 面 | H42: 1 | J42: 柜体采用304不锈钢材质,IP55,落地安装 基础用C30素混凝土垫高300mm 素混凝土基础上采用10#槽钢架高200mm | K42: =IF(H42="",0,H42*I42) -> 0
B43: 2 | C43: 电缆及保护管 | D43: 详:电缆一览表 | G43: 项 | H43: 1 | K43: =IF(H43="",0,H43*I43) -> 0
B44: 3 | C44: 304不锈钢电缆桥架(包括盖板) | D44: 200*100,采用304不锈钢板分隔,控制电缆占宽80mm 壁厚不小于2.0mm | G44: 米 | H44: 15 | J44: 配套所有配件及托臂,均采用304不锈钢材质 | K44: =IF(H44="",0,H44*I44) -> 0
B45: 4 | C45: 接地线 | D45: -40*4扁钢,304不锈钢材质 | G45: 米 | H45: 20 | K45: =IF(H45="",0,H45*I45) -> 0
B46: 5 | C46: 防水防火密封堵料 | G46: 千克 | H46: 3 | K46: =IF(H46="",0,H46*I46) -> 0
A47: 拆除设备 | B47: 1 | C47: 现状照明灯具、电缆及保护管 | G47: 项 | H47: 1 | K47: =IF(H47="",0,H47*I47) -> 0
A48: 自控设备 | B48: 1 | C48: 泵房主控柜 ZKA | G48: 面 | H48: 1 | I48: 此单项不计价，计入配电设备中
B49: 2 | C49: 电磁流量计变送器 FIT1 | D49: 详见:D-EG-KC-02、K-EG-KC-04、05 测量口径:DN200,PN=1.0MPa,电源:~220VAC 测量范围:0~80m3/h,配置MODBUS通讯接口 测量精度不低于0.5级 变送器防护等级IP65,传感器防护等级IP68 | G49: 套 | H49: 1 | J49: 检测泵房进水总管瞬时流量、累积流量 配套仪表箱(400*300*500),IP55 挂墙安装,底边距地1.1m, 箱体采用304不锈钢材质 | K49: =IF(H49="",0,H49*I49) -> 0
C50: 电磁流量计传感器 FE1
B51: 3 | C51: 电磁流量计变送器 FIT11 | D51: 测量口径:DN100,PN=1.6MPa,电源:~220VAC 测量范围:0~50m3/h,配置MODBUS通讯接口 测量精度不低于0.5级 变送器防护等级IP65,传感器防护等级IP68 | G51: 套 | H51: 1 | J51: 检测中区设备出水瞬时流量、累积流量 配套仪表箱(400*300*500),IP55 挂墙安装,底边距地1.1m, 箱体采用304不锈钢材质 | K51: =IF(H51="",0,H51*I51) -> 0
C52: 电磁流量计传感器 FE11
B53: 4 | C53: 电磁流量计变送器 FIT21 | D53: 测量口径:DN100,PN=1.6MPa,电源:~220VAC 测量范围:0~50m3/h,配置MODBUS通讯接口 测量精度不低于0.5级 变送器防护等级IP65,传感器防护等级IP68 | G53: 套 | H53: 1 | J53: 检测高区设备出水瞬时流量、累积流量 配套仪表箱(400*300*500),IP55 挂墙安装,底边距地1.1m, 箱体采用304不锈钢材质 | K53: =IF(H53="",0,H53*I53) -> 0
C54: 电磁流量计传感器 FE21
B55: 5 | C55: 一体式超声波液位计 LIT | D55: 0~2m,IP65,输出信号:4~20mA | G55: 套 | H55: 1 | J55: 检测泵房液位 | K55: =IF(H55="",0,H55*I55) -> 0
B56: 6 | C56: 室内高清彩色网络枪机 | D56: 400万像素,带红外、柔光补光、 人形侦测、智能警戒等功能,IP65 | G56: 套 | H56: 1 | J56: 装高2.2m,配套电源等辅件。 | K56: =IF(H56="",0,H56*I56) -> 0
B57: 7 | C57: 室内一体化网络高清球机 | D57: 400万像素,带红外、柔光补光、 人形侦测、智能警戒等功能,IP65 | G57: 套 | H57: 1 | J57: 装高3.0m,配套电源等辅件。 | K57: =IF(H57="",0,H57*I57) -> 0
B58: 8 | C58: 新风系统 | G58: 项 | H58: 1 | K58: =H58*I58 -> 0
B59: 9 | C59: 液晶显示器 YJA | D59: 21寸,配15米HDMI线缆,IP55 | G59: 套 | H59: 1 | J59: 挂墙安装,顶边距地1.6m,配套支架 | K59: =IF(H59="",0,H59*I59) -> 0
B60: 10 | C60: 电缆及保护管 | D60: 详:电缆一览表 | G60: 项 | H60: 1 | K60: =IF(H60="",0,H60*I60) -> 0
B61: 11 | C61: 质保期内网络通讯费 | G61: 项 | H61: 1 | K61: =IF(H61="",0,H61*I61) -> 0
B62: 12 | C62: 防水防火密封堵料 | G62: 千克 | H62: 3 | K62: =IF(H62="",0,H62*I62) -> 0
C63: 电气部分小计 | K63: =SUM(K33:K62) -> 0
C64: 本泵房报价合计 | K64: =K28+K31+K63 -> 0
A89: 锚点(供汇总引用) | C89: =K28 -> 0 | D89: =K31 -> 0 | H89: =K63 -> 0 | K89: =K64 -> 0
A90: 备注： | B90: 请注明报价包含/不包含范围、品牌偏好、供货周期、质保期及是否含安装调试。

Sheet 双轮化机经济适用房
A1: 双轮化机经济适用房 清单明细表
A2: 分部 | B2: 序号 | C2: 细项名称 | D2: 规格型号/技术要求 | F2: 制造商及品牌 | G2: 单位 | H2: 数量 | I2: 不含税单价(元) | J2: 备注 | K2: 合价(元)
A3: 一、工艺设备
B4: 1 | C4: 成套加压供水设备 （核心产品） | D4: Q=16m3/h,H=55m,单泵功率2.2kw | G4: 套 | H4: 1 | K4: =IF(H4="",0,H4*I4) -> 0
B5: 2 | C5: 临时供水费用 | G5: 项 | H5: 1 | K5: =IF(H5="",0,H5*I5) -> 0
B6: 3 | C6: 不锈钢管 | D6: DN100,δ=2.0mm,Pn=1.0MPa | G6: m | H6: 10 | K6: =IF(H6="",0,H6*I6) -> 0
B7: 4 | C7: 不锈钢管 | D7: DN80,δ=2.0mm,Pn=1.0MPa | G7: m | H7: 15 | K7: =IF(H7="",0,H7*I7) -> 0
B8: 5 | C8: 不锈钢90°弯头 | D8: DN100,δ=2.0mm,Pn=1.0MPa | G8: 个 | H8: 5 | K8: =IF(H8="",0,H8*I8) -> 0
B9: 6 | C9: 不锈钢90°弯头 | D9: DN80,δ=2.0mm,Pn=1.0MPa | G9: 个 | H9: 4 | K9: =IF(H9="",0,H9*I9) -> 0
B10: 7 | C10: 法兰片 | D10: DN100,P=1.0MPa | G10: 个 | H10: 4 | K10: =IF(H10="",0,H10*I10) -> 0
B11: 8 | C11: 法兰片 | D11: DN80,P=1.0MPa | G11: 个 | H11: 6 | K11: =IF(H11="",0,H11*I11) -> 0
B12: 9 | C12: 手自一体电动蝶阀 | D12: DN100,P=1.0MPa,Z945X | G12: 个 | H12: 1 | K12: =IF(H12="",0,H12*I12) -> 0
B13: 10 | C13: 手自一体电动蝶阀 | D13: DN80,P=1.0MPa,Z945X | G13: 个 | H13: 1 | K13: =IF(H13="",0,H13*I13) -> 0
B14: 11 | C14: 不锈钢波纹管 | D14: DN100,P=1.0MPa | G14: 个 | H14: 1 | K14: =IF(H14="",0,H14*I14) -> 0
B15: 12 | C15: Y型过滤器 | D15: DN100,P=1.0MPa | G15: 个 | H15: 1 | K15: =IF(H15="",0,H15*I15) -> 0
B16: 13 | C16: 倒流防止器 | D16: DN100,P=1.0MPa | G16: 个 | H16: 1 | K16: =IF(H16="",0,H16*I16) -> 0
B17: 14 | C17: 自动排气阀 | D17: DN25,P=1.0MPa | G17: 个 | H17: 1 | K17: =IF(H17="",0,H17*I17) -> 0
... B24: 21 | C24: 柔性防水套管(B型) | D24: DN80 | G24: 个 | H24: 1 | K24: =IF(H24="",0,H24*I24) -> 0
A25: 注意：本材料表所列管道及设备基础工程量为设计参考值,最终工程量需根据设备中标单位出具的二次深化设计正式成果文件进行调整。
C26: 工艺部分小计 | K26: =SUM(K4:K24) -> 0
A27: 二、标准化泵房改造
B28: 1 | C28: 标准化泵房改造 | D28: 标准化泵房内部修缮改造，内容详见设计图 | G28: m2 | H28: 50 | K28: =IF(H28="",0,H28*I28) -> 0
C29: 标准化泵房改造部分小计 | K29: =SUM(K28:K28) -> 0
A30: 三、电气及自控设备
A31: 照明设备 | B31: 1 | C31: 应急照明箱(A型应急照明集中电源) ELD | D31: N-D-0.1kW-36(应急时间90min) | G31: 面 | H31: 1 | J31: 明装,底边距地1.6m | K31: =IF(H31="",0,H31*I31) -> 0
B32: 2 | C32: 应急LED泛光灯 | D32: 配36W LED灯,IP65 3600lm,6000K,Ra>85,COS%%C>0.95 | G32: 套 | H32: 4 | J32: 壁装,装高3.0m 自带蓄电池,应急时间180min | K32: =IF(H32="",0,H32*I32) -> 0
B33: 3 | C33: 壁装灯 | D33: 配18W LED灯,IP65 1800lm,6000K,Ra>85,COS%%C>0.95 | G33: 套 | H33: 2 | J33: 壁装,装高2.8m | K33: =IF(H33="",0,H33*I33) -> 0
B34: 4 | C34: 双联开关 | D34: 250V.10A,防溅型 | G34: 只 | H34: 2 | J34: 底边距地1.3m(暗装) | K34: =IF(H34="",0,H34*I34) -> 0
B35: 5 | C35: 二+三孔带接地安全插座 | D35: 250V.10A,防溅型 | G35: 只 | H35: 2 | J35: 暗设,底边距地1.5m | K35: =IF(H35="",0,H35*I35) -> 0
B36: 6 | C36: 照明及插座管线 | D36: 详配电系统图及照明、插座平面布置图 | G36: 项 | H36: 1 | K36: =IF(H36="",0,H36*I36) -> 0
B37: 7 | C37: 消防应急照明灯具-壁装(中型) | D37: 7W,DC36V,A型,具有应急照明、巡检、开灯、灭灯功能 | G37: 套 | H37: 6 | J37: 底边距地2.5m,IP65 | K37: =IF(H37="",0,H37*I37) -> 0
B38: 8 | C38: 消防应急标志灯具-安全出口(中型) | D38: 1W,DC36V,A型,具有巡检、常亮、频闪功能 | G38: 套 | H38: 1 | J38: 装于门上方或悬挂安装,IP65 | K38: =IF(H38="",0,H38*I38) -> 0
B39: 9 | C39: 消防应急标志灯具-单面右向(中型) | D39: 1W,DC36V,A型,具有巡检、常亮、频闪功能 | G39: 套 | H39: 2 | J39: 底边距地0.5m,IP65 | K39: =IF(H39="",0,H39*I39) -> 0
B40: 10 | C40: 消防应急标志灯具-单面左向(中型) | D40: 1W,DC36V,A型,具有巡检、常亮、频闪功能 | G40: 套 | H40: 1 | J40: 底边距地0.5m,IP65 | K40: =IF(H40="",0,H40*I40) -> 0
A41: 配电设备 | B41: 1 | C41: 配电控制柜 DLA | D41: 附件图纸,详见:D-EG-SL-02 | G41: 面 | H41: 1 | J41: 柜体采用304不锈钢材质,IP55,落地安装 基础用C30素混凝土垫高300mm 素混凝土基础上采用10#槽钢架高200mm | K41: =IF(H41="",0,H41*I41) -> 0
B42: 2 | C42: 电缆及保护管 | D42: 详:电缆一览表 | G42: 项 | H42: 1 | K42: =IF(H42="",0,H42*I42) -> 0
B43: 3 | C43: 304不锈钢电缆桥架(包括盖板) | D43: 200*100,采用304不锈钢板分隔,控制电缆占宽80mm 壁厚不小于2.0mm | G43: 米 | H43: 14 | J43: 配套所有配件及托臂,均采用304不锈钢材质 | K43: =IF(H43="",0,H43*I43) -> 0
B44: 4 | C44: 304不锈钢电缆桥架(包括盖板) | D44: 50*25,壁厚不小于2.0mm | G44: 米 | H44: 14 | J44: 配套所有配件及托臂,均采用304不锈钢材质 | K44: =IF(H44="",0,H44*I44) -> 0
B45: 5 | C45: 总等电位联结箱 MEB | D45: 详15D502 | G45: 面 | H45: 1 | J45: 底边距地0.3m(暗装) | K45: =IF(H45="",0,H45*I45) -> 0
B46: 6 | C46: 接地线 | D46: -40*4扁钢,304不锈钢材质 | G46: 米 | H46: 30 | K46: =IF(H46="",0,H46*I46) -> 0
B47: 7 | C47: 防水防火密封堵料 | G47: 千克 | H47: 5 | K47: =IF(H47="",0,H47*I47) -> 0
A48: 拆除设备 | B48: 1 | C48: 水泵配电控制柜,700*600*1800mm | G48: 面 | H48: 1 | K48: =IF(H48="",0,H48*I48) -> 0
B49: 2 | C49: 生活水泵配电箱,600*400*800mm | G49: 面 | H49: 1 | K49: =IF(H49="",0,H49*I49) -> 0
B50: 3 | C50: 电缆及保护管 | G50: 项 | H50: 1 | J50: 现状水泵机组相关电缆、保护管 | K50: =IF(H50="",0,H50*I50) -> 0
B51: 4 | C51: 现状照明灯具、电缆及保护管 | G51: 项 | H51: 1 | K51: =IF(H51="",0,H51*I51) -> 0
A52: 自控设备 | B52: 1 | C52: 泵房主控柜 ZKA | D52: 附件图纸,详见:K-EG-SL-04、05 | G52: 面 | H52: 1 | J52: 柜体采用304不锈钢材质,IP55,落地安装 基础用C30素混凝土垫高300mm 素混凝土基础上采用10#槽钢架高200mm | K52: =IF(H52="",0,H52*I52) -> 0
B53: 2 | C53: 成套中区水泵变频控制系统 | D53: 厂家配套提供并安装 | G53: 项 | H53: 1 | K53: =I53 -> 0
B54: 2.1 | C54: 成套中区水泵控制柜 ZPA | D54: 内设PLC控制系统、触摸屏及其它电气元器件等, PLC应预留以太网及RS485通讯接口。 | G54: 面 | H54: 1
B55: 2.2 | C55: 网络交换机 | D55: 4个RJ45口(千兆) | G55: 台 | H55: 1
B56: 2.3 | C56: 检测仪表 | D56: 含压力变送器及其它必要的检测仪表 | G56: 项 | H56: 1
B57: 2.4 | C57: 控制柜至设备电缆 | D57: 厂家配套提供并安装 | G57: 项 | H57: 1
B58: 2.5 | C58: 现场电缆保护管 | D58: 热镀锌钢管,厂家配套提供并安装 | G58: 套 | H58: 1
B59: 3 | C59: 电磁流量计变送器 FIT1 | D59: 测量口径:DN80,PN=1.0MPa,电源:~220VAC 测量范围:0~50m3/h,配置MODBUS通讯接口 测量精度不低于0.5级 变送器防护等级IP65,传感器防护等级IP68 | G59: 套 | H59: 1 | J59: 检测泵房出水瞬时流量、累积流量 配套仪表箱(400*300*500),IP55 挂墙安装,底边距地1.1m, 箱体采用304不锈钢材质 | K59: =H59*I59 -> 0
C60: 电磁流量计传感器 FE1
B61: 4 | C61: 一体式超声波液位计 LIT | D61: 0~2m,IP65,输出信号:4~20mA | G61: 套 | H61: 1 | J61: 检测泵房液位 | K61: =IF(H61="",0,H61*I61) -> 0
B62: 5 | C62: 室内高清彩色网络枪机 | D62: 400万像素,带红外、柔光补光、 人形侦测、智能警戒等功能,IP65 | G62: 套 | H62: 1 | J62: 装高3.0m,配套电源等辅件。 | K62: =IF(H62="",0,H62*I62) -> 0
B63: 6 | C63: 室内一体化网络高清球机 | D63: 400万像素,带红外、柔光补光、 人形侦测、智能警戒等功能,IP65 | G63: 套 | H63: 1 | J63: 装高3.0m,配套电源等辅件。 | K63: =IF(H63="",0,H63*I63) -> 0
B64: 7 | C64: 液晶显示器 YJA | D64: 21寸,配15米HDMI线缆,IP55 | G64: 套 | H64: 1 | J64: 挂墙安装,顶边距地1.6m,配套支架 | K64: =IF(H64="",0,H64*I64) -> 0
B65: 8 | C65: 新风系统 | G65: 项 | H65: 1 | K65: =H65*I65 -> 0
B66: 9 | C66: 电缆及保护管 | D66: 详:电缆一览表 | G66: 项 | H66: 1 | K66: =IF(H66="",0,H66*I66) -> 0
B67: 10 | C67: 质保期内网络通讯费 | G67: 项 | H67: 1 | K67: =IF(H67="",0,H67*I67) -> 0
B68: 11 | C68: 防水防火密封堵料 | G68: 千克 | H68: 5 | K68: =IF(H68="",0,H68*I68) -> 0
C69: 电气部分小计 | K69: =SUM(K31:K68) -> 0
C70: 本泵房报价合计 | K70: =K26+K29+K69 -> 0
A95: 锚点(供汇总引用) | C95: =K26 -> 0 | D95: =K29 -> 0 | H95: =K69 -> 0 | K95: =K70 -> 0
A96: 备注： | B96: 请注明报价包含/不包含范围、品牌偏好、供货周期、质保期及是否含安装调试。

Sheet 外滩一号
A1: 外滩一号 清单明细表
A2: 分部 | B2: 序号 | C2: 细项名称 | D2: 规格型号/技术要求 | E2: 材质 | F2: 制造商及品牌 | G2: 单位 | H2: 数量 | I2: 不含税单价(元) | J2: 备注 | K2: 合价(元)
A3: 一、工艺设备
B4: 1 | C4: 不锈钢管 | D4: DN200,δ=3.0mm,PN=1.0MPa | E4: S31603 | G4: m | H4: 9 | K4: =IF(H4="",0,H4*I4) -> 0
B5: 2 | C5: 临时供水费用 | G5: 项 | H5: 1 | K5: =IF(H5="",0,H5*I5) -> 0
B6: 3 | C6: 不锈钢管 | D6: DN150,δ=2.5mm,PN=1.6MPa | E6: S31603 | G6: m | H6: 30 | K6: =IF(H6="",0,H6*I6) -> 0
B7: 4 | C7: 不锈钢管 | D7: DN100,δ=2.0mm,PN=1.6MPa | E7: S31603 | G7: m | H7: 8 | K7: =IF(H7="",0,H7*I7) -> 0
B8: 5 | C8: 正三通 | D8: DN200XDN150 , PN=1.0MPa | E8: S31603 | G8: 个 | H8: 2 | K8: =IF(H8="",0,H8*I8) -> 0
B9: 6 | C9: 不锈钢90°弯头 | D9: DN200,δ=2.8mm PN=1.0MPa | E9: S31603 | G9: 个 | H9: 2 | K9: =IF(H9="",0,H9*I9) -> 0
B10: 7 | C10: 不锈钢90°弯头 | D10: DN150,δ=2.8mm PN=1.6MPa | E10: S31603 | G10: 个 | H10: 18 | K10: =IF(H10="",0,H10*I10) -> 0
B11: 8 | C11: 不锈钢90°弯头 | D11: DN100,δ=2.0mm PN=1.6MPa | E11: S31603 | G11: 个 | H11: 2 | K11: =IF(H11="",0,H11*I11) -> 0
B12: 9 | C12: 法兰片 | D12: DN200,PN=1.0MPa | E12: S31603 | G12: 个 | H12: 8 | K12: =IF(H12="",0,H12*I12) -> 0
B13: 10 | C13: 法兰片 | D13: DN150,PN=1.6MPa | E13: S31603 | G13: 个 | H13: 22 | K13: =IF(H13="",0,H13*I13) -> 0
B14: 11 | C14: 法兰片 | D14: DN100,PN=1.6MPa | E14: S31603 | G14: 个 | H14: 3 | K14: =IF(H14="",0,H14*I14) -> 0
B15: 12 | C15: 手自一体电动蝶阀 | D15: DN200,PN=1.0MPa,D943H | E15: S30408 | G15: 个 | H15: 2 | K15: =IF(H15="",0,H15*I15) -> 0
B16: 13 | C16: 手自一体电动蝶阀 | D16: DN150,PN=1.0MPa,D943H | E16: S30408 | G16: 个 | H16: 4 | K16: =IF(H16="",0,H16*I16) -> 0
B17: 14 | C17: 手自一体电动蝶阀 | D17: DN150,PN=1.6MPa,D943H | E17: S30408 | G17: 个 | H17: 3 | K17: =IF(H17="",0,H17*I17) -> 0
... B25: 22 | C25: 水锤吸纳器 | D25: --第一阶段 DN150,PN=1.6MPa | E25: S30408 | G25: 个 | H25: 3 | K25: =IF(H25="",0,H25*I25) -> 0
B26: 23 | C26: 灭火器 | D26: --第一阶段 MF/ABC5 | G26: 具 | H26: 4 | K26: =IF(H26="",0,H26*I26) -> 0
B27: 24 | C27: 拆除原管道 | D27: 钢管DN150 | E27: 钢制 | G27: m | H27: 50 | K27: =IF(H27="",0,H27*I27) -> 0
B28: 25 | C28: 橡胶隔振垫 | G28: 个 | H28: 16 | K28: =IF(H28="",0,H28*I28) -> 0
B29: 26 | C29: 柔性防水套管 | G29: 个 | H29: 6 | K29: =IF(H29="",0,H29*I29) -> 0
A30: 注意：本材料表所列管道及设备基础工程量为设计参考值,最终工程量需根据设备中标单位出具的二次深化设计正式成果文件进行调整。
C31: 工艺部分小计 | K31: =SUM(K4:K29) -> 0
A32: 二、标准化泵房改造
B33: 1 | C33: 标准化泵房改造 | D33: 标准化泵房内部修缮改造，内容详见设计图 | G33: m2 | H33: 30 | K33: =IF(H33="",0,H33*I33) -> 0
C34: 标准化泵房改造部分小计 | K34: =SUM(K33:K33) -> 0
A35: 三、电气及自控设备
A36: 室外车库入口旁泵房 照明设备 | B36: 1 | C36: 应急照明箱(A型应急照明集中电源) ELD | D36: N-D-0.1kW-36(应急时间90min) | G36: 面 | H36: 1 | J36: 明装,底边距地1.6m | K36: =IF(H36="",0,H36*I36) -> 0
B37: 2 | C37: 应急LED泛光灯 | D37: 配40W LED灯,IP65 3600lm,6000K,Ra>85,COS%%C>0.95 | G37: 套 | H37: 2 | J37: 壁装,装高2.6m 自带蓄电池,应急时间180min | K37: =IF(H37="",0,H37*I37) -> 0
B38: 3 | C38: 双联开关 | D38: 250V.10A,防溅型 | G38: 只 | H38: 1 | J38: 底边距地1.3m(暗装) | K38: =IF(H38="",0,H38*I38) -> 0
B39: 4 | C39: 二+三孔带接地安全插座 | D39: 250V.10A,防溅型 | G39: 只 | H39: 2 | J39: 暗设,底边距地1.5m | K39: =IF(H39="",0,H39*I39) -> 0
B40: 5 | C40: 照明及插座管线 | D40: 详配电系统图及照明、插座平面布置图 | G40: 项 | H40: 1 | K40: =IF(H40="",0,H40*I40) -> 0
B41: 6 | C41: 消防应急照明灯具-壁装(中型) | D41: 7W,DC36V,A型,具有应急照明、巡检、开灯、灭灯功能 | G41: 套 | H41: 3 | J41: 底边距地2.1m,IP65 | K41: =IF(H41="",0,H41*I41) -> 0
B42: 7 | C42: 消防应急照明灯具-壁装(中型) | D42: 7W,DC36V,A型,具有应急照明、巡检、开灯、灭灯功能 | G42: 套 | H42: 1 | J42: 底边距地2.5m,户外型，IP67
B43: 8 | C43: 消防应急标志灯具-安全出口(中型) | D43: 1W,DC36V,A型,具有巡检、常亮、频闪功能 | G43: 套 | H43: 1 | J43: 装于门上方或悬挂安装,IP65 | K43: =IF(H43="",0,H43*I43) -> 0
A44: 室外车库入口旁泵房 配电设备 | B44: 1 | C44: 泵房主控柜 ZKA | D44: 附件图纸,详见:D-EG-WT-02、K-EG-WT-04、05 注意：本单项报价还应包含自控图K-EG-KC-04、05中的所有设备元件价格。 | G44: 面 | H44: 1 | J44: 柜体采用304不锈钢材质,IP55,落地安装 基础用C30素混凝土垫高300mm 素混凝土基础上采用10#槽钢架高200mm | K44: =IF(H44="",0,H44*I44) -> 0
B45: 2 | C45: 电缆及保护管 | D45: 详:电缆一览表 | G45: 项 | H45: 1 | K45: =IF(H45="",0,H45*I45) -> 0
B46: 3 | C46: 304不锈钢电缆桥架(包括盖板) | D46: 200*100,采用304不锈钢板分隔,控制电缆占宽80mm 壁厚不小于2.0mm | G46: 米 | H46: 11 | J46: 配套所有配件及托臂,均采用304不锈钢材质 | K46: =IF(H46="",0,H46*I46) -> 0
B47: 4 | C47: 接地线 | D47: -40*4扁钢,304不锈钢材质 | G47: 米 | H47: 20 | K47: =IF(H47="",0,H47*I47) -> 0
B48: 5 | C48: 防水防火密封堵料 | G48: 千克 | H48: 3 | K48: =IF(H48="",0,H48*I48) -> 0
A49: 室外车库入口旁泵房 拆除设备 | B49: 1 | C49: 现状照明灯具、电缆及保护管 | G49: 项 | H49: 1 | K49: =IF(H49="",0,H49*I49) -> 0
A50: 室外车库入口旁泵房 自控设备 | B50: 1 | C50: 泵房主控柜 ZKA | D50: 附件图纸,详见:D-EG-WT-02、K-EG-WT-04、05 | G50: 面 | H50: 1 | I50: 此单项不计价计入配电设备中
B51: 2 | C51: 电磁流量计变送器 FIT1 | D51: 测量口径:DN200,PN=1.0MPa,电源:~220VAC 测量范围:0~100m3/h,配置MODBUS通讯接口 测量精度不低于0.5级 变送器防护等级IP65,传感器防护等级IP68 | G51: 套 | H51: 1 | J51: 检测泵房进水总管瞬时流量、累积流量 配套仪表箱(400*300*500),IP55 挂墙安装,底边距地1.1m, 箱体采用304不锈钢材质 | K51: =H51*I51 -> 0
C52: 电磁流量计传感器 FE1
B53: 3 | C53: 电磁流量计变送器 FIT11 | D53: 测量口径:DN150,PN=1.6MPa,电源:~220VAC 测量范围:0~50m3/h,配置MODBUS通讯接口 测量精度不低于0.5级 变送器防护等级IP65,传感器防护等级IP68 | G53: 套 | H53: 1 | J53: 检测中区设备出水瞬时流量、累积流量 配套仪表箱(400*300*500),IP55 挂墙安装,底边距地1.1m, 箱体采用304不锈钢材质 | K53: =H53*I53 -> 0
C54: 电磁流量计传感器 FE11
B55: 4 | C55: 电磁流量计变送器 FIT21 | D55: 测量口径:DN150,PN=1.6MPa,电源:~220VAC 测量范围:0~50m3/h,配置MODBUS通讯接口 测量精度不低于0.5级 变送器防护等级IP65,传感器防护等级IP68 | G55: 套 | H55: 1 | J55: 检测高区设备出水瞬时流量、累积流量 配套仪表箱(400*300*500),IP55 挂墙安装,底边距地1.1m, 箱体采用304不锈钢材质 | K55: =H55*I55 -> 0
C56: 电磁流量计传感器 FE21
B57: 5 | C57: 一体式超声波液位计 LIT | D57: 0~2m,IP65,输出信号:4~20mA | G57: 套 | H57: 1 | J57: 检测泵房液位 | K57: =H57*I57 -> 0
B58: 6 | C58: 室内高清彩色网络枪机 | D58: 400万像素,带红外、柔光补光、 人形侦测、智能警戒等功能,IP65 | G58: 套 | H58: 1 | J58: 装高2.6m,配套电源等辅件。 | K58: =H58*I58 -> 0
B59: 7 | C59: 室内一体化网络高清球机 | D59: 400万像素,带红外、柔光补光、 人形侦测、智能警戒等功能,IP65 | G59: 套 | H59: 1 | J59: 装高2.6m,配套电源等辅件。 | K59: =H59*I59 -> 0
B60: 8 | C60: 液晶显示器 YJA | D60: 21寸,配15米HDMI线缆,IP55 | G60: 套 | H60: 1 | J60: 挂墙安装,顶边距地1.6m,配套支架 | K60: =H60*I60 -> 0
B61: 9 | C61: 电缆及保护管 | D61: 详:电缆一览表 | G61: 项 | H61: 1 | K61: =H61*I61 -> 0
B62: 10 | C62: 质保期内网络通讯费 | G62: 项 | H62: 1 | K62: =H62*I62 -> 0
B63: 11 | C63: 防水防火密封堵料 | G63: 千克 | H63: 3 | K63: =H63*I63 -> 0
A64: 4#地下室泵房照明设备 | B64: 1 | C64: 应急照明箱(A型应急照明集中电源) ELD | D64: N-D-0.1kW-36(应急时间90min) | G64: 面 | H64: 1 | J64: 明装,底边距地1.6m | K64: =IF(H64="",0,H64*I64) -> 0
B65: 2 | C65: 应急LED泛光灯 | D65: 配36W LED灯,IP65 3600lm,6000K,Ra>85,COS%%C>0.95 | G65: 套 | H65: 4 | J65: 壁装,装高2.8m 自带蓄电池,应急时间180min | K65: =IF(H65="",0,H65*I65) -> 0
B66: 3 | C66: 双联开关 | D66: 250V.10A,防溅型 | G66: 只 | H66: 1 | J66: 底边距地1.3m(暗装) | K66: =IF(H66="",0,H66*I66) -> 0
B67: 4 | C67: 二+三孔带接地安全插座 | D67: 250V.10A,防溅型 | G67: 只 | H67: 2 | J67: 暗设,底边距地1.5m | K67: =IF(H67="",0,H67*I67) -> 0
B68: 5 | C68: 照明及插座管线 | D68: 详配电系统图及照明、插座平面布置图 | G68: 项 | H68: 1 | K68: =IF(H68="",0,H68*I68) -> 0
B69: 6 | C69: 消防应急照明灯具-壁装(中型) | D69: 7W,DC36V,A型,具有应急照明、巡检、开灯、灭灯功能 | G69: 套 | H69: 5 | J69: 底边距地2.2m,IP65 | K69: =IF(H69="",0,H69*I69) -> 0
B70: 7 | C70: 消防应急标志灯具-安全出口(中型) | D70: 1W,DC36V,A型,具有巡检、常亮、频闪功能 | G70: 套 | H70: 1 | J70: 装于门上方或悬挂安装,IP65 | K70: =IF(H70="",0,H70*I70) -> 0
A71: 4#地下室泵房配电设备 | B71: 1 | C71: 泵房主控柜 ZKA | D71: 附件图纸,详见:D-EG-WT-06、K-EG-WT-11、12 注意：本单项报价还应包含自控图K-EG-WT-11、12中的所有设备元件价格。 | G71: 面 | H71: 1 | J71: 柜体采用304不锈钢材质,IP55,落地安装 基础用C30素混凝土垫高300mm 素混凝土基础上采用10#槽钢架高200mm | K71: =IF(H71="",0,H71*I71) -> 0
B72: 2 | C72: 电缆及保护管 | D72: 详:电缆一览表 | G72: 项 | H72: 1 | K72: =IF(H72="",0,H72*I72) -> 0
B73: 3 | C73: 304不锈钢电缆桥架(包括盖板) | D73: 200*100,采用304不锈钢板分隔,控制电缆占宽80mm 壁厚不小于2.0mm | G73: 米 | H73: 15 | J73: 配套所有配件及托臂,均采用304不锈钢材质 | K73: =IF(H73="",0,H73*I73) -> 0
B74: 4 | C74: 接地线 | D74: -40*4扁钢,304不锈钢材质 | G74: 米 | H74: 20 | K74: =IF(H74="",0,H74*I74) -> 0
B75: 5 | C75: 防水防火密封堵料 | G75: 千克 | H75: 3 | K75: =IF(H75="",0,H75*I75) -> 0
A76: 4#地下室泵房拆除设备 | B76: 1 | C76: 现状照明灯具、电缆及保护管 | G76: 项 | H76: 1 | K76: =IF(H76="",0,H76*I76) -> 0
A77: 4#地下室泵房自控设备 | B77: 1 | C77: 泵房主控柜 ZKA | D77: 附件图纸,详见:D-EG-WT-06、K-EG-WT-11、12 | G77: 面 | H77: 1 | I77: 此单项不计价，计入配电设备中
B78: 2 | C78: 电磁流量计变送器 FIT1 | D78: 测量口径:DN200,PN=1.0MPa,电源:~220VAC 测量范围:0~100m3/h,配置MODBUS通讯接口 测量精度不低于0.5级 变送器防护等级IP65,传感器防护等级IP68 | G78: 套 | H78: 1 | J78: 检测泵房进水总管瞬时流量、累积流量 配套仪表箱(400*300*500),IP55 挂墙安装,底边距地1.1m, 箱体采用304不锈钢材质 | K78: =H78*I78 -> 0
C79: 电磁流量计传感器 FE1
B80: 3 | C80: 电磁流量计变送器 FIT11 | D80: 测量口径:DN150,PN=1.6MPa,电源:~220VAC 测量范围:0~50m3/h,配置MODBUS通讯接口 测量精度不低于0.5级 变送器防护等级IP65,传感器防护等级IP68 | G80: 套 | H80: 1 | J80: 检测中区设备出水瞬时流量、累积流量 配套仪表箱(400*300*500),IP55 挂墙安装,底边距地1.1m, 箱体采用304不锈钢材质 | K80: =H80*I80 -> 0
C81: 电磁流量计传感器 FE11
B82: 4 | C82: 电磁流量计变送器 FIT21 | D82: 测量口径:DN150,PN=1.6MPa,电源:~220VAC 测量范围:0~50m3/h,配置MODBUS通讯接口 测量精度不低于0.5级 变送器防护等级IP65,传感器防护等级IP68 | G82: 套 | H82: 1 | J82: 检测高区设备出水瞬时流量、累积流量 配套仪表箱(400*300*500),IP55 挂墙安装,底边距地1.1m, 箱体采用304不锈钢材质 | K82: =H82*I82 -> 0
C83: 电磁流量计传感器 FE21
B84: 5 | C84: 一体式超声波液位计 LIT | D84: 0~2m,IP65,输出信号:4~20mA | G84: 套 | H84: 1 | J84: 检测泵房液位 | K84: =H84*I84 -> 0
B85: 6 | C85: 室内高清彩色网络枪机 | D85: 400万像素,带红外、柔光补光、 人形侦测、智能警戒等功能,IP65 | G85: 套 | H85: 1 | J85: 装高2.6m,配套电源等辅件。 | K85: =H85*I85 -> 0
B86: 7 | C86: 室内一体化网络高清球机 | D86: 400万像素,带红外、柔光补光、 人形侦测、智能警戒等功能,IP65 | G86: 套 | H86: 1 | J86: 装高2.6m,配套电源等辅件。 | K86: =H86*I86 -> 0
B87: 8 | C87: 液晶显示器 YJA | D87: 21寸,配15米HDMI线缆,IP55 | G87: 套 | H87: 1 | J87: 挂墙安装,顶边距地1.6m,配套支架 | K87: =H87*I87 -> 0
B88: 9 | C88: 电缆及保护管 | D88: 详:电缆一览表 | G88: 项 | H88: 1 | K88: =H88*I88 -> 0
B89: 10 | C89: 新风系统 | G89: 项 | H89: 1 | K89: =H89*I89 -> 0
B90: 11 | C90: 质保期内网络通讯费 | G90: 项 | H90: 1 | K90: =H90*I90 -> 0
B91: 12 | C91: 防水防火密封堵料 | G91: 千克 | H91: 3 | K91: =H91*I91 -> 0
C92: 电气部分小计 | K92: =SUM(K36:K91) -> 0
C93: 本泵房报价合计 | K93: =K31+K34+K92 -> 0
A118: 锚点(供汇总引用) | C118: =K31 -> 0 | D118: =K34 -> 0 | H118: =K92 -> 0 | K118: =K93 -> 0
A119: 备注： | B119: 请注明报价包含/不包含范围、品牌偏好、供货周期、质保期及是否含安装调试。

Sheet 白沙省一建
A1: 白沙省一建 清单明细表
A2: 分部 | B2: 序号 | C2: 细项名称 | D2: 规格型号/技术要求 | E2: 材质 | F2: 制造商及品牌 | G2: 单位 | H2: 数量 | I2: 不含税单价(元) | J2: 备注 | K2: 合价(元)
A3: 一、工艺设备
B4: 1 | C4: 不锈钢管 | D4: DN100,δ=2.0mm,,PN=1.0MPa | E4: S31603 | G4: m | H4: 5 | K4: =IF(H4="",0,H4*I4) -> 0
B5: 2 | C5: 临时供水费用 | G5: 项 | H5: 1 | K5: =IF(H5="",0,H5*I5) -> 0
B6: 3 | C6: 不锈钢管 | D6: DN80,δ=2.0mm,PN=1.6MPa | E6: S31603 | G6: m | H6: 6 | K6: =IF(H6="",0,H6*I6) -> 0
B7: 4 | C7: 不锈钢90°弯头 | D7: DN100,δ=2.0mm PN=1.6MPa | E7: S31603 | G7: 个 | H7: 3 | K7: =IF(H7="",0,H7*I7) -> 0
B8: 5 | C8: 不锈钢90°弯头 | D8: DN100,δ=2.0mm PN=1.6MPa | E8: S31603 | G8: 个 | H8: 2 | K8: =IF(H8="",0,H8*I8) -> 0
B9: 6 | C9: 法兰片 | D9: DN100,PN=1.0MPa | E9: S31603 | G9: 个 | H9: 3 | K9: =IF(H9="",0,H9*I9) -> 0
B10: 7 | C10: 法兰片 | D10: DN80,PN=1.6MPa | E10: S31603 | G10: 个 | H10: 3 | K10: =IF(H10="",0,H10*I10) -> 0
B11: 8 | C11: Y型过滤器 | D11: DN100,PN=1.0MPa | E11: S30408 | G11: 个 | H11: 1 | K11: =IF(H11="",0,H11*I11) -> 0
B12: 9 | C12: 手自一体电动蝶阀 | D12: DN80,PN=1.6MPa,D943H | E12: S30408 | G12: 个 | H12: 1 | K12: =IF(H12="",0,H12*I12) -> 0
B13: 10 | C13: 手自一体电动蝶阀 | D13: DN100,PN=1.0MPa,D943H | E13: S30408 | G13: 个 | H13: 1 | K13: =IF(H13="",0,H13*I13) -> 0
B14: 11 | C14: 不锈钢波纹管 | D14: DN80,PN=1.6MPa | E14: S30408 | G14: 个 | H14: 1 | K14: =IF(H14="",0,H14*I14) -> 0
B15: 12 | C15: 不锈钢波纹管 | D15: DN100,PN=1.0MPa | E15: S30408 | G15: 个 | H15: 1 | K15: =IF(H15="",0,H15*I15) -> 0
B16: 13 | C16: 倒流防止器 | D16: DN100,PN=1.0MPa | E16: S30408 | G16: 个 | H16: 1 | K16: =IF(H16="",0,H16*I16) -> 0
B17: 14 | C17: 水锤吸纳器 | D17: DN80,PN=1.6MPa | E17: S30408 | G17: 个 | H17: 1 | K17: =IF(H17="",0,H17*I17) -> 0
B18: 15 | C18: 灭火器 | D18: --第一阶段 MF/ABC5 | G18: 具 | H18: 2 | K18: =IF(H18="",0,H18*I18) -> 0
B19: 16 | C19: 拆除原管道 | D19: 钢管DN100 | E19: 钢制 | G19: m | H19: 15 | K19: =IF(H19="",0,H19*I19) -> 0
B20: 17 | C20: 橡胶隔振垫 | G20: 个 | H20: 4 | K20: =IF(H20="",0,H20*I20) -> 0
B21: 18 | C21: 柔性防水套管 | G21: 个 | H21: 2 | K21: =IF(H21="",0,H21*I21) -> 0
A22: 注意：本材料表所列管道及设备基础工程量为设计参考值,最终工程量需根据设备中标单位出具的二次深化设计正式成果文件进行调整。
C23: 工艺部分小计 | K23: =SUM(K4:K21) -> 0
A24: 二、标准化泵房改造
B25: 1 | C25: 标准化泵房改造 | D25: 标准化泵房内部修缮改造，内容详见设计图 | G25: m2 | H25: 25
C26: 标准化泵房改造部分小计 | K26: =SUM(K25:K25) -> 0
A27: 三、电气及自控设备
A28: 照明设备 | B28: 1 | C28: 应急照明箱(A型应急照明集中电源) ELD | D28: N-D-0.1kW-36(应急时间90min) | G28: 面 | H28: 1 | J28: 明装,底边距地1.6m | K28: =IF(H28="",0,H28*I28) -> 0
B29: 2 | C29: 应急LED泛光灯 | D29: 配36W LED灯,IP65 3600lm,6000K,Ra>85,COS%%C>0.95 | G29: 套 | H29: 2 | J29: 壁装,装高3.0m 自带蓄电池,应急时间180min | K29: =IF(H29="",0,H29*I29) -> 0
B30: 3 | C30: 双联开关 | D30: 250V.10A,防溅型 | G30: 只 | H30: 1 | J30: 底边距地1.3m(暗装) | K30: =IF(H30="",0,H30*I30) -> 0
B31: 4 | C31: 二+三孔带接地安全插座 | D31: 250V.10A,防溅型 | G31: 只 | H31: 2 | J31: 暗设,底边距地1.5m | K31: =IF(H31="",0,H31*I31) -> 0
B32: 5 | C32: 照明及插座管线 | D32: 详配电系统图及照明、插座平面布置图 | G32: 项 | H32: 1 | K32: =IF(H32="",0,H32*I32) -> 0
B33: 6 | C33: 消防应急照明灯具-壁装(中型) | D33: 7W,DC36V,A型,具有应急照明、巡检、开灯、灭灯功能 | G33: 套 | H33: 3 | J33: 底边距地2.5m,IP65 | K33: =IF(H33="",0,H33*I33) -> 0
B34: 7 | C34: 消防应急标志灯具-安全出口(中型) | D34: 1W,DC36V,A型,具有巡检、常亮、频闪功能 | G34: 套 | H34: 1 | J34: 装于门上方或悬挂安装,IP65 | K34: =IF(H34="",0,H34*I34) -> 0
A35: 配电设备 | B35: 1 | C35: 泵房主控柜 ZKA | D35: 附件图纸,详见:D-EG-BS-02、K-EG-BS-04、05 注意：本单项报价还应包含自控图K-EG-BS-04、05中的所有设备元件价格。 | G35: 面 | H35: 1 | J35: 柜体采用304不锈钢材质,IP55,落地安装 基础用C30素混凝土垫高300mm 素混凝土基础上采用10#槽钢架高200mm | K35: =IF(H35="",0,H35*I35) -> 0
B36: 2 | C36: 电缆及保护管 | D36: 详:电缆一览表 | G36: 项 | H36: 1 | K36: =IF(H36="",0,H36*I36) -> 0
B37: 3 | C37: 304不锈钢电缆桥架(包括盖板) | D37: 200*100,采用304不锈钢板分隔,控制电缆占宽80mm 壁厚不小于2.0mm | G37: 米 | H37: 11 | J37: 配套所有配件及托臂,均采用304不锈钢材质 | K37: =IF(H37="",0,H37*I37) -> 0
B38: 4 | C38: 接地线 | D38: -40*4扁钢,304不锈钢材质 | G38: 米 | H38: 20 | K38: =IF(H38="",0,H38*I38) -> 0
B39: 5 | C39: 防水防火密封堵料 | G39: 千克 | H39: 3 | K39: =IF(H39="",0,H39*I39) -> 0
A40: 拆除设备 | B40: 1 | C40: 现状照明灯具、电缆及保护管 | G40: 项 | H40: 1 | K40: =IF(H40="",0,H40*I40) -> 0
A41: 自控设备 | B41: 1 | C41: 泵房主控柜 ZKA | G41: 面 | H41: 1 | I41: 此单项不计价，计入配电设备中
B42: 2 | C42: 电磁流量计变送器 FIT1 | D42: 详见:D-EG-BS-02、K-EG-BS-04、05 测量口径:DN80,PN=1.6MPa,电源:~220VAC 测量范围:0~50m3/h,配置MODBUS通讯接口 测量精度不低于0.5级 变送器防护等级IP65,传感器防护等级IP68 | G42: 套 | H42: 1 | J42: 检测中区设备出水瞬时流量、累积流量 配套仪表箱(400*300*500),IP55 挂墙安装,底边距地1.1m, 箱体采用304不锈钢材质 | K42: =H42*I42 -> 0
C43: 电磁流量计传感器 FE1
B44: 3 | C44: 一体式超声波液位计 LIT | D44: 0~2m,IP65,输出信号:4~20mA | G44: 套 | H44: 1 | J44: 检测泵房液位 | K44: =IF(H44="",0,H44*I44) -> 0
B45: 4 | C45: 室内一体化网络高清球机 | D45: 400万像素,带红外、柔光补光、 人形侦测、智能警戒等功能,IP65 | G45: 套 | H45: 1 | J45: 装高3.0m,配套电源等辅件。 | K45: =IF(H45="",0,H45*I45) -> 0
B46: 5 | C46: 液晶显示器 YJA | D46: 21寸,配10米HDMI线缆,IP55 | G46: 套 | H46: 1 | J46: 挂墙安装,顶边距地1.6m,配套支架 | K46: =IF(H46="",0,H46*I46) -> 0
B47: 6 | C47: 新风系统 | G47: 项 | H47: 1 | K47: =H47*I47 -> 0
B48: 7 | C48: 电缆及保护管 | D48: 详:电缆一览表 | G48: 项 | H48: 1 | K48: =IF(H48="",0,H48*I48) -> 0
B49: 8 | C49: 质保期内网络通讯费 | G49: 项 | H49: 1 | K49: =IF(H49="",0,H49*I49) -> 0
B50: 9 | C50: 防水防火密封堵料 | G50: 千克 | H50: 3 | K50: =IF(H50="",0,H50*I50) -> 0
C51: 电气部分小计 | K51: =SUM(K28:K50) -> 0
C52: 本泵房报价合计 | K52: =K23+K26+K51 -> 0
A77: 锚点(供汇总引用) | C77: =K23 -> 0 | D77: =K26 -> 0 | H77: =K51 -> 0 | K77: =K52 -> 0
A78: 备注： | B78: 请注明报价包含/不包含范围、品牌偏好、供货周期、质保期及是否含安装调试。

Sheet 三化经济适用房
A1: 三化经济适用房 清单明细表
A2: 分部 | B2: 序号 | C2: 细项名称 | D2: 规格型号/技术要求 | E2: 材质 | F2: 制造商及品牌 | G2: 单位 | H2: 数量 | I2: 不含税单价(元) | J2: 备注 | K2: 合价(元)
A3: 一、工艺设备
B4: 1 | C4: 不锈钢管 | D4: DN100,δ=2.0mm, PN=1.6MPa | E4: S31603 | G4: m | H4: 50 | K4: =IF(H4="",0,H4*I4) -> 0
B5: 2 | C5: 临时供水费用 | G5: 项 | H5: 1 | K5: =IF(H5="",0,H5*I5) -> 0
B6: 3 | C6: 不锈钢90°弯头 | D6: DN100,δ=2.0mm, PN=1.6MPa | E6: S31603 | G6: 个 | H6: 4 | K6: =IF(H6="",0,H6*I6) -> 0
B7: 4 | C7: 法兰片 | D7: DN100,PN=1.0MPa | E7: S31603 | G7: 个 | H7: 4 | K7: =IF(H7="",0,H7*I7) -> 0
B8: 5 | C8: 法兰片 | D8: DN100,PN=1.6MPa | E8: S31603 | G8: 个 | H8: 5 | K8: =IF(H8="",0,H8*I8) -> 0
B9: 6 | C9: Y型过滤器 | D9: DN100,PN=1.0MPa | E9: S30408 | G9: 个 | H9: 1 | K9: =IF(H9="",0,H9*I9) -> 0
B10: 7 | C10: 电磁流量计 | D10: DN100,PN=1.6MPa,带远传模块 测量精度<0.5级,测量范围0-50m3/h 具体参数详见电气专业 | E10: S30408 | G10: 个 | H10: 1 | K10: =IF(H10="",0,H10*I10) -> 0
B11: 8 | C11: 手自一体电动蝶阀 | D11: DN100,PN=1.6MPa,D943H | E11: S30408 | G11: 个 | H11: 2 | K11: =IF(H11="",0,H11*I11) -> 0
B12: 9 | C12: 不锈钢波纹管 | D12: DN100,PN=1.0MPa | E12: S30408 | G12: 个 | H12: 1 | K12: =IF(H12="",0,H12*I12) -> 0
B13: 10 | C13: 倒流防止器 | D13: DN100,PN=1.0MPa | E13: S30408 | G13: 个 | H13: 1 | K13: =IF(H13="",0,H13*I13) -> 0
B14: 11 | C14: 水锤吸纳器 | D14: DN100,PN=1.6MPa | E14: S30408 | G14: 个 | H14: 1 | K14: =IF(H14="",0,H14*I14) -> 0
B15: 12 | C15: 灭火器 | D15: MF/ABC5 | G15: 具 | H15: 2 | K15: =IF(H15="",0,H15*I15) -> 0
B16: 13 | C16: 拆除原管道 | D16: 钢管DN100 | E16: 钢制 | G16: m | H16: 50 | K16: =IF(H16="",0,H16*I16) -> 0
B17: 14 | C17: 橡胶隔振垫 | G17: 个 | H17: 4 | K17: =IF(H17="",0,H17*I17) -> 0
A18: 注意：本材料表所列管道及设备基础工程量为设计参考值,最终工程量需根据设备中标单位出具的二次深化设计正式成果文件进行调整。
C19: 工艺部分小计 | K19: =SUM(K4:K17) -> 0
A20: 二、标准化泵房改造
B21: 1 | C21: 标准化泵房改造 | D21: 标准化泵房内部修缮改造，内容详见设计图 | G21: m2 | H21: 260
C22: 标准化泵房改造部分小计 | K22: =SUM(K21:K21) -> 0
A23: 三、电气及自控设备
A24: 照明设备 | B24: 1 | C24: 应急照明箱(A型应急照明集中电源) ELD | D24: N-D-0.1kW-36(应急时间90min) | G24: 面 | H24: 1 | J24: 明装,底边距地1.6m | K24: =IF(H24="",0,H24*I24) -> 0
B25: 2 | C25: 应急双管LED支架灯 | D25: LED灯管 2*36W,IP65 3600lm,6000K,Ra>85,COS%%C>0.95 | G25: 套 | H25: 12 | J25: 吊装,装高3.0m 自带蓄电池,应急时间180min | K25: =IF(H25="",0,H25*I25) -> 0
B26: 3 | C26: 双联开关 | D26: 250V.10A,防溅型 | G26: 只 | H26: 4 | J26: 底边距地1.3m(暗装) | K26: =IF(H26="",0,H26*I26) -> 0
B27: 4 | C27: 二+三孔带接地安全插座 | D27: 250V.10A,防溅型 | G27: 只 | H27: 4 | J27: 暗设,底边距地1.5m | K27: =IF(H27="",0,H27*I27) -> 0
B28: 5 | C28: 照明及插座管线 | D28: 详配电系统图及照明、插座平面布置图 | G28: 项 | H28: 1 | K28: =IF(H28="",0,H28*I28) -> 0
B29: 6 | C29: 消防应急照明灯具-壁装(中型) | D29: 7W,DC36V,A型,具有应急照明、巡检、开灯、灭灯功能 | G29: 套 | H29: 8 | J29: 底边距地2.5m,IP65 | K29: =IF(H29="",0,H29*I29) -> 0
B30: 7 | C30: 消防应急标志灯具-安全出口(中型) | D30: 1W,DC36V,A型,具有巡检、常亮、频闪功能 | G30: 套 | H30: 2 | J30: 装于门上方或悬挂安装,IP65 | K30: =IF(H30="",0,H30*I30) -> 0
B31: 8 | C31: 消防应急标志灯具-单面双向(中型) | D31: 1W,DC36V,A型,具有巡检、常亮、频闪功能 | G31: 套 | H31: 2 | J31: 底边距地0.5m,IP65 | K31: =IF(H31="",0,H31*I31) -> 0
A32: 配电设备 | B32: 1 | C32: 泵房主控柜 ZKA | D32: 附件图纸,详见:D-EG-SH-02、K-EG-SH-04、05 注意：本单项报价还应包含自控图K-EG-SH-04、05中的所有设备元件价格。 | G32: 面 | H32: 1 | J32: 柜体采用304不锈钢材质,IP55,落地安装 基础用C30素混凝土垫高300mm 素混凝土基础上采用10#槽钢架高200mm | K32: =IF(H32="",0,H32*I32) -> 0
B33: 2 | C33: 电缆及保护管 | D33: 详:电缆一览表 | G33: 项 | H33: 1 | K33: =IF(H33="",0,H33*I33) -> 0
B34: 3 | C34: 304不锈钢电缆桥架(包括盖板) | D34: 200*100,采用304不锈钢板分隔,控制电缆占宽80mm 壁厚不小于2.0mm | G34: 米 | H34: 1 | J34: 配套所有配件及托臂,均采用304不锈钢材质 | K34: =IF(H34="",0,H34*I34) -> 0
B35: 4 | C35: 接地线 | D35: -40*4扁钢,304不锈钢材质 | G35: 米 | H35: 20 | K35: =IF(H35="",0,H35*I35) -> 0
B36: 5 | C36: 防水防火密封堵料 | G36: 千克 | H36: 3 | K36: =IF(H36="",0,H36*I36) -> 0
A37: 拆除设备 | B37: 1 | C37: 现状照明灯具、电缆及保护管 | G37: 项 | H37: 1 | K37: =IF(H37="",0,H37*I37) -> 0
A38: 自控设备 | B38: 1 | C38: 泵房主控柜 ZKA | D38: 附件图纸,详见:D-EG-SH-02、K-EG-SH-04、05 | G38: 面 | H38: 1 | I38: 此单项不计价，计入配电设备中
B39: 2 | C39: 电磁流量计变送器 FIT1 | D39: 测量口径:DN100,PN=1.6MPa,电源:~220VAC 测量范围:0~50m3/h,配置MODBUS通讯接口 测量精度不低于0.5级 变送器防护等级IP65,传感器防护等级IP68 | G39: 套 | H39: 1 | J39: 检测中区设备出水瞬时流量、累积流量 配套仪表箱(400*300*500),IP55 挂墙安装,底边距地1.1m, 箱体采用304不锈钢材质 | K39: =H39*I39 -> 0
C40: 电磁流量计传感器 FE1
B41: 3 | C41: 一体式超声波液位计 LIT | D41: 0~2m,IP65,输出信号:4~20mA | G41: 套 | H41: 1 | J41: 检测泵房液位 | K41: =IF(H41="",0,H41*I41) -> 0
B42: 4 | C42: 室内高清彩色网络枪机 | D42: 400万像素,带红外、柔光补光、 人形侦测、智能警戒等功能,IP65 | G42: 套 | H42: 2 | J42: 装高3.0m,配套电源等辅件。 | K42: =IF(H42="",0,H42*I42) -> 0
B43: 5 | C43: 室内一体化网络高清球机 | D43: 400万像素,带红外、柔光补光、 人形侦测、智能警戒等功能,IP65 | G43: 套 | H43: 1 | J43: 装高3.0m,配套电源等辅件。 | K43: =IF(H43="",0,H43*I43) -> 0
B44: 6 | C44: 液晶显示器 YJA | D44: 21寸,配15米HDMI线缆,IP55 | G44: 套 | H44: 1 | J44: 挂墙安装,顶边距地1.6m,配套支架 | K44: =IF(H44="",0,H44*I44) -> 0
B45: 7 | C45: 新风系统 | G45: 项 | H45: 1 | K45: =H45*I45 -> 0
B46: 8 | C46: 电缆及保护管 | D46: 详:电缆一览表 | G46: 项 | H46: 1 | K46: =IF(H46="",0,H46*I46) -> 0
B47: 9 | C47: 质保期内网络通讯费 | G47: 项 | H47: 1 | K47: =IF(H47="",0,H47*I47) -> 0
B48: 10 | C48: 防水防火密封堵料 | G48: 千克 | H48: 3 | K48: =IF(H48="",0,H48*I48) -> 0
C49: 电气部分小计 | K49: =SUM(K24:K48) -> 0
C50: 本泵房报价合计 | K50: =K19+K22+K49 -> 0
A75: 锚点(供汇总引用) | C75: =K19 -> 0 | D75: =K22 -> 0 | H75: =K49 -> 0 | K75: =K50 -> 0
A76: 备注： | B76: 请注明报价包含/不包含范围、品牌偏好、供货周期、质保期及是否含安装调试。

Sheet 五金机电城
A1: 五金机电城 清单明细表
A2: 分部 | B2: 序号 | C2: 细项名称 | D2: 规格型号/技术要求 | E2: 材质 | F2: 制造商及品牌 | G2: 单位 | H2: 数量 | I2: 不含税单价(元) | J2: 备注 | K2: 合价(元)
A3: 一、工艺设备
B4: 1 | C4: 不锈钢管 | D4: DN200,δ=3.0mm , PN=1.0MPa | E4: S31603 | G4: m | H4: 12 | K4: =IF(H4="",0,H4*I4) -> 0
B5: 2 | C5: 临时供水费用 | G5: 项 | H5: 1 | K5: =IF(H5="",0,H5*I5) -> 0
B6: 2 | C6: 不锈钢管 | D6: DN150,δ=2.5mm , PN=1.0MPa | E6: S31603 | G6: m | H6: 2 | K6: =IF(H6="",0,H6*I6) -> 0
B7: 3 | C7: 不锈钢管 | D7: DN100,δ=2.0mm , PN=1.6MPa | E7: S31603 | G7: m | H7: 16 | K7: =IF(H7="",0,H7*I7) -> 0
B8: 4 | C8: 正三通 | D8: DN200XDN150 , PN=1.0MPa | E8: S31603 | G8: 个 | H8: 1 | K8: =IF(H8="",0,H8*I8) -> 0
B9: 5 | C9: 不锈钢90°弯头 | D9: DN200,δ=2.8mm PN=1.0MPa | E9: S31603 | G9: 个 | H9: 4 | K9: =IF(H9="",0,H9*I9) -> 0
B10: 6 | C10: 不锈钢90°弯头 | D10: DN150,δ=2.8mm PN=1.6MPa | E10: S31603 | G10: 个 | H10: 2 | K10: =IF(H10="",0,H10*I10) -> 0
B11: 7 | C11: 不锈钢90°弯头 | D11: DN100,δ=2.0mm PN=1.6MPa | E11: S31603 | G11: 个 | H11: 10 | K11: =IF(H11="",0,H11*I11) -> 0
B12: 8 | C12: 法兰片 | D12: DN200,PN=1.0MPa | E12: S31603 | G12: 个 | H12: 6 | K12: =IF(H12="",0,H12*I12) -> 0
B13: 9 | C13: 法兰片 | D13: DN150,PN=1.0MPa | E13: S31603 | G13: 个 | H13: 4 | K13: =IF(H13="",0,H13*I13) -> 0
B14: 10 | C14: 法兰片 | D14: DN100,PN=1.6MPa | E14: S31603 | G14: 个 | H14: 16 | K14: =IF(H14="",0,H14*I14) -> 0
B15: 11 | C15: 手自一体电动蝶阀 | D15: DN200,PN=1.0MPa,D943H | E15: S30408 | G15: 个 | H15: 1 | K15: =IF(H15="",0,H15*I15) -> 0
B16: 12 | C16: 手自一体电动蝶阀 | D16: DN150,PN=1.0MPa,D943H | E16: S30408 | G16: 个 | H16: 2 | K16: =IF(H16="",0,H16*I16) -> 0
B17: 13 | C17: 手自一体电动蝶阀 | D17: DN100,PN=1.6MPa,D943H | E17: S30408 | G17: 个 | H17: 2 | K17: =IF(H17="",0,H17*I17) -> 0
... B25: 23 | C25: 倒流防止器 | D25: DN150,PN=1.0MPa | E25: S30408 | G25: 个 | H25: 2 | K25: =IF(H25="",0,H25*I25) -> 0
B26: 24 | C26: 灭火器 | D26: MF/ABC5 | G26: 具 | H26: 2 | K26: =IF(H26="",0,H26*I26) -> 0
B27: 25 | C27: 拆除原管道 | D27: 钢管DN100 | E27: 钢制 | G27: m | H27: 50 | K27: =IF(H27="",0,H27*I27) -> 0
B28: 26 | C28: 橡胶隔振垫 | G28: 个 | H28: 16 | K28: =IF(H28="",0,H28*I28) -> 0
B29: 27 | C29: 柔性防水套管 | G29: 个 | H29: 3 | K29: =IF(H29="",0,H29*I29) -> 0
A30: 注意：本材料表所列管道及设备基础工程量为设计参考值,最终工程量需根据设备中标单位出具的二次深化设计正式成果文件进行调整。
C31: 工艺部分小计 | K31: =SUM(K4:K29) -> 0
A32: 二、标准化泵房改造
B33: 1 | C33: 标准化泵房改造 | D33: 标准化泵房内部修缮改造，内容详见设计图 | G33: m2 | H33: 55
C34: 标准化泵房改造部分小计 | K34: =SUM(K33:K33) -> 0
A35: 三、电气及自控设备
A36: 照明设备 | B36: 1 | C36: 应急照明箱(A型应急照明集中电源) ELD | D36: N-D-0.1kW-36(应急时间90min) | G36: 面 | H36: 1 | J36: 明装,底边距地1.6m | K36: =IF(H36="",0,H36*I36) -> 0
B37: 2 | C37: 应急双管LED支架灯 | D37: LED灯管 2*20W,IP65 2000lm,6000K,Ra>85,COS%%C>0.95 | G37: 套 | H37: 4 | J37: 吊装,装高3.0m 自带蓄电池,应急时间180min | K37: =IF(H37="",0,H37*I37) -> 0
B38: 3 | C38: 双联开关 | D38: 250V.10A,防溅型 | G38: 只 | H38: 1 | J38: 底边距地1.3m(暗装) | K38: =IF(H38="",0,H38*I38) -> 0
B39: 4 | C39: 二+三孔带接地安全插座 | D39: 250V.10A,防溅型 | G39: 只 | H39: 2 | J39: 暗设,底边距地1.5m | K39: =IF(H39="",0,H39*I39) -> 0
B40: 5 | C40: 照明及插座管线 | D40: 详配电系统图及照明、插座平面布置图 | G40: 项 | H40: 1 | K40: =IF(H40="",0,H40*I40) -> 0
B41: 6 | C41: 消防应急照明灯具-壁装(中型) | D41: 7W,DC36V,A型,具有应急照明、巡检、开灯、灭灯功能 | G41: 套 | H41: 5 | J41: 底边距地2.5m,IP65 | K41: =IF(H41="",0,H41*I41) -> 0
B42: 7 | C42: 消防应急标志灯具-安全出口(中型) | D42: 1W,DC36V,A型,具有巡检、常亮、频闪功能 | G42: 套 | H42: 2 | J42: 装于门上方或悬挂安装,IP65 | K42: =IF(H42="",0,H42*I42) -> 0
A43: 配电设备 | B43: 1 | C43: 泵房主控柜 ZKA | D43: 附件图纸,详见:D-EG-WJ-02、K-EG-WJ-04、05 注意：本单项报价还应包含自控图K-EG-WJ-04、05中的所有设备元件价格。 | G43: 面 | H43: 1 | J43: 柜体采用304不锈钢材质,IP55,落地安装 基础用C30素混凝土垫高300mm 素混凝土基础上采用10#槽钢架高200mm | K43: =IF(H43="",0,H43*I43) -> 0
B44: 2 | C44: 电缆及保护管 | D44: 详:电缆一览表 | G44: 项 | H44: 1 | K44: =IF(H44="",0,H44*I44) -> 0
B45: 3 | C45: 304不锈钢电缆桥架(包括盖板) | D45: 200*100,采用304不锈钢板分隔,控制电缆占宽80mm 壁厚不小于2.0mm | G45: 米 | H45: 11 | J45: 配套所有配件及托臂,均采用304不锈钢材质 | K45: =IF(H45="",0,H45*I45) -> 0
B46: 4 | C46: 304不锈钢电缆桥架(包括盖板) | D46: 100*50,采用304不锈钢板分隔,控制电缆占宽50mm 壁厚不小于2.0mm | G46: 米 | H46: 3 | J46: 配套所有配件及托臂,均采用304不锈钢材质 | K46: =IF(H46="",0,H46*I46) -> 0
B47: 5 | C47: 接地线 | D47: -40*4扁钢,304不锈钢材质 | G47: 米 | H47: 20 | K47: =IF(H47="",0,H47*I47) -> 0
B48: 6 | C48: 防水防火密封堵料 | G48: 千克 | H48: 3 | K48: =IF(H48="",0,H48*I48) -> 0
A49: 拆除设备 | B49: 1 | C49: 现状照明灯具、电缆及保护管 | G49: 项 | H49: 1 | K49: =IF(H49="",0,H49*I49) -> 0
A50: 自控设备 | B50: 1 | C50: 泵房主控柜 ZKA | D50: 附件图纸,详见:D-EG-WJ-02、K-EG-WJ-04、05 | G50: 面 | H50: 1 | I50: 此单项不计价，计入配电设备中
B51: 2 | C51: 电磁流量计变送器 FIT1 | D51: 测量口径:DN200,PN=1.0MPa,电源:~220VAC 测量范围:0~100m3/h,配置MODBUS通讯接口 测量精度不低于0.5级 变送器防护等级IP65,传感器防护等级IP68 | G51: 套 | H51: 1 | J51: 检测泵房进水总管瞬时流量、累积流量 配套仪表箱(400*300*500),IP55 挂墙安装,底边距地1.1m, 箱体采用304不锈钢材质 | K51: =H51*I51 -> 0
C52: 电磁流量计传感器 FE1
B53: 3 | C53: 电磁流量计变送器 FIT11 | D53: 测量口径:DN100,PN=1.6MPa,电源:~220VAC 测量范围:0~50m3/h,配置MODBUS通讯接口 测量精度不低于0.5级 变送器防护等级IP65,传感器防护等级IP68 | G53: 套 | H53: 1 | J53: 检测中区设备1出水瞬时流量、累积流量 配套仪表箱(400*300*500),IP55 挂墙安装,底边距地1.1m, 箱体采用304不锈钢材质 | K53: =H53*I53 -> 0
C54: 电磁流量计传感器 FE11
B55: 4 | C55: 电磁流量计变送器 FIT21 | D55: 测量口径:DN100,PN=1.6MPa,电源:~220VAC 测量范围:0~50m3/h,配置MODBUS通讯接口 测量精度不低于0.5级 变送器防护等级IP65,传感器防护等级IP68 | G55: 套 | H55: 1 | J55: 检测中区设备2出水瞬时流量、累积流量 配套仪表箱(400*300*500),IP55 挂墙安装,底边距地1.1m, 箱体采用304不锈钢材质 | K55: =H55*I55 -> 0
C56: 电磁流量计传感器 FE21
B57: 5 | C57: 一体式超声波液位计 LIT | D57: 0~2m,IP65,输出信号:4~20mA | G57: 套 | H57: 1 | J57: 检测泵房液位 | K57: =IF(H57="",0,H57*I57) -> 0
B58: 6 | C58: 室内高清彩色网络枪机 | D58: 400万像素,带红外、柔光补光、 人形侦测、智能警戒等功能,IP65 | G58: 套 | H58: 1 | J58: 装高3.0m,配套电源等辅件。 | K58: =IF(H58="",0,H58*I58) -> 0
B59: 7 | C59: 室内一体化网络高清球机 | D59: 400万像素,带红外、柔光补光、 人形侦测、智能警戒等功能,IP65 | G59: 套 | H59: 1 | J59: 装高3.0m,配套电源等辅件。 | K59: =IF(H59="",0,H59*I59) -> 0
B60: 8 | C60: 液晶显示器 YJA | D60: 21寸,配15米HDMI线缆,IP55 | G60: 套 | H60: 1 | J60: 挂墙安装,顶边距地1.6m,配套支架 | K60: =IF(H60="",0,H60*I60) -> 0
B61: 9 | C61: 电缆及保护管 | D61: 详:电缆一览表 | G61: 项 | H61: 1 | K61: =IF(H61="",0,H61*I61) -> 0
B62: 10 | C62: 新风系统 | G62: 项 | H62: 1 | K62: =H62*I62 -> 0
B63: 11 | C63: 质保期内网络通讯费 | G63: 项 | H63: 1 | K63: =IF(H63="",0,H63*I63) -> 0
B64: 12 | C64: 防水防火密封堵料 | G64: 千克 | H64: 3 | K64: =IF(H64="",0,H64*I64) -> 0
C65: 电气部分小计 | K65: =SUM(K36:K64) -> 0
C66: 本泵房报价合计 | K66: =K31+K34+K65 -> 0
A91: 锚点(供汇总引用) | C91: =K31 -> 0 | D91: =K34 -> 0 | H91: =K65 -> 0 | K91: =K66 -> 0
A92: 备注： | B92: 请注明报价包含/不包含范围、品牌偏好、供货周期、质保期及是否含安装调试。

Sheet 元一花园
A1: 元一花园 清单明细表
A2: 分部 | B2: 序号 | C2: 细项名称 | D2: 规格型号/技术要求 | E2: 材质 | F2: 制造商及品牌 | G2: 单位 | H2: 数量 | I2: 不含税单价(元) | J2: 备注 | K2: 合价(元)
A3: 一、工艺设备
B4: 1 | C4: 成套加压供水设备 （核心产品） | D4: Q=16m3/h,H=68m,单泵功率4kw, 供水设备流量:16m3/h(水泵两用一备,单泵流量8m3/h,单泵功率4KW), 设备出口压力设置为0.78MPa,设备进口市政动压力约为0.3MPa, 采用全变频无负压供水加压设备，设备应具有实时显示流量、压力功能。 | E4: S31603 | G4: 套 | H4: 1 | K4: =IF(H4="",0,H4*I4) -> 0
B5: 2 | C5: 临时供水费用 | G5: 项 | H5: 1 | K5: =IF(H5="",0,H5*I5) -> 0
B6: 2 | C6: 不锈钢管 | D6: DN100,δ=2.0mm,Pn=1.0MPa | E6: S31603 | G6: m | H6: 30 | K6: =IF(H6="",0,H6*I6) -> 0
B7: 3 | C7: 不锈钢90°弯头 | D7: DN100,δ=2.0mm,Pn=1.0MPa | E7: S31603 | G7: 个 | H7: 5 | K7: =IF(H7="",0,H7*I7) -> 0
B8: 4 | C8: 法兰片 | D8: DN100,P=1.0MPa | E8: S31603 | G8: 个 | H8: 12 | K8: =IF(H8="",0,H8*I8) -> 0
B9: 5 | C9: 手自一体电动蝶阀 | D9: DN100,P=1.0MPa,Z945X | E9: S30408 | G9: 个 | H9: 2 | K9: =IF(H9="",0,H9*I9) -> 0
B10: 6 | C10: 不锈钢波纹管 | D10: DN100,P=1.0MPa | E10: S30408 | G10: 个 | H10: 2 | K10: =IF(H10="",0,H10*I10) -> 0
B11: 7 | C11: Y型过滤器 | D11: DN100,P=1.0MPa | E11: S30408 | G11: 个 | H11: 1 | K11: =IF(H11="",0,H11*I11) -> 0
B12: 8 | C12: 倒流防止器 | D12: DN100,P=1.0MPa | E12: S30408 | G12: 个 | H12: 1 | K12: =IF(H12="",0,H12*I12) -> 0
B13: 10 | C13: 自动排气阀 | D13: DN25,P=1.0MPa | E13: S30408 | G13: 个 | H13: 1 | K13: =IF(H13="",0,H13*I13) -> 0
B14: 11 | C14: 拆除原设备基础 | D14: 1700x2300x200 | E14: 混凝土 | G14: m 3 | H14: 0.78 | K14: =IF(H14="",0,H14*I14) -> 0
B15: 12 | C15: 灭火器 | D15: MF/ABC5 | G15: 个 | H15: 1 | K15: =IF(H15="",0,H15*I15) -> 0
B16: 13 | C16: 压力表 | D16: DN15,P=1.0MPa 安装于进水 | E16: S30408 | G16: 个 | H16: 1 | K16: =IF(H16="",0,H16*I16) -> 0
B17: 14 | C17: 水锤吸纳器 | D17: DN100,P=1.0MPa | E17: S30408 | G17: 个 | H17: 1 | K17: =IF(H17="",0,H17*I17) -> 0
B18: 15 | C18: 拆除原管道 | D18: 钢管DN100 | E18: 钢制 | G18: m | H18: 20 | K18: =IF(H18="",0,H18*I18) -> 0
B19: 16 | C19: 柔性防水套管(B型) | D19: DN100 | G19: 个 | H19: 2 | K19: =IF(H19="",0,H19*I19) -> 0
A20: 注意：本材料表所列管道及设备基础工程量为设计参考值,最终工程量需根据设备中标单位出具的二次深化设计正式成果文件进行调整。
C21: 工艺部分小计 | K21: =SUM(K4:K19) -> 0
A22: 二、标准化泵房改造
B23: 1 | C23: 标准化泵房改造 | D23: 标准化泵房内部修缮改造，内容详见设计图 | G23: m2 | H23: 65 | K23: =IF(H23="",0,H23*I23) -> 0
C24: 标准化泵房改造部分小计 | K24: =SUM(K23:K23) -> 0
A25: 三、电气及自控设备
A26: 照明设备 | B26: 1 | C26: 应急照明箱(A型应急照明集中电源) ELD | D26: N-D-0.1kW-36(应急时间90min) | G26: 面 | H26: 1 | J26: 明装,底边距地1.6m | K26: =IF(H26="",0,H26*I26) -> 0
B27: 2 | C27: 应急LED泛光灯 | D27: 配36W LED灯,IP65 3600lm,6000K,Ra>85,COS%%C>0.95 | G27: 套 | H27: 6 | J27: 壁装,装高3.0m 自带蓄电池,应急时间180min | K27: =IF(H27="",0,H27*I27) -> 0
B28: 3 | C28: 三联开关 | D28: 250V.10A,防溅型 | G28: 只 | H28: 1 | J28: 底边距地1.3m(暗装) | K28: =IF(H28="",0,H28*I28) -> 0
B29: 4 | C29: 二+三孔带接地安全插座 | D29: 250V.10A,防溅型 | G29: 只 | H29: 2 | J29: 暗设,底边距地1.5m | K29: =IF(H29="",0,H29*I29) -> 0
B30: 5 | C30: 照明及插座管线 | D30: 详配电系统图及照明、插座平面布置图 | G30: 项 | H30: 1 | K30: =IF(H30="",0,H30*I30) -> 0
B31: 6 | C31: 消防应急照明灯具-壁装(大型) | D31: 7W,DC36V,A型,具有应急照明、巡检、开灯、灭灯功能 | G31: 套 | H31: 7 | J31: 底边距地2.5m,IP65 | K31: =IF(H31="",0,H31*I31) -> 0
B32: 7 | C32: 消防应急标志灯具-安全出口(大型) | D32: 1W,DC36V,A型,具有巡检、常亮、频闪功能 | G32: 套 | H32: 1 | J32: 装于门上方或悬挂安装,IP65 | K32: =IF(H32="",0,H32*I32) -> 0
B33: 8 | C33: 消防应急标志灯具-单面右向(大型) | D33: 1W,DC36V,A型,具有巡检、常亮、频闪功能 | G33: 套 | H33: 1 | J33: 底边距地0.5m,IP65 | K33: =IF(H33="",0,H33*I33) -> 0
B34: 9 | C34: 消防应急标志灯具-单面左向(大型) | D34: 1W,DC36V,A型,具有巡检、常亮、频闪功能 | G34: 套 | H34: 1 | J34: 底边距地0.5m,IP65 | K34: =IF(H34="",0,H34*I34) -> 0
A35: 配电设备 | B35: 1 | C35: 配电控制柜 DLA | D35: 附件图纸,详见:D-EG-YY-02 | G35: 面 | H35: 1 | J35: 柜体采用304不锈钢材质,IP55,落地安装 基础用C30素混凝土垫高300mm 素混凝土基础上采用10#槽钢架高200mm | K35: =IF(H35="",0,H35*I35) -> 0
B36: 2 | C36: 电缆及保护管 | D36: 详:电缆一览表 | G36: 项 | H36: 1 | K36: =IF(H36="",0,H36*I36) -> 0
B37: 3 | C37: 304不锈钢电缆桥架(包括盖板) | D37: 200*100,采用304不锈钢板分隔,控制电缆占宽80mm 壁厚不小于2.0mm | G37: 米 | H37: 22 | J37: 配套所有配件及托臂,均采用304不锈钢材质 | K37: =IF(H37="",0,H37*I37) -> 0
B38: 4 | C38: 304不锈钢电缆桥架(包括盖板) | D38: 50*25,壁厚不小于2.0mm | G38: 米 | H38: 22 | J38: 配套所有配件及托臂,均采用304不锈钢材质 | K38: =IF(H38="",0,H38*I38) -> 0
B39: 5 | C39: 总等电位联结箱 | D39: 详15D502 | G39: 面 | H39: 1 | J39: 底边距地0.3m(暗装) | K39: =IF(H39="",0,H39*I39) -> 0
B40: 6 | C40: 接地线 | D40: -40*4扁钢,304不锈钢材质 | G40: 米 | H40: 35 | K40: =IF(H40="",0,H40*I40) -> 0
B41: 7 | C41: 防水防火密封堵料 | G41: 千克 | H41: 5 | K41: =IF(H41="",0,H41*I41) -> 0
A42: 拆除设备 | B42: 1 | C42: 水泵配电控制柜,700*600*1800mm | G42: 面 | H42: 1 | K42: =IF(H42="",0,H42*I42) -> 0
B43: 2 | C43: 生活水泵配电箱,600*400*800mm | G43: 面 | H43: 1 | K43: =IF(H43="",0,H43*I43) -> 0
B44: 3 | C44: 电缆及保护管 | G44: 项 | H44: 1 | J44: 现状水泵机组相关电缆、保护管 | K44: =IF(H44="",0,H44*I44) -> 0
B45: 4 | C45: 现状照明灯具、电缆及保护管 | G45: 项 | H45: 1 | K45: =IF(H45="",0,H45*I45) -> 0
A46: 自控设备 | B46: 1 | C46: 泵房主控柜ZKA | D46: 附件图纸,详见:K-EG-YY-04、05 | G46: 面 | H46: 1 | J46: 柜体采用304不锈钢材质,IP55,落地安装 | K46: =IF(H46="",0,H46*I46) -> 0
B47: 2 | C47: 成套中区水泵变频控制系统 | D47: 厂家配套提供并安装 | G47: 项 | H47: 1 | J47: 基础用C30素混凝土垫高300mm | K47: =H47*I47 -> 0
B48: 2.1 | C48: 成套中区水泵控制柜 ZPA | D48: 内设PLC控制系统、触摸屏及其它电气元器件等, PLC应预留以太网及RS485通讯接口。 | G48: 面 | H48: 1
B49: 2.2 | C49: 网络交换机 | D49: 4个RJ45口(千兆) | G49: 台 | H49: 1
B50: 2.3 | C50: 检测仪表 | D50: 含压力变送器及其它必要的检测仪表 | G50: 项 | H50: 1
B51: 2.4 | C51: 控制柜至设备电缆 | D51: 厂家配套提供并安装 | G51: 项 | H51: 1
B52: 2.5 | C52: 现场电缆保护管 | D52: 热镀锌钢管,厂家配套提供并安装 | G52: 套 | H52: 1
B53: 3 | C53: 电磁流量计变送器 FIT1 | D53: 测量口径:DN100,PN=1.0MPa,电源:~220VAC 测量范围:0~50m3/h,配置MODBUS通讯接口 测量精度不低于0.5级 变送器防护等级IP65,传感器防护等级IP68 | G53: 套 | H53: 1 | J53: 检测泵房出水瞬时流量、累积流量 配套仪表箱(400*300*500),IP55 挂墙安装,底边距地1.1m, 箱体采用304不锈钢材质 | K53: =H53*I53 -> 0
C54: 电磁流量计传感器 FE1
B55: 4 | C55: 一体式超声波液位计 LIT | D55: 0~2m,IP65,输出信号:4~20mA | G55: 套 | H55: 1 | J55: 检测泵房液位 | K55: =IF(H55="",0,H55*I55) -> 0
B56: 5 | C56: 室内高清彩色网络枪机 | D56: 400万像素,带红外、柔光补光、 人形侦测、智能警戒等功能,IP65 | G56: 套 | H56: 1 | J56: 装高3.0m,配套电源等辅件。 | K56: =IF(H56="",0,H56*I56) -> 0
B57: 6 | C57: 室内一体化网络高清球机 | D57: 400万像素,带红外、柔光补光、 人形侦测、智能警戒等功能,IP65 | G57: 套 | H57: 1 | J57: 装高3.0m,配套电源等辅件。 | K57: =IF(H57="",0,H57*I57) -> 0
B58: 7 | C58: 液晶显示器 YJA | D58: 21寸,配15米HDMI线缆,IP55 | G58: 套 | H58: 1 | J58: 挂墙安装,顶边距地1.6m,配套支架 | K58: =IF(H58="",0,H58*I58) -> 0
B59: 8 | C59: 电缆及保护管 | D59: 详:电缆一览表 | G59: 项 | H59: 1 | K59: =IF(H59="",0,H59*I59) -> 0
B60: 9 | C60: 新风系统 | G60: 项 | H60: 1 | K60: =H60*I60 -> 0
B61: 10 | C61: 质保期内网络通讯费 | G61: 项 | H61: 1 | K61: =IF(H61="",0,H61*I61) -> 0
B62: 11 | C62: 防水防火密封堵料 | G62: 千克 | H62: 5 | K62: =IF(H62="",0,H62*I62) -> 0
C63: 电气部分小计 | K63: =SUM(K26:K62) -> 0
C64: 本泵房报价合计 | K64: =K21+K24+K63 -> 0
A89: 锚点(供汇总引用) | C89: =K21 -> 0 | D89: =K24 -> 0 | H89: =K63 -> 0 | K89: =K64 -> 0
A90: 备注： | B90: 请注明报价包含/不包含范围、品牌偏好、供货周期、质保期及是否含安装调试。

Sheet 江滨豪园
A1: 江滨豪园 清单明细表
A2: 分部 | B2: 序号 | C2: 细项名称 | D2: 规格型号/技术要求 | E2: 材质 | F2: 制造商及品牌 | G2: 单位 | H2: 数量 | I2: 不含税单价(元) | J2: 备注 | K2: 合价(元)
A3: 一、工艺设备
B4: 1 | C4: 不锈钢管 | D4: DN200,δ=3.0mm,Pn=1.0MPa | E4: S31603 | G4: m | H4: 10 | K4: =IF(H4="",0,H4*I4) -> 0
B5: 2 | C5: 临时供水费用 | G5: 项 | H5: 1 | K5: =IF(H5="",0,H5*I5) -> 0
B6: 2 | C6: 不锈钢管 | D6: DN150,δ=2.5mm,Pn=1.0MPa | E6: S31603 | G6: m | H6: 18 | K6: =IF(H6="",0,H6*I6) -> 0
B7: 3 | C7: 法兰片 | D7: DN200,Pn=1.0MPa | E7: S31603 | G7: 个 | H7: 8 | K7: =IF(H7="",0,H7*I7) -> 0
B8: 4 | C8: 法兰片 | D8: DN100,Pn=1.6MPa | E8: S31603 | G8: 个 | H8: 12 | K8: =IF(H8="",0,H8*I8) -> 0
B9: 5 | C9: 手自一体电动蝶阀 | D9: DN200,Pn=1.0MPa,D943H | E9: S30408 | G9: 个 | H9: 3 | K9: =IF(H9="",0,H9*I9) -> 0
B10: 6 | C10: 手自一体电动蝶阀 | D10: DN150,Pn=1.0MPa,D943H | E10: S30408 | G10: 个 | H10: 1 | K10: =IF(H10="",0,H10*I10) -> 0
B11: 7 | C11: 手自一体电动蝶阀 | D11: DN150,Pn=1.6MPa,D943H | E11: S30408 | G11: 个 | H11: 1 | K11: =IF(H11="",0,H11*I11) -> 0
B12: 8 | C12: 不锈钢90°弯头 | D12: DN200,δ=2.8mm,Pn=1.0MPa | E12: S31603 | G12: 个 | H12: 3 | K12: =IF(H12="",0,H12*I12) -> 0
B13: 9 | C13: 不锈钢90°弯头 | D13: DN100,δ=2.0mm,Pn=1.0MPa | E13: S31603 | G13: 个 | H13: 2 | K13: =IF(H13="",0,H13*I13) -> 0
B14: 10 | C14: 不锈钢波纹管 | D14: DN200,Pn=1.0MPa | E14: S30408 | G14: 个 | H14: 2 | K14: =IF(H14="",0,H14*I14) -> 0
B15: 11 | C15: 不锈钢波纹管 | D15: DN100,Pn=1.0MPa | E15: S30408 | G15: 个 | H15: 1 | K15: =IF(H15="",0,H15*I15) -> 0
B16: 12 | C16: 不锈钢波纹管 | D16: DN100,Pn=1.6MPa | E16: S30408 | G16: 个 | H16: 1 | K16: =IF(H16="",0,H16*I16) -> 0
B17: 13 | C17: Y型过滤器 | D17: DN200,Pn=1.0MPa | G17: 个 | H17: 1 | K17: =IF(H17="",0,H17*I17) -> 0
B18: 15 | C18: 倒流防止器 | D18: DN200,Pn=1.0MPa | G18: 个 | H18: 2 | K18: =IF(H18="",0,H18*I18) -> 0
B19: 19 | C19: 自动排气阀 | D19: DN25 | E19: S30408 | G19: 个 | H19: 2 | K19: =IF(H19="",0,H19*I19) -> 0
B20: 20 | C20: 水锤吸纳器 | D20: DN150,Pn=1.0MPa | E20: SUS304 | G20: 个 | H20: 1 | K20: =IF(H20="",0,H20*I20) -> 0
B21: 21 | C21: 水锤吸纳器 | D21: DN150,Pn=1.6MPa | E21: SUS304 | G21: 个 | H21: 1 | K21: =IF(H21="",0,H21*I21) -> 0
B22: 22 | C22: 拆除原管道 | D22: 钢管DN200 | E22: 钢制 | G22: m | H22: 11 | K22: =IF(H22="",0,H22*I22) -> 0
B23: 23 | C23: 拆除原管道 | D23: 钢管DN100 | E23: 钢制 | G23: m | H23: 18 | K23: =IF(H23="",0,H23*I23) -> 0
B24: 24 | C24: 灭火器 | D24: MF/ABC5 | G24: 个 | H24: 1 | K24: =IF(H24="",0,H24*I24) -> 0
B25: 25 | C25: 柔性防水套管 | D25: DN150 | G25: 个 | H25: 2 | K25: =IF(H25="",0,H25*I25) -> 0
B26: 26 | C26: 柔性防水套管 | D26: DN200 | G26: 个 | H26: 1 | K26: =IF(H26="",0,H26*I26) -> 0
B27: 27 | C27: 橡胶隔振垫 | D27: 用于现状设备机组 | G27: 个 | H27: 8 | K27: =IF(H27="",0,H27*I27) -> 0
A28: 注意：本材料表所列管道及设备基础工程量为设计参考值,最终工程量需根据设备中标单位出具的二次深化设计正式成果文件进行调整。
C29: 工艺部分小计 | K29: =SUM(K4:K27) -> 0
A30: 二、标准化泵房改造
B31: 1 | C31: 标准化泵房改造 | D31: 标准化泵房内部修缮改造，内容详见设计图 | G31: m2 | H31: 70 | K31: =IF(H31="",0,H31*I31) -> 0
C32: 标准化泵房改造部分小计 | K32: =SUM(K31:K31) -> 0
A33: 三、电气及自控设备
A34: 照明设备 | B34: 1 | C34: 应急照明箱(A型应急照明集中电源) ELD | D34: N-D-0.1kW-36(应急时间90min) | G34: 面 | H34: 1 | J34: 明装,底边距地1.6m | K34: =IF(H34="",0,H34*I34) -> 0
B35: 2 | C35: 应急LED泛光灯 | D35: 配50W LED灯,IP65 5000lm,6000K,Ra>85,COS%%C>0.95 | G35: 套 | H35: 5 | J35: 壁装,装高3.0m 自带蓄电池,应急时间180min | K35: =IF(H35="",0,H35*I35) -> 0
B36: 3 | C36: 单(双)联开关 | D36: 250V.10A,防溅型 | G36: 只 | H36: 2 | J36: 底边距地1.3m(暗装) | K36: =IF(H36="",0,H36*I36) -> 0
B37: 4 | C37: 二+三孔带接地安全插座 | D37: 250V.10A,防溅型 | G37: 只 | H37: 2 | J37: 暗设,底边距地1.5m | K37: =IF(H37="",0,H37*I37) -> 0
B38: 5 | C38: 照明及插座管线 | D38: 详配电系统图及照明、插座平面布置图 | G38: 项 | H38: 1 | K38: =IF(H38="",0,H38*I38) -> 0
B39: 6 | C39: 消防应急照明灯具-壁装(中型) | D39: 7W,DC36V,A型,具有应急照明、巡检、开灯、灭灯功能 | G39: 套 | H39: 6 | J39: 底边距地2.5m,IP65 | K39: =IF(H39="",0,H39*I39) -> 0
B40: 7 | C40: 消防应急标志灯具-安全出口(中型) | D40: 1W,DC36V,A型,具有巡检、常亮、频闪功能 | G40: 套 | H40: 2 | J40: 装于门上方或悬挂安装,IP65 | K40: =IF(H40="",0,H40*I40) -> 0
A41: 配电设备 | B41: 1 | C41: 泵房主控柜 ZKA | D41: 附件图纸,详见:D-EG-JB-02、K-EG-JB-04、05 注意：本单项报价还应包含自控图K-EG-JB-04、05中的所有设备元件价格。 | G41: 面 | H41: 1 | J41: 柜体采用304不锈钢材质,IP55,落地安装 基础用C30素混凝土垫高300mm 素混凝土基础上采用10#槽钢架高200mm | K41: =IF(H41="",0,H41*I41) -> 0
B42: 2 | C42: 电缆及保护管 | D42: 详:电缆一览表 | G42: 项 | H42: 1 | K42: =IF(H42="",0,H42*I42) -> 0
B43: 3 | C43: 304不锈钢电缆桥架(包括盖板) | D43: 200*100,采用304不锈钢板分隔,控制电缆占宽80mm 壁厚不小于2.0mm | G43: 米 | H43: 12 | J43: 配套所有配件及托臂,均采用304不锈钢材质 | K43: =IF(H43="",0,H43*I43) -> 0
B44: 4 | C44: 接地线 | D44: -40*4扁钢,304不锈钢材质 | G44: 米 | H44: 20 | K44: =IF(H44="",0,H44*I44) -> 0
B45: 5 | C45: 防水防火密封堵料 | G45: 千克 | H45: 3 | K45: =IF(H45="",0,H45*I45) -> 0
A46: 拆除设备 | B46: 1 | C46: 现状照明灯具、电缆及保护管 | G46: 项 | H46: 1 | K46: =IF(H46="",0,H46*I46) -> 0
A47: 自控设备 | B47: 1 | C47: 泵房主控柜 ZKA | D47: 附件图纸,详见:D-EG-JB-02、K-EG-JB-04、05 | G47: 面 | H47: 1 | I47: 此单项不计价，计入配电设备中
B48: 2 | C48: 电磁流量计变送器 FIT1 | D48: 测量口径:DN200,PN=1.0MPa,电源:~220VAC 测量范围:0~90m3/h,配置MODBUS通讯接口 测量精度不低于0.5级 变送器防护等级IP65,传感器防护等级IP68 | G48: 套 | H48: 1 | J48: 检测泵房进水总管瞬时流量、累积流量 配套仪表箱(400*300*500),IP55 挂墙安装,底边距地1.1m, 箱体采用304不锈钢材质 | K48: =H48*I48 -> 0
C49: 电磁流量计传感器 FE1
B50: 3 | C50: 电磁流量计变送器 FIT11 | D50: 测量口径:DN150,PN=1.0MPa,电源:~220VAC 测量范围:0~60m3/h,配置MODBUS通讯接口 测量精度不低于0.5级 变送器防护等级IP65,传感器防护等级IP68 | G50: 套 | H50: 1 | J50: 检测中区设备出水瞬时流量、累积流量 配套仪表箱(400*300*500),IP55 挂墙安装,底边距地1.1m, 箱体采用304不锈钢材质 | K50: =H50*I50 -> 0
C51: 电磁流量计传感器 FE11
B52: 4 | C52: 电磁流量计变送器 FIT21 | D52: 测量口径:DN150,PN=1.6MPa,电源:~220VAC 测量范围:0~60m3/h,配置MODBUS通讯接口 测量精度不低于0.5级 变送器防护等级IP65,传感器防护等级IP68 | G52: 套 | H52: 1 | J52: 检测高区设备出水瞬时流量、累积流量 配套仪表箱(400*300*500),IP55 挂墙安装,底边距地1.1m, 箱体采用304不锈钢材质 | K52: =H52*I52 -> 0
C53: 电磁流量计传感器 FE21
B54: 5 | C54: 一体式超声波液位计 LIT | D54: 0~2m,IP65,输出信号:4~20mA | G54: 套 | H54: 1 | J54: 检测泵房液位 | K54: =IF(H54="",0,H54*I54) -> 0
B55: 6 | C55: 室内一体化网络高清球机 | D55: 400万像素,带红外、柔光补光、 人形侦测、智能警戒等功能,IP65 | G55: 套 | H55: 1 | J55: 装高3.0m,配套电源等辅件。 | K55: =IF(H55="",0,H55*I55) -> 0
B56: 9 | C56: 新风系统 | G56: 项 | H56: 1 | K56: =H56*I56 -> 0
B57: 7 | C57: 液晶显示器YJA | D57: 21寸,配15米HDMI线缆,IP55 | G57: 套 | H57: 1 | J57: 挂墙安装,顶边距地1.6m,配套支架 | K57: =IF(H57="",0,H57*I57) -> 0
B58: 8 | C58: 电缆及保护管 | D58: 详:电缆一览表 | G58: 项 | H58: 1 | K58: =IF(H58="",0,H58*I58) -> 0
B59: 9 | C59: 质保期内网络通讯费 | G59: 项 | H59: 1 | K59: =IF(H59="",0,H59*I59) -> 0
B60: 10 | C60: 防水防火密封堵料 | G60: 千克 | H60: 3 | K60: =IF(H60="",0,H60*I60) -> 0
C61: 电气部分小计 | K61: =SUM(K34:K60) -> 0
C62: 本泵房报价合计 | K62: =K29+K32+K61 -> 0
A87: 锚点(供汇总引用) | C87: =K29 -> 0 | D87: =K32 -> 0 | H87: =K61 -> 0 | K87: =K62 -> 0
A88: 备注： | B88: 请注明报价包含/不包含范围、品牌偏好、供货周期、质保期及是否含安装调试。

Sheet 山水御园
A1: 山水御园 清单明细表
A2: 分部 | B2: 序号 | C2: 细项名称 | D2: 规格型号/技术要求 | E2: 材质 | F2: 制造商及品牌 | G2: 单位 | H2: 数量 | I2: 不含税单价(元) | J2: 备注 | K2: 合价(元)
A3: 一、工艺设备
B4: 1 | C4: 不锈钢管 | D4: DN300,δ=4.0mm,Pn=1.0MPa | E4: S31603 | G4: m | H4: 17 | K4: =IF(H4="",0,H4*I4) -> 0
B5: 2 | C5: 临时供水费用 | G5: 项 | H5: 1 | K5: =IF(H5="",0,H5*I5) -> 0
B6: 2 | C6: 不锈钢管 | D6: DN200,δ=3.0mm,Pn=1.0MPa | E6: S31603 | G6: m | H6: 10 | K6: =IF(H6="",0,H6*I6) -> 0
B7: 3 | C7: 不锈钢管 | D7: DN150,δ=2.5mm,Pn=1.0MPa | E7: S31603 | G7: m | H7: 32 | K7: =IF(H7="",0,H7*I7) -> 0
B8: 4 | C8: 不锈钢管 | D8: DN150,δ=2.5mm,Pn=1.6MPa | E8: S31603 | G8: m | H8: 57 | K8: =IF(H8="",0,H8*I8) -> 0
B9: 5 | C9: 不锈钢管 | D9: DN100,δ=2.0mm,Pn=1.6MPa | E9: S31603 | G9: m | H9: 15 | K9: =IF(H9="",0,H9*I9) -> 0
B10: 6 | C10: 法兰片 | D10: DN300,Pn=1.0MPa | E10: S31603 | G10: 个 | H10: 9 | K10: =IF(H10="",0,H10*I10) -> 0
B11: 7 | C11: 法兰片 | D11: DN200,Pn=1.0MPa | E11: S31603 | G11: 个 | H11: 4 | K11: =IF(H11="",0,H11*I11) -> 0
B12: 8 | C12: 法兰片 | D12: DN200,Pn=1.6MPa | E12: S31603 | G12: 个 | H12: 6 | K12: =IF(H12="",0,H12*I12) -> 0
B13: 9 | C13: 法兰片 | D13: DN150,Pn=1.0MPa | E13: S31603 | G13: 个 | H13: 4 | K13: =IF(H13="",0,H13*I13) -> 0
B14: 10 | C14: 法兰片 | D14: DN150,Pn=1.6MPa | E14: S31603 | G14: 个 | H14: 9 | K14: =IF(H14="",0,H14*I14) -> 0
B15: 11 | C15: 法兰片 | D15: DN100,Pn=1.6MPa | E15: S31603 | G15: 个 | H15: 1 | K15: =IF(H15="",0,H15*I15) -> 0
B16: 12 | C16: 手自一体电动蝶阀 | D16: DN300,Pn=1.0MPa,D943H | E16: S30408 | G16: 个 | H16: 3 | K16: =IF(H16="",0,H16*I16) -> 0
B17: 13 | C17: 手自一体电动蝶阀 | D17: DN200,Pn=1.0MPa,D943H | E17: S30408 | G17: 个 | H17: 2 | K17: =IF(H17="",0,H17*I17) -> 0
... B19: 15 | C19: 手自一体电动蝶阀 | D19: DN150,Pn=1.6MPa,D943H | E19: S30408 | G19: 个 | H19: 3 | K19: =IF(H19="",0,H19*I19) -> 0
B20: 16 | C20: 手动阀门 | D20: DN300,Pn=1.0MPa,Z45X | G20: 个 | H20: 1 | K20: =IF(H20="",0,H20*I20) -> 0
B21: 17 | C21: 手动阀门 | D21: DN200,Pn=1.0MPa,Z45X | G21: 个 | H21: 1 | K21: =IF(H21="",0,H21*I21) -> 0
B22: 18 | C22: 手动阀门 | D22: DN200,Pn=1.0MPa,Z45X | G22: 个 | H22: 3 | K22: =IF(H22="",0,H22*I22) -> 0
B23: 19 | C23: 异径管 | D23: DN300XDN200 | E23: SUS304 | G23: 个 | H23: 2 | K23: =IF(H23="",0,H23*I23) -> 0
B24: 20 | C24: 异径管 | D24: DN200XDN150 | E24: SUS304 | G24: 个 | H24: 2 | K24: =IF(H24="",0,H24*I24) -> 0
B25: 21 | C25: 正三通 | D25: DN300XDN300 | E25: SUS304 | G25: 个 | H25: 3 | K25: =IF(H25="",0,H25*I25) -> 0
B26: 22 | C26: 正三通 | D26: DN150XDN150 | E26: SUS304 | G26: 个 | H26: 1 | K26: =IF(H26="",0,H26*I26) -> 0
B27: 23 | C27: 正三通 | D27: DN150XDN100 | E27: SUS304 | G27: 个 | H27: 1 | K27: =IF(H27="",0,H27*I27) -> 0
B28: 24 | C28: 不锈钢90°弯头 | D28: DN300,δ=4.0mm,Pn=1.0MPa | E28: S30408 | G28: 个 | H28: 2 | K28: =IF(H28="",0,H28*I28) -> 0
B29: 25 | C29: 不锈钢90°弯头 | D29: DN200,δ=2.8mm,Pn=1.0MPa | E29: S30408 | G29: 个 | H29: 3 | K29: =IF(H29="",0,H29*I29) -> 0
B30: 26 | C30: 不锈钢90°弯头 | D30: DN100,δ=2.0mm,Pn=1.6MPa | E30: S30408 | G30: 个 | H30: 1 | K30: =IF(H30="",0,H30*I30) -> 0
B31: 27 | C31: 不锈钢90°弯头 | D31: DN150,δ=2.8mm,Pn=1.0MPa | E31: S30408 | G31: 个 | H31: 2 | K31: =IF(H31="",0,H31*I31) -> 0
B32: 28 | C32: 不锈钢90°弯头 | D32: DN150,δ=2.8mm,Pn=1.6MPa | E32: S30408 | G32: 个 | H32: 6 | K32: =IF(H32="",0,H32*I32) -> 0
B33: 29 | C33: 不锈钢波纹管 | D33: DN300,Pn=1.0MPa | E33: S30408 | G33: 个 | H33: 2 | K33: =IF(H33="",0,H33*I33) -> 0
B34: 30 | C34: 不锈钢波纹管 | D34: DN200,Pn=1.0MPa | E34: S30408 | G34: 个 | H34: 2 | K34: =IF(H34="",0,H34*I34) -> 0
... B36: 32 | C36: 不锈钢波纹管 | D36: DN150,Pn=1.6MPa | E36: S30408 | G36: 个 | H36: 3 | K36: =IF(H36="",0,H36*I36) -> 0
B37: 33 | C37: Y型过滤器 | D37: DN300,Pn=1.0MPa | G37: 个 | H37: 2 | K37: =IF(H37="",0,H37*I37) -> 0
B38: 37 | C38: 水锤吸纳器 | D38: DN150,Pn=1.0MPa | E38: SUS304 | G38: 个 | H38: 1 | K38: =IF(H38="",0,H38*I38) -> 0
B39: 38 | C39: 水锤吸纳器 | D39: DN150,Pn=1.6MPa | E39: SUS304 | G39: 个 | H39: 3 | K39: =IF(H39="",0,H39*I39) -> 0
B40: 39 | C40: 拆除原管道 | D40: 钢管DN300 | E40: 钢制 | G40: m | H40: 17 | K40: =IF(H40="",0,H40*I40) -> 0
B41: 40 | C41: 拆除原管道 | D41: 钢管DN200 | E41: 钢制 | G41: m | H41: 10 | K41: =IF(H41="",0,H41*I41) -> 0
B42: 41 | C42: 拆除原管道 | D42: 钢管DN150 | E42: 钢制 | G42: m | H42: 89 | K42: =IF(H42="",0,H42*I42) -> 0
B43: 42 | C43: 拆除原管道 | D43: 钢管DN100 | E43: 钢制 | G43: m | H43: 15 | K43: =IF(H43="",0,H43*I43) -> 0
B44: 43 | C44: 灭火器 | D44: MF/ABC5 | G44: 个 | H44: 2 | K44: =IF(H44="",0,H44*I44) -> 0
B45: 44 | C45: 柔性防水套管 | D45: DN100 | G45: 个 | H45: 1 | K45: =IF(H45="",0,H45*I45) -> 0
B46: 45 | C46: 柔性防水套管 | D46: DN150 | G46: 个 | H46: 5 | K46: =IF(H46="",0,H46*I46) -> 0
B47: 46 | C47: 柔性防水套管 | D47: DN200 | G47: 个 | H47: 2 | K47: =IF(H47="",0,H47*I47) -> 0
B48: 47 | C48: 橡胶隔振垫 | G48: 个 | H48: 16 | K48: =IF(H48="",0,H48*I48) -> 0
A49: 注意：本材料表所列管道及设备基础工程量为设计参考值,最终工程量需根据设备中标单位出具的二次深化设计正式成果文件进行调整。
C50: 工艺部分小计 | K50: =SUM(K4:K48) -> 0
A51: 二、标准化泵房改造
B52: 1 | C52: 标准化泵房改造 | D52: 标准化泵房内部修缮改造，内容详见设计图 | G52: m2 | H52: 345 | K52: =IF(H52="",0,H52*I52) -> 0
C53: 标准化泵房改造部分小计 | K53: =SUM(K52:K52) -> 0
A54: 三、电气及自控设备
A55: 照明设备 | B55: 1 | C55: 应急照明箱(A型应急照明集中电源) ELD | D55: N-D-0.2kW-36(应急时间90min) | G55: 面 | H55: 1 | J55: 明装,底边距地1.6m | K55: =IF(H55="",0,H55*I55) -> 0
B56: 2 | C56: 应急LED泛光灯 | D56: 配72W LED灯,IP65 7200lm,6000K,Ra>85,COS%%C>0.95 | G56: 套 | H56: 15 | J56: 壁装,装高3.0m 自带蓄电池,应急时间180min | K56: =IF(H56="",0,H56*I56) -> 0
B57: 3 | C57: 双(三)联开关 | D57: 250V.10A,防溅型 | G57: 只 | H57: 3 | J57: 底边距地1.3m(暗装) | K57: =IF(H57="",0,H57*I57) -> 0
B58: 4 | C58: 二+三孔带接地安全插座 | D58: 250V.10A,防溅型 | G58: 只 | H58: 4 | J58: 暗设,底边距地1.5m | K58: =IF(H58="",0,H58*I58) -> 0
B59: 5 | C59: 照明及插座管线 | D59: 详配电系统图及照明、插座平面布置图 | G59: 项 | H59: 1 | K59: =IF(H59="",0,H59*I59) -> 0
B60: 6 | C60: 消防应急照明灯具-壁装(大型) | D60: 7W,DC36V,A型,具有应急照明、巡检、开灯、灭灯功能 | G60: 套 | H60: 11 | J60: 底边距地2.5m,IP65 | K60: =IF(H60="",0,H60*I60) -> 0
B61: 7 | C61: 消防应急标志灯具-安全出口(大型) | D61: 1W,DC36V,A型,具有巡检、常亮、频闪功能 | G61: 套 | H61: 3 | J61: 装于门上方或悬挂安装,IP65 | K61: =IF(H61="",0,H61*I61) -> 0
B62: 8 | C62: 消防应急标志灯具-单面右向(大型) | D62: 1W,DC36V,A型,具有巡检、常亮、频闪功能 | G62: 套 | H62: 3 | J62: 底边距地0.5m,IP65 | K62: =IF(H62="",0,H62*I62) -> 0
B63: 9 | C63: 消防应急标志灯具-单面左向(大型) | D63: 1W,DC36V,A型,具有巡检、常亮、频闪功能 | G63: 套 | H63: 2 | J63: 底边距地0.5m,IP65 | K63: =IF(H63="",0,H63*I63) -> 0
A64: 配电设备 | B64: 1 | C64: 泵房主控柜 ZKA | D64: 附件图纸,详见:D-EG-SY-02、K-EG-SY-05、06 注意：本单项报价还应包含自控图K-EG-SY-04、05中的所有设备元件价格。 | G64: 面 | H64: 1 | J64: 柜体采用304不锈钢材质,IP55,落地安装 基础用C30素混凝土垫高300mm 素混凝土基础上采用10#槽钢架高200mm | K64: =IF(H64="",0,H64*I64) -> 0
B65: 2 | C65: 电缆及保护管 | D65: 详:电缆一览表 | G65: 项 | H65: 1 | K65: =IF(H65="",0,H65*I65) -> 0
B66: 3 | C66: 304不锈钢电缆桥架(包括盖板) | D66: 200*100,采用304不锈钢板分隔,控制电缆占宽80mm 壁厚不小于2.0mm | G66: 米 | H66: 25 | J66: 配套所有配件及托臂,均采用304不锈钢材质 | K66: =IF(H66="",0,H66*I66) -> 0
B67: 4 | C67: 304不锈钢电缆桥架(包括盖板) | D67: 100*50,采用304不锈钢板分隔,控制电缆占宽50mm 壁厚不小于2.0mm | G67: 米 | H67: 12 | J67: 配套所有配件及托臂,均采用304不锈钢材质 | K67: =IF(H67="",0,H67*I67) -> 0
B68: 5 | C68: 接地线 | D68: -40*4扁钢,304不锈钢材质 | G68: 米 | H68: 30 | K68: =IF(H68="",0,H68*I68) -> 0
B69: 6 | C69: 防水防火密封堵料 | G69: 千克 | H69: 3 | K69: =IF(H69="",0,H69*I69) -> 0
A70: 拆除设备 | B70: 1 | C70: 现状照明灯具、电缆及保护管 | G70: 项 | H70: 1 | K70: =IF(H70="",0,H70*I70) -> 0
A71: 自控设备 | B71: 1 | C71: 泵房主控柜 ZKA | D71: 800*600*2200(W*D*H), | G71: 面 | H71: 1 | I71: 此单项不计价，计入配电设备中
B72: 2 | C72: 电磁流量计变送器 FIT1、2 | D72: 详见:D-EG-SY-02、K-EG-SY-05、06 测量口径:DN300,PN=1.0MPa,电源:~220VAC 测量范围:0~290m3/h,配置MODBUS通讯接口 测量精度不低于0.5级 变送器防护等级IP65,传感器防护等级IP68 | G72: 套 | H72: 2 | J72: 检测泵房进水总管、消防水池补水瞬时流量、累积流量 配套仪表箱(400*300*500),IP55 挂墙安装,底边距地1.1m, 箱体采用304不锈钢材质 | K72: =H72*I72 -> 0
C73: 电磁流量计传感器 FE1、2
B74: 3 | C74: 电磁流量计变送器 FIT11 | D74: 测量口径:DN150,PN=1.0MPa,电源:~220VAC 测量范围:0~70m3/h,配置MODBUS通讯接口 测量精度不低于0.5级 变送器防护等级IP65,传感器防护等级IP68 | G74: 套 | H74: 1 | J74: 检测中区设备出水瞬时流量、累积流量 配套仪表箱(400*300*500),IP55 挂墙安装,底边距地1.1m, 箱体采用304不锈钢材质 | K74: =H74*I74 -> 0
C75: 电磁流量计传感器 FE11
B76: 4 | C76: 电磁流量计变送器 FIT21 | D76: 测量口径:DN150,PN=1.6MPa,电源:~220VAC 测量范围:0~100m3/h,配置MODBUS通讯接口 测量精度不低于0.5级 变送器防护等级IP65,传感器防护等级IP68 | G76: 套 | H76: 1 | J76: 检测高区设备出水瞬时流量、累积流量 配套仪表箱(400*300*500),IP55 挂墙安装,底边距地1.1m, 箱体采用304不锈钢材质 | K76: =H76*I76 -> 0
C77: 电磁流量计传感器FE21
B78: 5 | C78: 电磁流量计变送器 FIT31 | D78: 测量口径:DN150,PN=1.6MPa,电源:~220VAC 测量范围:0~100m3/h,配置MODBUS通讯接口 测量精度不低于0.5级 变送器防护等级IP65,传感器防护等级IP68 | G78: 套 | H78: 1 | J78: 检测超高Ⅰ区设备出水瞬时流量、累积流量 配套仪表箱(400*300*500),IP55 挂墙安装,底边距地1.1m, 箱体采用304不锈钢材质 | K78: =H78*I78 -> 0
C79: 电磁流量计传感器 FE31
B80: 6 | C80: 电磁流量计变送器 FIT41 | D80: 测量口径:DN150,PN=1.6MPa,电源:~220VAC 测量范围:0~100m3/h,配置MODBUS通讯接口 测量精度不低于0.5级 变送器防护等级IP65,传感器防护等级IP68 | G80: 套 | H80: 1 | J80: 检测超高Ⅱ区设备出水瞬时流量、累积流量 配套仪表箱(400*300*500),IP55 挂墙安装,底边距地1.1m, 箱体采用304不锈钢材质 | K80: =H80*I80 -> 0
C81: 电磁流量计传感器 FE41
B82: 7 | C82: 超声波液位计变送器 LIT1~4 | D82: 0~5m, 输出信号:4~20mA,盲区≤0.25m 变送器防护等级IP65,传感器防护等级IP68 配套提供安装附件,装于水箱顶部 | G82: 套 | H82: 4 | J82: 检测中区、高区、超高Ⅰ、Ⅱ区水箱液位 配套仪表箱(400*300*500),IP55 挂墙安装,底边距地1.1m, 箱体采用304不锈钢材质 | K82: =H82*I82 -> 0
C83: 超声波液位计传感器 LE1~4
B84: 8 | C84: 一体式超声波液位计 LIT | D84: 0~2m,IP65,输出信号:4~20mA | G84: 套 | H84: 1 | J84: 检测泵房液位 | K84: =IF(H84="",0,H84*I84) -> 0
B85: 9 | C85: 室内高清彩色网络枪机 | D85: 400万像素,带红外、柔光补光、 人形侦测、智能警戒等功能,IP65 | G85: 套 | H85: 2 | J85: 装高3.0m,配套电源等辅件。 | K85: =IF(H85="",0,H85*I85) -> 0
B86: 10 | C86: 室内一体化网络高清球机 | D86: 400万像素,带红外、柔光补光、 人形侦测、智能警戒等功能,IP65 | G86: 套 | H86: 2 | J86: 装高3.0m,配套电源等辅件。 | K86: =IF(H86="",0,H86*I86) -> 0
B87: 11 | C87: 液晶显示器 YJA | D87: 21寸,配10米HDMI线缆,IP55 | G87: 套 | H87: 1 | J87: 挂墙安装,顶边距地1.6m,配套支架 | K87: =IF(H87="",0,H87*I87) -> 0
B88: 12 | C88: 新风系统 | G88: 项 | H88: 1 | K88: =H88*I88 -> 0
B89: 13 | C89: 电缆及保护管 | D89: 详:电缆一览表 | G89: 项 | H89: 1 | K89: =IF(H89="",0,H89*I89) -> 0
B90: 14 | C90: 质保期内网络通讯费 | G90: 项 | H90: 1 | K90: =IF(H90="",0,H90*I90) -> 0
B91: 15 | C91: 防水防火密封堵料 | G91: 千克 | H91: 3 | K91: =IF(H91="",0,H91*I91) -> 0
C92: 电气部分小计 | K92: =SUM(K55:K91) -> 0
C93: 本泵房报价合计 | K93: =K50+K53+K92 -> 0
A118: 锚点(供汇总引用) | C118: =K50 -> 0 | D118: =K53 -> 0 | H118: =K92 -> 0 | K118: =K93 -> 0
A119: 备注： | B119: 请注明报价包含/不包含范围、品牌偏好、供货周期、质保期及是否含安装调试。

Sheet 绿景花园
A1: 绿景花园 清单明细表
A2: 分部 | B2: 序号 | C2: 细项名称 | D2: 规格型号/技术要求 | F2: 制造商及品牌 | G2: 单位 | H2: 数量 | I2: 不含税单价(元) | J2: 备注 | K2: 合价(元)
A3: 一、工艺设备
B4: 1 | C4: 无负压户外一体化设备 （核心产品） | D4: Q=32m3/h,H=70m,单泵功率5.5kw 供水设备流量:32m3/h(水泵一用一备,轮换备用,高峰期时全启,单泵流量 16m3/h,单泵功率5.5KW),设备出口压力设置为0.70MPa,设备进口市政动 压力约为0.05MPa,采用全变频无负压供水加压设备，设备应具有实时显示流量、压力功能。 | E4: S31603 | G4: 套 | H4: 1 | J4: 含隔震垫,详见泵房设备参数表 | K4: =IF(H4="",0,H4*I4) -> 0
B5: 2 | C5: 临时供水费用 | G5: 项 | H5: 1 | K5: =IF(H5="",0,H5*I5) -> 0
B6: 2 | C6: 不锈钢管 | D6: DN80,δ=2mm,L=2000mm,PN=1.0MPa | E6: S31603 | G6: 只 | H6: 1 | J6: 安装于进水管 | K6: =IF(H6="",0,H6*I6) -> 0
B7: 3 | C7: 不锈钢管 | D7: DN65,δ=1.5mm,L=2000mm,PN=1.0MPa | E7: S31603 | G7: 只 | H7: 1 | J7: 安装于出水管 | K7: =IF(H7="",0,H7*I7) -> 0
B8: 4 | C8: 不锈钢90°弯头 | D8: DN80,δ=2.0mm,Pn=1.0MPa | E8: S31603 | G8: 个 | H8: 2 | J8: 安装于进水管 | K8: =IF(H8="",0,H8*I8) -> 0
B9: 5 | C9: 法兰片 | D9: DN80,P=1.0MPa | E9: S31603 | G9: 个 | H9: 4 | J9: 安装于进水管 | K9: =IF(H9="",0,H9*I9) -> 0
B10: 6 | C10: 法兰片 | D10: DN65,P=1.0MPa | E10: S31603 | G10: 个 | H10: 6 | J10: 安装于出水管 | K10: =IF(H10="",0,H10*I10) -> 0
B11: 7 | C11: 手自一体电动蝶阀 | D11: DN80,P=1.0MPa,Z945X | E11: S30408 | G11: 个 | H11: 1 | J11: 安装于进水管 | K11: =IF(H11="",0,H11*I11) -> 0
B12: 8 | C12: 手自一体电动蝶阀 | D12: DN65,P=1.0MPa,Z945X | E12: S30408 | G12: 个 | H12: 1 | J12: 安装于出水管 | K12: =IF(H12="",0,H12*I12) -> 0
B13: 9 | C13: 不锈钢波纹管 | D13: DN80,P=1.0MPa | E13: S30408 | G13: 个 | H13: 1 | J13: 安装于进水管 | K13: =IF(H13="",0,H13*I13) -> 0
B14: 10 | C14: 不锈钢波纹管 | D14: DN65,P=1.0MPa | E14: S30408 | G14: 个 | H14: 1 | J14: 安装于出水管 | K14: =IF(H14="",0,H14*I14) -> 0
B15: 11 | C15: Y型过滤器 | D15: DN80,P=1.0MPa | E15: S30408 | G15: 个 | H15: 1 | J15: 安装于进水管 | K15: =IF(H15="",0,H15*I15) -> 0
B16: 12 | C16: 倒流防止器 | D16: DN80,P=1.0MPa | E16: S30408 | G16: 个 | H16: 1 | J16: 安装于进水管 | K16: =IF(H16="",0,H16*I16) -> 0
B17: 13 | C17: 电磁流量计 | D17: DN65,P=1.0MPa | E17: S30408 | G17: 个 | H17: 1 | J17: 测量精度≤0.5级,测量范围0-50m3/h 详自控专业图纸 | K17: =IF(H17="",0,H17*I17) -> 0
B18: 14 | C18: 自动排气阀 | D18: DN25,P=1.0MPa | E18: S30408 | G18: 个 | H18: 1 | J18: 安装于进水管位置 | K18: =IF(H18="",0,H18*I18) -> 0
B19: 15 | C19: 新风系统 | G19: 项 | H19: 1 | K19: =H19*I19 -> 0
B20: 16 | C20: 灭火器 | D20: MF/ABC5 | G20: 个 | H20: 1 | K20: =IF(H20="",0,H20*I20) -> 0
B21: 17 | C21: 压力表 | D21: 精度2.5级,0~1.6MPa | E21: S30408 | G21: 个 | H21: 1 | J21: 安装于进水管 | K21: =IF(H21="",0,H21*I21) -> 0
B22: 18 | C22: 水锤吸纳器 | D22: DN65,P=1.0MPa | E22: S30408 | G22: 个 | H22: 1 | J22: 安装于出水管 | K22: =IF(H22="",0,H22*I22) -> 0
B23: 19 | C23: 拆除原管道 | D23: DN80,δ=2mm,L=2000mm,PN=1.0MPa | E23: 塑料管 | G23: 只 | H23: 1 | K23: =IF(H23="",0,H23*I23) -> 0
B24: 20 | C24: 拆除原管道 | D24: DN65,δ=1.5mm,L=2000mm,PN=1.0MPa | E24: 塑料管 | G24: 只 | H24: 1 | K24: =IF(H24="",0,H24*I24) -> 0
A25: 注意：本材料表所列管道及设备基础工程量为设计参考值,最终工程量需根据设备中标单位出具的二次深化设计正式成果文件进行调整。
C26: 工艺部分小计 | K26: =SUM(K4:K24) -> 0
A27: 二、标准化泵房改造
K30: =IF(H30="",0,H30*I30) -> 0
C31: 标准化泵房改造部分小计 | K31: =SUM(K30:K30) -> 0
A32: 三、电气及自控设备
K33: =IF(H33="",0,H33*I33) -> 0
K34: =IF(H34="",0,H34*I34) -> 0
K35: =IF(H35="",0,H35*I35) -> 0
K36: =IF(H36="",0,H36*I36) -> 0
K37: =IF(H37="",0,H37*I37) -> 0
C38: 电气部分小计 | K38: =SUM(K33:K37) -> 0
C39: 本泵房报价合计 | K39: =K26+K31+K38 -> 0
A64: 锚点(供汇总引用) | C64: =K26 -> 0 | D64: =K31 -> 0 | H64: =K38 -> 0 | K64: =K39 -> 0
A65: 备注： | B65: 请注明报价包含/不包含范围、品牌偏好、供货周期、质保期及是否含安装调试。

Sheet 左岸名都一期二期
A1: 左岸名都一期二期 清单明细表
A2: 分部 | B2: 序号 | C2: 细项名称 | D2: 规格型号/技术要求 | E2: 材质 | F2: 制造商及品牌 | G2: 单位 | H2: 数量 | I2: 不含税单价(元) | J2: 备注 | K2: 合价(元)
A3: 一、工艺设备
B4: 1 | C4: 不锈钢管 | D4: DN200,δ=3.0mm,Pn=1.0MPa | E4: S31603 | G4: m | H4: 30 | K4: =IF(H4="",0,H4*I4) -> 0
B5: 2 | C5: 临时供水费用 | G5: 项 | H5: 1 | K5: =IF(H5="",0,H5*I5) -> 0
B6: 2 | C6: 不锈钢管 | D6: DN150,δ=2.5mm,Pn=1.0MPa | E6: S31603 | G6: m | H6: 25 | K6: =IF(H6="",0,H6*I6) -> 0
B7: 3 | C7: 不锈钢管 | D7: DN150,δ=2.5mm,Pn=1.6MPa | E7: S31603 | G7: m | H7: 15 | K7: =IF(H7="",0,H7*I7) -> 0
B8: 4 | C8: 不锈钢管 | D8: DN100,δ=2.0mm,Pn=1.0MPa | E8: S31603 | G8: m | H8: 20 | K8: =IF(H8="",0,H8*I8) -> 0
B9: 5 | C9: 不锈钢管 | D9: DN100,δ=2.0mm,Pn=1.6MPa | E9: S31603 | G9: m | H9: 35 | K9: =IF(H9="",0,H9*I9) -> 0
B10: 6 | C10: 不锈钢管 | D10: DN65,δ=2.0mm,Pn=1.0MPa | E10: S31603 | G10: m | H10: 40 | K10: =IF(H10="",0,H10*I10) -> 0
B11: 7 | C11: 不锈钢管 | D11: DN65,δ=2.0mm,Pn=1.6MPa | E11: S31603 | G11: m | H11: 20 | K11: =IF(H11="",0,H11*I11) -> 0
B12: 8 | C12: 法兰片 | D12: DN200,Pn=1.0MPa | E12: S31603 | G12: 个 | H12: 20 | K12: =IF(H12="",0,H12*I12) -> 0
B13: 9 | C13: 法兰片 | D13: DN150,Pn=1.0MPa | E13: S31603 | G13: 个 | H13: 3 | K13: =IF(H13="",0,H13*I13) -> 0
B14: 10 | C14: 法兰片 | D14: DN150,Pn=1.6MPa | E14: S31603 | G14: 个 | H14: 6 | K14: =IF(H14="",0,H14*I14) -> 0
B15: 11 | C15: 法兰片 | D15: DN100,Pn=1.0MPa | E15: S31603 | G15: 个 | H15: 3 | K15: =IF(H15="",0,H15*I15) -> 0
B16: 12 | C16: 法兰片 | D16: DN100,Pn=1.6MPa | E16: S31603 | G16: 个 | H16: 6 | K16: =IF(H16="",0,H16*I16) -> 0
B17: 13 | C17: 法兰片 | D17: DN65,Pn=1.0MPa | E17: S31603 | G17: 个 | H17: 4 | K17: =IF(H17="",0,H17*I17) -> 0
... B23: 19 | C23: 手自一体电动蝶阀 | D23: DN100,Pn=1.6MPa,D943H | E23: S30408 | G23: 个 | H23: 2 | K23: =IF(H23="",0,H23*I23) -> 0
B24: 20 | C24: 手动阀门 | D24: DN150,Pn=1.6MPa,Z45X | G24: 个 | H24: 2 | K24: =IF(H24="",0,H24*I24) -> 0
B25: 21 | C25: 手动阀门 | D25: DN150,Pn=1.0MPa,Z45X | G25: 个 | H25: 2 | K25: =IF(H25="",0,H25*I25) -> 0
B26: 22 | C26: 手动阀门 | D26: DN100,Pn=1.6MPa,Z45X | G26: 个 | H26: 2 | K26: =IF(H26="",0,H26*I26) -> 0
B27: 23 | C27: 手动阀门 | D27: DN100,Pn=1.0MPa,Z45X | G27: 个 | H27: 1 | K27: =IF(H27="",0,H27*I27) -> 0
B28: 24 | C28: 手动阀门 | D28: DN65,Pn=1.6MPa,Z45X | G28: 个 | H28: 4 | K28: =IF(H28="",0,H28*I28) -> 0
B29: 25 | C29: 手动阀门 | D29: DN65,Pn=1.0MPa,Z45X | G29: 个 | H29: 2 | K29: =IF(H29="",0,H29*I29) -> 0
B30: 26 | C30: 不锈钢90°弯头 | D30: DN200,δ=6.0mm,Pn=1.0MPa | E30: S31603 | G30: 个 | H30: 5 | K30: =IF(H30="",0,H30*I30) -> 0
B31: 27 | C31: 不锈钢90°弯头 | D31: DN150,δ=2.8mm,Pn=1.0MPa | E31: S31603 | G31: 个 | H31: 2 | K31: =IF(H31="",0,H31*I31) -> 0
B32: 28 | C32: 不锈钢90°弯头 | D32: DN150,δ=2.8mm,Pn=1.6MPa | E32: S31603 | G32: 个 | H32: 4 | K32: =IF(H32="",0,H32*I32) -> 0
B33: 29 | C33: 不锈钢90°弯头 | D33: DN100,δ=2.0mm,Pn=1.0MPa | E33: S31603 | G33: 个 | H33: 4 | K33: =IF(H33="",0,H33*I33) -> 0
B34: 30 | C34: 不锈钢90°弯头 | D34: DN100,δ=2.0mm,Pn=1.6MPa | E34: S31603 | G34: 个 | H34: 8 | K34: =IF(H34="",0,H34*I34) -> 0
B35: 31 | C35: 不锈钢90°弯头 | D35: DN65,δ=2.0mm,Pn=1.0MPa | E35: S31603 | G35: 个 | H35: 5 | K35: =IF(H35="",0,H35*I35) -> 0
B36: 32 | C36: 不锈钢90°弯头 | D36: DN65,δ=2.0mm,Pn=1.6MPa | E36: S31603 | G36: 个 | H36: 10 | K36: =IF(H36="",0,H36*I36) -> 0
B37: 33 | C37: 异径管 | D37: DN150XDN65 | E37: S31603 | G37: 个 | H37: 6 | K37: =IF(H37="",0,H37*I37) -> 0
B38: 34 | C38: 异径管 | D38: DN150XDN100 | E38: S31603 | G38: 个 | H38: 2 | K38: =IF(H38="",0,H38*I38) -> 0
B39: 35 | C39: 不锈钢波纹管 | D39: DN200,Pn=1.0MPa | E39: S30408 | G39: 个 | H39: 6 | K39: =IF(H39="",0,H39*I39) -> 0
B40: 36 | C40: 不锈钢波纹管 | D40: DN150,Pn=1.0MPa | E40: S30408 | G40: 个 | H40: 1 | K40: =IF(H40="",0,H40*I40) -> 0
B41: 37 | C41: 不锈钢波纹管 | D41: DN150,Pn=1.6MPa | E41: S30408 | G41: 个 | H41: 2 | K41: =IF(H41="",0,H41*I41) -> 0
... B43: 39 | C43: 不锈钢波纹管 | D43: DN100,Pn=1.6MPa | E43: S30408 | G43: 个 | H43: 2 | K43: =IF(H43="",0,H43*I43) -> 0
B44: 40 | C44: Y型过滤器 | D44: DN200,Pn=1.0MPa | G44: 个 | H44: 2 | K44: =IF(H44="",0,H44*I44) -> 0
B45: 41 | C45: 倒流防止器 | D45: DN200,Pn=1.0MPa | G45: 个 | H45: 6 | K45: =IF(H45="",0,H45*I45) -> 0
B46: 47 | C46: 自动排气阀 | D46: DN25 | E46: S30408 | G46: 个 | H46: 2 | K46: =IF(H46="",0,H46*I46) -> 0
B47: 48 | C47: 水锤吸纳器 | D47: DN150,Pn=1.0MPa | E47: SUS304 | G47: 个 | H47: 2 | K47: =IF(H47="",0,H47*I47) -> 0
B48: 49 | C48: 水锤吸纳器 | D48: DN150,Pn=1.6MPa | E48: SUS304 | G48: 个 | H48: 1 | K48: =IF(H48="",0,H48*I48) -> 0
B49: 50 | C49: 水锤吸纳器 | D49: DN100,Pn=1.0MPa | E49: SUS304 | G49: 个 | H49: 2 | K49: =IF(H49="",0,H49*I49) -> 0
B50: 51 | C50: 水锤吸纳器 | D50: DN100,Pn=1.6MPa | E50: SUS304 | G50: 个 | H50: 1 | K50: =IF(H50="",0,H50*I50) -> 0
B51: 52 | C51: 拆除原管道 | D51: 钢管DN200 | E51: 钢制 | G51: m | H51: 30 | K51: =IF(H51="",0,H51*I51) -> 0
B52: 53 | C52: 拆除原管道 | D52: 钢管DN150 | E52: 钢制 | G52: m | H52: 35 | K52: =IF(H52="",0,H52*I52) -> 0
B53: 54 | C53: 拆除原管道 | D53: 钢管DN100 | E53: 钢制 | G53: m | H53: 50 | K53: =IF(H53="",0,H53*I53) -> 0
B54: 55 | C54: 拆除原管道 | D54: 钢管DN65 | E54: 钢制 | G54: m | H54: 60 | K54: =IF(H54="",0,H54*I54) -> 0
B55: 56 | C55: 灭火器 | D55: MF/ABC5 | G55: 个 | H55: 2 | K55: =IF(H55="",0,H55*I55) -> 0
B56: 57 | C56: 柔性防水套管 | D56: DN200 | G56: 个 | H56: 2 | J56: 做法详见《防水套管》(02S404) | K56: =IF(H56="",0,H56*I56) -> 0
B57: 58 | C57: 柔性防水套管 | D57: DN150 | G57: 个 | H57: 1 | J57: 做法详见《防水套管》(02S404) | K57: =IF(H57="",0,H57*I57) -> 0
B58: 59 | C58: 柔性防水套管 | D58: DN100 | G58: 个 | H58: 5 | J58: 做法详见《防水套管》(02S404) | K58: =IF(H58="",0,H58*I58) -> 0
B59: 60 | C59: 柔性防水套管 | D59: DN65 | G59: 个 | H59: 6 | J59: 做法详见《防水套管》(02S404) | K59: =IF(H59="",0,H59*I59) -> 0
B60: 61 | C60: 橡胶隔振垫 | G60: 个 | H60: 20 | J60: 用于现状设备机组 | K60: =IF(H60="",0,H60*I60) -> 0
A61: 注意：本材料表所列管道及设备基础工程量为设计参考值,最终工程量需根据设备中标单位出具的二次深化设计正式成果文件进行调整。
C62: 工艺部分小计 | K62: =SUM(K4:K60) -> 0
A63: 二、标准化泵房改造
B64: 1 | C64: 标准化泵房改造 | D64: 标准化泵房内部修缮改造，内容详见设计图 | G64: m2 | H64: 205 | K64: =IF(H64="",0,H64*I64) -> 0
C65: 标准化泵房改造部分小计 | K65: =SUM(K64:K64) -> 0
A66: 三、电气及自控设备
A67: 照明设备 | B67: 1 | C67: 应急照明箱(A型应急照明集中电源) ELD | D67: N-D-0.1kW-36(应急时间90min) | G67: 面 | H67: 1 | J67: 明装,底边距地1.6m | K67: =IF(H67="",0,H67*I67) -> 0
B68: 2 | C68: 应急LED泛光灯 | D68: 配60W LED灯,IP65 6000lm,6000K,Ra>85,COS%%C>0.95 | G68: 套 | H68: 11 | J68: 壁装,装高3.0m 自带蓄电池,应急时间180min | K68: =IF(H68="",0,H68*I68) -> 0
B69: 3 | C69: 双联开关 | D69: 250V.10A,防溅型 | G69: 只 | H69: 2 | J69: 底边距地1.3m(暗装) | K69: =IF(H69="",0,H69*I69) -> 0
B70: 4 | C70: 二+三孔带接地安全插座 | D70: 250V.10A,防溅型 | G70: 只 | H70: 8 | J70: 暗设,底边距地1.5m | K70: =IF(H70="",0,H70*I70) -> 0
B71: 5 | C71: 照明及插座管线 | D71: 详配电系统图及照明、插座平面布置图 | K71: =IF(H71="",0,H71*I71) -> 0
B72: 6 | C72: 消防应急照明灯具-壁装(中型) | D72: 7W,DC36V,A型,具有应急照明、巡检、开灯、灭灯功能 | G72: 套 | H72: 9 | J72: 底边距地2.5m,IP65 | K72: =IF(H72="",0,H72*I72) -> 0
B73: 7 | C73: 消防应急标志灯具-安全出口(中型) | D73: 1W,DC36V,A型,具有巡检、常亮、频闪功能 | G73: 套 | H73: 2 | J73: 装于门上方或悬挂安装,IP65 | K73: =IF(H73="",0,H73*I73) -> 0
B74: 8 | C74: 消防应急标志灯具-单面右向(中型) | D74: 1W,DC36V,A型,具有巡检、常亮、频闪功能 | G74: 套 | H74: 3 | J74: 底边距地0.5m,IP65 | K74: =IF(H74="",0,H74*I74) -> 0
B75: 9 | C75: 消防应急标志灯具-单面左向(中型) | D75: 1W,DC36V,A型,具有巡检、常亮、频闪功能 | G75: 套 | H75: 2 | J75: 底边距地0.5m,IP65 | K75: =IF(H75="",0,H75*I75) -> 0
A76: 配电设备 | B76: 1 | C76: 泵房主控柜 ZKA | D76: 附件图纸,详见:D-EG-ZA-02、03,K-EG-ZA-06、07 注意：本单项报价还应包含自控图K-EG-ZA-06、07中的所有设备元件价格。 | G76: 面 | H76: 1 | J76: 柜体采用304不锈钢材质,IP55,落地安装 基础用C30素混凝土垫高300mm 素混凝土基础上采用10#槽钢架高200mm | K76: =IF(H76="",0,H76*I76) -> 0
B77: 2 | C77: 电缆及保护管 | D77: 详:电缆一览表 | G77: 项 | H77: 1 | K77: =IF(H77="",0,H77*I77) -> 0
B78: 3 | C78: 304不锈钢电缆桥架(包括盖板) | D78: 200*100,采用304不锈钢板分隔,控制电缆占宽80mm 壁厚不小于2.0mm | G78: 米 | H78: 48 | J78: 配套所有配件及托臂,均采用304不锈钢材质 | K78: =IF(H78="",0,H78*I78) -> 0
B79: 4 | C79: 接地线 | D79: -40*4扁钢,304不锈钢材质 | G79: 米 | H79: 30 | K79: =IF(H79="",0,H79*I79) -> 0
B80: 5 | C80: 防水防火密封堵料 | G80: 千克 | H80: 3 | K80: =IF(H80="",0,H80*I80) -> 0
A81: 拆除设备 | B81: 1 | C81: 现状照明灯具、电缆及保护管 | G81: 项 | H81: 1 | K81: =IF(H81="",0,H81*I81) -> 0
A82: 自控设备 | B82: 1 | C82: 泵房主控柜 ZKA | D82: 附件图纸,详见:D-EG-ZA-02、03,K-EG-ZA-06、07 | G82: 面 | H82: 1 | I82: 此单项不计价，计入配电设备中
B83: 2 | C83: 电磁流量计变送器 FIT1 | D83: 测量口径:DN200,PN=1.0MPa,电源:~220VAC 测量范围:0~120m3/h,配置MODBUS通讯接口 测量精度不低于0.5级 变送器防护等级IP65,传感器防护等级IP68 | G83: 套 | H83: 1 | J83: 检测泵房一期进水总管瞬时流量、累积流量 配套仪表箱(400*300*500),IP55 挂墙安装,底边距地1.1m, 箱体采用304不锈钢材质 | K83: =H83*I83 -> 0
C84: 电磁流量计传感器 FE1
B85: 3 | C85: 电磁流量计变送器 FIT11 | D85: 测量口径:DN150,PN=1.0MPa,电源:~220VAC 测量范围:0~100m3/h,配置MODBUS通讯接口 测量精度不低于0.5级 变送器防护等级IP65,传感器防护等级IP68 | G85: 套 | H85: 1 | J85: 检测一期中区设备出水瞬时流量、累积流量 配套仪表箱(400*300*500),IP55 挂墙安装,底边距地1.1m, 箱体采用304不锈钢材质 | K85: =H85*I85 -> 0
C86: 电磁流量计传感器 FE11
B87: 4 | C87: 电磁流量计变送器 FIT21 | D87: 测量口径:DN150,PN=1.6MPa,电源:~220VAC 测量范围:0~70m3/h,配置MODBUS通讯接口 测量精度不低于0.5级 变送器防护等级IP65,传感器防护等级IP68 | G87: 套 | H87: 1 | J87: 检测一期高区设备出水瞬时流量、累积流量 配套仪表箱(400*300*500),IP55 挂墙安装,底边距地1.1m, 箱体采用304不锈钢材质 | K87: =H87*I87 -> 0
C88: 电磁流量计传感器 FE21
B89: 5 | C89: 电磁流量计变送器 FIT31 | D89: 测量口径:DN150,PN=1.6MPa,电源:~220VAC 测量范围:0~70m3/h,配置MODBUS通讯接口 测量精度不低于0.5级 变送器防护等级IP65,传感器防护等级IP68 | G89: 套 | H89: 1 | J89: 检测一期超高区设备出水瞬时流量、累积流量 配套仪表箱(400*300*500),IP55 挂墙安装,底边距地1.1m, 箱体采用304不锈钢材质 | K89: =H89*I89 -> 0
C90: 电磁流量计传感器 FE31
B91: 6 | C91: 电磁流量计变送器 FIT21 | D91: 测量口径:DN200,PN=1.0MPa,电源:~220VAC 测量范围:0~120m3/h,配置MODBUS通讯接口 测量精度不低于0.5级 变送器防护等级IP65,传感器防护等级IP68 | G91: 套 | H91: 1 | J91: 检测泵房二期进水总管瞬时流量、累积流量 配套仪表箱(400*300*500),IP55 挂墙安装,底边距地1.1m, 箱体采用304不锈钢材质 | K91: =H91*I91 -> 0
C92: 电磁流量计传感器 FE21
B93: 7 | C93: 电磁流量计变送器 FIT41 | D93: 测量口径:DN100,PN=1.0MPa,电源:~220VAC 测量范围:0~50m3/h,配置MODBUS通讯接口 测量精度不低于0.5级 变送器防护等级IP65,传感器防护等级IP68 | G93: 套 | H93: 1 | J93: 检测二期中区设备出水瞬时流量、累积流量 配套仪表箱(400*300*500),IP55 挂墙安装,底边距地1.1m, 箱体采用304不锈钢材质 | K93: =H93*I93 -> 0
C94: 电磁流量计传感器 FE41
B95: 8 | C95: 电磁流量计变送器 FIT51 | D95: 测量口径:DN100,PN=1.6MPa,电源:~220VAC 测量范围:0~50m3/h,配置MODBUS通讯接口 测量精度不低于0.5级 变送器防护等级IP65,传感器防护等级IP68 | G95: 套 | H95: 1 | J95: 检测二期高区设备出水瞬时流量、累积流量 配套仪表箱(400*300*500),IP55 挂墙安装,底边距地1.1m, 箱体采用304不锈钢材质 | K95: =H95*I95 -> 0
C96: 电磁流量计传感器 FE51
B97: 9 | C97: 电磁流量计变送器 FIT61 | D97: 测量口径:DN100,PN=1.6MPa,电源:~220VAC 测量范围:0~50m3/h,配置MODBUS通讯接口 测量精度不低于0.5级 变送器防护等级IP65,传感器防护等级IP68 | G97: 套 | H97: 1 | J97: 检测二期超高区设备出水瞬时流量、累积流量 配套仪表箱(400*300*500),IP55 挂墙安装,底边距地1.1m, 箱体采用304不锈钢材质 | K97: =H97*I97 -> 0
C98: 电磁流量计传感器 FE61
B99: 10 | C99: 一体式超声波液位计 LIT | D99: 0~2m,IP65,输出信号:4~20mA | G99: 套 | H99: 1 | J99: 检测泵房液位 | K99: =IF(H99="",0,H99*I99) -> 0
B100: 11 | C100: 视频监控系统 | K100: =IF(H100="",0,H100*I100) -> 0
B101: 11.1 | C101: 室内高清彩色网络枪机 | D101: 400万像素,带红外、柔光补光、 人形侦测、智能警戒等功能,IP65 | G101: 套 | H101: 3 | J101: 装高3.0m,配套电源适配器等辅件。 | K101: =IF(H101="",0,H101*I101) -> 0
B102: 11.2 | C102: 室内一体化网络高清球机 | D102: 400万像素,带红外、柔光补光、 人形侦测、智能警戒等功能,IP65 | G102: 套 | H102: 2 | J102: 装高3.0m,配套电源适配器等辅件。 | K102: =IF(H102="",0,H102*I102) -> 0
B103: 11.3 | C103: 液晶显示器 YJA | D103: 21寸,配15米HDMI线缆,IP55 | G103: 套 | H103: 1 | J103: 挂墙安装,顶边距地1.6m,配套支架 | K103: =IF(H103="",0,H103*I103) -> 0
B104: 11.4 | C104: 硬盘录像机 | D104: 8路NVR,4盘位 | G104: 台 | H104: 1 | K104: =IF(H104="",0,H104*I104) -> 0
B105: 11.5 | C105: 监控硬盘 | D105: 10T | G105: 台 | H105: 4 | J105: 录像时间不少于90天 | K105: =IF(H105="",0,H105*I105) -> 0
B106: 11.6 | C106: 监控交换机 | D106: 12个RJ45口(千兆) | G106: 台 | H106: 1 | K106: =IF(H106="",0,H106*I106) -> 0
...

Sheet 省安小区
A1: 省安小区 清单明细表
A2: 分部 | B2: 序号 | C2: 细项名称 | D2: 规格型号/技术要求 | E2: 材质 | F2: 制造商及品牌 | G2: 单位 | H2: 数量 | I2: 不含税单价(元) | J2: 备注 | K2: 合价(元)
A3: 一、工艺设备
B4: 1 | C4: 不锈钢管 | D4: DN100,δ=2.0mm,Pn=1.0MPa | E4: S31603 | G4: m | H4: 10 | K4: =IF(H4="",0,H4*I4) -> 0
B5: 2 | C5: 临时供水费用 | G5: 项 | H5: 1 | K5: =IF(H5="",0,H5*I5) -> 0
B6: 2 | C6: 不锈钢90°弯头 | D6: DN100,δ=2.0mm,Pn=1.0MPa | E6: S31603 | G6: 个 | H6: 5 | K6: =IF(H6="",0,H6*I6) -> 0
B7: 3 | C7: 法兰片 | D7: DN100,Pn=1.0MPa | E7: S31603 | G7: 个 | H7: 10 | K7: =IF(H7="",0,H7*I7) -> 0
B8: 4 | C8: 手自一体电动蝶阀 | D8: DN100,Pn=1.0MPa,D943H | E8: S30408 | G8: 个 | H8: 2 | K8: =IF(H8="",0,H8*I8) -> 0
B9: 5 | C9: 不锈钢波纹管 | D9: DN100,Pn=1.0MPa | E9: S30408 | G9: 个 | H9: 2 | K9: =IF(H9="",0,H9*I9) -> 0
B10: 6 | C10: Y型过滤器 | D10: DN100,Pn=1.0MPa | G10: 个 | H10: 1 | K10: =IF(H10="",0,H10*I10) -> 0
B11: 7 | C11: 倒流防止器 | D11: DN100,Pn=1.0MPa | G11: 个 | H11: 2 | K11: =IF(H11="",0,H11*I11) -> 0
B12: 9 | C12: 自动排气阀 | D12: DN25 | E12: S30408 | G12: 个 | H12: 1 | K12: =IF(H12="",0,H12*I12) -> 0
B13: 10 | C13: 水锤吸纳器 | D13: DN100,Pn=1.0MPa | E13: SUS304 | G13: 个 | H13: 1 | K13: =IF(H13="",0,H13*I13) -> 0
B14: 11 | C14: 拆除原管道 | D14: 钢管DN100 | E14: 钢制 | G14: m | H14: 10 | K14: =IF(H14="",0,H14*I14) -> 0
B15: 12 | C15: 灭火器 | D15: MF/ABC5 | G15: 个 | H15: 2 | K15: =IF(H15="",0,H15*I15) -> 0
B16: 13 | C16: 柔性防水套管 | D16: DN100 | G16: 个 | H16: 2 | J16: 做法详见《防水套管》(02S404) | K16: =IF(H16="",0,H16*I16) -> 0
B17: 14 | C17: 橡胶隔振垫 | G17: 个 | H17: 4 | J17: 用于现状设备机组 | K17: =IF(H17="",0,H17*I17) -> 0
A18: 注意：本材料表所列管道及设备基础工程量为设计参考值,最终工程量需根据设备中标单位出具的二次深化设计正式成果文件进行调整。
C19: 工艺部分小计 | K19: =SUM(K4:K17) -> 0
A20: 二、标准化泵房改造
B21: 1 | C21: 标准化泵房改造 | D21: 标准化泵房内部修缮改造，内容详见设计图 | G21: m2 | H21: 11 | K21: =IF(H21="",0,H21*I21) -> 0
C22: 标准化泵房改造部分小计 | K22: =SUM(K21:K21) -> 0
A23: 三、电气及自控设备
A24: 照明设备 | B24: 1 | C24: 应急照明箱(A型应急照明集中电源) ELD | D24: N-D-0.1kW-36(应急时间90min) | G24: 面 | H24: 1 | J24: 明装,底边距地1.6m | K24: =IF(H24="",0,H24*I24) -> 0
B25: 2 | C25: 应急LED泛光灯 | D25: 配36W LED灯,IP65 3600lm,6000K,Ra>85,COS%%C>0.95 | G25: 套 | H25: 1 | J25: 壁装,装高2.2m 自带蓄电池,应急时间180min | K25: =IF(H25="",0,H25*I25) -> 0
B26: 3 | C26: 单联开关 | D26: 250V.10A,防溅型 | G26: 只 | H26: 1 | J26: 底边距地1.3m(暗装) | K26: =IF(H26="",0,H26*I26) -> 0
B27: 4 | C27: 二+三孔带接地安全插座 | D27: 250V.10A,防溅型 | G27: 只 | H27: 2 | J27: 暗设,底边距地1.5m | K27: =IF(H27="",0,H27*I27) -> 0
B28: 5 | C28: 照明及插座管线 | D28: 详配电系统图及照明、插座平面布置图 | G28: 项 | H28: 1 | K28: =IF(H28="",0,H28*I28) -> 0
B29: 6 | C29: 消防应急照明灯具-壁装(中型) | D29: 7W,DC36V,A型,具有应急照明、巡检、开灯、灭灯功能 | G29: 套 | H29: 1 | J29: 底边距地2.2m,IP65 | K29: =IF(H29="",0,H29*I29) -> 0
B30: 7 | C30: 消防应急标志灯具-安全出口(中型) | D30: 1W,DC36V,A型,具有巡检、常亮、频闪功能 | G30: 套 | H30: 1 | J30: 装于门上方或悬挂安装,IP65 | K30: =IF(H30="",0,H30*I30) -> 0
B31: 8 | C31: 消防应急照明灯具-壁装(中型) | D31: 7W,DC36V,A型,具有应急照明、巡检、开灯、灭灯功能 | G31: 套 | H31: 1 | J31: 底边距地2.2m,户外型,IP67 | K31: =IF(H31="",0,H31*I31) -> 0
A32: 配电设备 | B32: 1 | C32: 泵房主控柜 ZKA | D32: 附件图纸,详见:D-EG-SA-02、K-EG-SA-04、05 注意：本单项报价还应包含自控图K-EG-SA-04、05中的所有设备元件价格。 | G32: 面 | H32: 1 | J32: 柜体采用304不锈钢材质,IP55,落地安装 基础用C30素混凝土垫高300mm 素混凝土基础上采用10#槽钢架高200mm | K32: =IF(H32="",0,H32*I32) -> 0
B33: 2 | C33: 电缆及保护管 | D33: 详:电缆一览表 | G33: 项 | H33: 1 | K33: =IF(H33="",0,H33*I33) -> 0
B34: 3 | C34: 304不锈钢电缆桥架(包括盖板) | D34: 200*100,采用304不锈钢板分隔,控制电缆占宽80mm 壁厚不小于2.0mm | G34: 米 | H34: 1 | J34: 配套所有配件及托臂,均采用304不锈钢材质 | K34: =IF(H34="",0,H34*I34) -> 0
B35: 4 | C35: 接地线 | D35: -40*4扁钢,304不锈钢材质 | G35: 米 | H35: 15 | K35: =IF(H35="",0,H35*I35) -> 0
B36: 5 | C36: 防水防火密封堵料 | G36: 千克 | H36: 3 | K36: =IF(H36="",0,H36*I36) -> 0
A37: 拆除设备 | B37: 1 | C37: 现状照明灯具、电缆及保护管 | G37: 项 | H37: 1 | K37: =IF(H37="",0,H37*I37) -> 0
A38: 自控设备 | B38: 1 | C38: 泵房主控柜 ZKA | D38: 附件图纸,详见:D-EG-SA-02、K-EG-SA-04、05 | G38: 面 | H38: 1 | I38: 此单项不计价，计入配电设备中
B39: 2 | C39: 电磁流量计变送器 FIT1 | D39: 测量口径:DN100,PN=1.0MPa,电源:~220VAC 测量范围:0~50m3/h,配置MODBUS通讯接口 测量精度不低于0.5级 变送器防护等级IP65,传感器防护等级IP68 | G39: 套 | H39: 1 | J39: 检测中区设备出水瞬时流量、累积流量 配套仪表箱(400*300*500),IP55 挂墙安装,底边距地1.1m, 箱体采用304不锈钢材质 | K39: =H39*I39 -> 0
C40: 电磁流量计传感器 FE1
B41: 3 | C41: 一体式超声波液位计 LIT | D41: 0~2m,IP65,输出信号:4~20mA | G41: 套 | H41: 1 | J41: 检测泵房液位 | K41: =IF(H41="",0,H41*I41) -> 0
B42: 4 | C42: 室内一体化网络高清球机 | D42: 400万像素,带红外、柔光补光、 人形侦测、智能警戒等功能,IP65 | G42: 套 | H42: 1 | J42: 装高2.3m,配套电源等辅件。 | K42: =IF(H42="",0,H42*I42) -> 0
B43: 5 | C43: 液晶显示器 YJA | D43: 21寸,配15米HDMI线缆,IP55 | G43: 套 | H43: 1 | J43: 挂墙安装,顶边距地1.6m,配套支架 | K43: =IF(H43="",0,H43*I43) -> 0
B44: 6 | C44: 电缆及保护管 | D44: 详:电缆一览表 | G44: 项 | H44: 1 | K44: =IF(H44="",0,H44*I44) -> 0
B45: 7 | C45: 新风系统 | G45: 项 | H45: 1 | K45: =H45*I45 -> 0
B46: 8 | C46: 质保期内网络通讯费 | G46: 项 | H46: 1 | K46: =IF(H46="",0,H46*I46) -> 0
B47: 9 | C47: 防水防火密封堵料 | G47: 千克 | H47: 3 | K47: =IF(H47="",0,H47*I47) -> 0
C48: 电气部分小计 | K48: =SUM(K24:K47) -> 0
C49: 本泵房报价合计 | K49: =K19+K22+K48 -> 0
A74: 锚点(供汇总引用) | C74: =K19 -> 0 | D74: =K22 -> 0 | H74: =K48 -> 0 | K74: =K49 -> 0
A75: 备注： | B75: 请注明报价包含/不包含范围、品牌偏好、供货周期、质保期及是否含安装调试。

Sheet 华宇双城
A1: 华宇双城 清单明细表
A2: 分部 | B2: 序号 | C2: 细项名称 | D2: 规格型号/技术要求 | E2: 材质 | F2: 制造商及品牌 | G2: 单位 | H2: 数量 | I2: 不含税单价(元) | J2: 备注 | K2: 合价(元)
A3: 一、工艺设备
B4: 1 | C4: 无负压户外一体化设备 （核心产品） | D4: Q=30m3/h,H=60m,单泵功率4kw 供水设备流量:30m3/h(水泵两用一备,单泵流量15m3/h,单泵功率4KW), 设备出口压力设置为0.75MPa,设备进口市政动压力约为0.35MPa, 采用全变频无负压供水加压设备，设备应具有实时显示流量、压力功能。 | E4: S31603 | G4: 套 | H4: 1 | J4: 含隔震垫,详见泵房设备参数表 | K4: =IF(H4="",0,H4*I4) -> 0
B5: 2 | C5: 临时供水费用 | G5: 项 | H5: 1 | K5: =IF(H5="",0,H5*I5) -> 0
B6: 2 | C6: 无负压户外一体化设备 （核心产品） | D6: Q=30m3/h,H=90m,单泵功率5.5kw 供水设备流量:30m3/h(水泵两用一备,单泵流量15m3/h,单泵功率5.5KW), 设备出口压力设置为1.05MPa,设备进口市政动压力约为0.35MPa, 采用全变频无负压供水加压设备，设备应具有实时显示流量、压力功能。 | E6: S31603 | G6: 套 | H6: 1 | J6: 含隔震垫,详见泵房设备参数表 | K6: =IF(H6="",0,H6*I6) -> 0
B7: 3 | C7: 不锈钢管 | D7: DN150,δ=2.5mm,L=5000mm,PN=1.0MPa | E7: S31603 | G7: 只 | H7: 1 | J7: 安装于进水管 | K7: =IF(H7="",0,H7*I7) -> 0
B8: 4 | C8: 不锈钢管 | D8: DN100,δ=2mm,L=2000mm,PN=1.0MPa | E8: S31603 | G8: 只 | H8: 1 | J8: 安装于出水管 | K8: =IF(H8="",0,H8*I8) -> 0
B9: 5 | C9: 不锈钢管 | D9: DN150,δ=2.5mm,L=2000mm,PN=1.6MPa | E9: S31603 | G9: 只 | H9: 1 | J9: 安装于出水管 | K9: =IF(H9="",0,H9*I9) -> 0
B10: 6 | C10: 不锈钢90°弯头 | D10: DN150,δ=2.0mm,Pn=1.0MPa | E10: S31603 | G10: 个 | H10: 3 | J10: 安装于进水管 | K10: =IF(H10="",0,H10*I10) -> 0
B11: 7 | C11: 法兰片 | D11: DN150,P=1.0MPa | E11: S31603 | G11: 个 | H11: 9 | J11: 安装于进水管 | K11: =IF(H11="",0,H11*I11) -> 0
B12: 8 | C12: 法兰片 | D12: DN100,P=1.0MPa | E12: S31603 | G12: 个 | H12: 6 | J12: 安装于出水管 | K12: =IF(H12="",0,H12*I12) -> 0
B13: 9 | C13: 法兰片 | D13: DN150,P=1.6MPa | E13: S31603 | G13: 个 | H13: 6 | J13: 安装于出水管 | K13: =IF(H13="",0,H13*I13) -> 0
B14: 10 | C14: 手自一体电动蝶阀 | D14: DN150,P=1.0MPa,Z945X | E14: S30408 | G14: 个 | H14: 1 | J14: 安装于进水管 | K14: =IF(H14="",0,H14*I14) -> 0
B15: 11 | C15: 手自一体电动蝶阀 | D15: DN100,P=1.0MPa,Z945X | E15: S30408 | G15: 个 | H15: 1 | J15: 安装于出水管 | K15: =IF(H15="",0,H15*I15) -> 0
B16: 12 | C16: 手自一体电动蝶阀 | D16: DN150,P=1.6MPa,Z945X | E16: S30408 | G16: 个 | H16: 1 | J16: 安装于出水管 | K16: =IF(H16="",0,H16*I16) -> 0
B17: 13 | C17: 不锈钢波纹管 | D17: DN150,P=1.0MPa | E17: S30408 | G17: 个 | H17: 1 | J17: 安装于进水管 | K17: =IF(H17="",0,H17*I17) -> 0
... B22: 20 | C22: 自动排气阀 | D22: DN25,P=1.0MPa | E22: S30408 | G22: 个 | H22: 1 | J22: 安装于进水管位置 | K22: =IF(H22="",0,H22*I22) -> 0
B23: 21 | C23: 灭火器 | D23: MF/ABC5 | G23: 个 | H23: 1 | K23: =IF(H23="",0,H23*I23) -> 0
B24: 22 | C24: 压力表 | D24: 精度2.5级,0~1.6MPa | E24: S30408 | G24: 个 | H24: 1 | J24: 安装于进水管 | K24: =IF(H24="",0,H24*I24) -> 0
B25: 23 | C25: 水锤吸纳器 | D25: DN100,P=1.0MPa | E25: S30408 | G25: 个 | H25: 1 | K25: =IF(H25="",0,H25*I25) -> 0
B26: 24 | C26: 水锤吸纳器 | D26: DN150,P=1.6MPa | E26: S30408 | G26: 个 | H26: 1 | K26: =IF(H26="",0,H26*I26) -> 0
B27: 25 | C27: 拆除原管道 | D27: DN150,δ=2.5mm,L=5000mm,PN=1.0MPa | E27: 钢制 | G27: 只 | H27: 1 | K27: =IF(H27="",0,H27*I27) -> 0
B28: 26 | C28: 拆除原管道 | D28: DN100,δ=2mm,L=2000mm,PN=1.0MPa | E28: 钢制 | G28: 只 | H28: 1 | K28: =IF(H28="",0,H28*I28) -> 0
A29: 注意：本材料表所列管道及设备基础工程量为设计参考值,最终工程量需根据设备中标单位出具的二次深化设计正式成果文件进行调整。
C30: 工艺部分小计 | K30: =SUM(K4:K28) -> 0
A31: 二、标准化泵房改造
K32: =IF(H32="",0,H32*I32) -> 0
K33: =IF(H33="",0,H33*I33) -> 0
K34: =IF(H34="",0,H34*I34) -> 0
K35: =IF(H35="",0,H35*I35) -> 0
K36: =IF(H36="",0,H36*I36) -> 0
K37: =IF(H37="",0,H37*I37) -> 0
K38: =IF(H38="",0,H38*I38) -> 0
K39: =IF(H39="",0,H39*I39) -> 0
C40: 标准化泵房改造部分小计 | K40: =SUM(K32:K39) -> 0
A41: 三、电气及自控设备
C47: 电气部分小计 | K47: =SUM(K42:K46) -> 0
C48: 本泵房报价合计 | K48: =K30+K40+K47 -> 0
A73: 锚点(供汇总引用) | C73: =K30 -> 0 | D73: =K40 -> 0 | H73: =K47 -> 0 | K73: =K48 -> 0
A74: 备注： | B74: 请注明报价包含/不包含范围、品牌偏好、供货周期、质保期及是否含安装调试。

Sheet 梅狮新村
A1: 梅狮新村 清单明细表
A2: 分部 | B2: 序号 | C2: 细项名称 | D2: 规格型号/技术要求 | E2: 材质 | F2: 制造商及品牌 | G2: 单位 | H2: 数量 | I2: 不含税单价(元) | J2: 备注 | K2: 合价(元)
A3: 一、工艺设备
B4: 1 | C4: 不锈钢管 | D4: DN200,δ=3.0mm,Pn=1.0MPa | E4: S31603 | G4: m | H4: 11 | K4: =IF(H4="",0,H4*I4) -> 0
B5: 2 | C5: 临时供水费用 | G5: 项 | H5: 1 | K5: =IF(H5="",0,H5*I5) -> 0
B6: 2 | C6: 不锈钢管 | D6: DN100,δ=2.0mm,Pn=1.6MPa | E6: S31603 | G6: m | H6: 21 | K6: =IF(H6="",0,H6*I6) -> 0
B7: 3 | C7: 法兰片 | D7: DN200,Pn=1.0MPa | E7: S31603 | G7: 个 | H7: 8 | K7: =IF(H7="",0,H7*I7) -> 0
B8: 4 | C8: 法兰片 | D8: DN100,Pn=1.6MPa | E8: S31603 | G8: 个 | H8: 12 | K8: =IF(H8="",0,H8*I8) -> 0
B9: 5 | C9: 手自一体电动蝶阀 | D9: DN200,Pn=1.0MPa,D943H | E9: S30408 | G9: 个 | H9: 3 | K9: =IF(H9="",0,H9*I9) -> 0
B10: 6 | C10: 手自一体电动蝶阀 | D10: DN100,Pn=1.6MPa,D943H | E10: S30408 | G10: 个 | H10: 2 | K10: =IF(H10="",0,H10*I10) -> 0
B11: 7 | C11: 不锈钢90°弯头 | D11: DN200,δ=6.0mm | E11: S31603 | G11: 个 | H11: 5 | K11: =IF(H11="",0,H11*I11) -> 0
B12: 8 | C12: 不锈钢90°弯头 | D12: DN100,δ=4.0mm,Pn=1.6MPa | E12: S31603 | G12: 个 | H12: 6 | K12: =IF(H12="",0,H12*I12) -> 0
B13: 9 | C13: 不锈钢波纹管 | D13: DN200,Pn=1.0MPa | E13: S30408 | G13: 个 | H13: 2 | K13: =IF(H13="",0,H13*I13) -> 0
B14: 10 | C14: 不锈钢波纹管 | D14: DN100,Pn=1.6MPa | E14: S30408 | G14: 个 | H14: 2 | K14: =IF(H14="",0,H14*I14) -> 0
B15: 11 | C15: Y型过滤器 | D15: DN200,Pn=1.0MPa | G15: 个 | H15: 1 | K15: =IF(H15="",0,H15*I15) -> 0
B16: 12 | C16: 倒流防止器 | D16: DN200,Pn=1.0MPa | G16: 个 | H16: 2 | K16: =IF(H16="",0,H16*I16) -> 0
B17: 16 | C17: 自动排气阀 | D17: DN25 | E17: S30408 | G17: 个 | H17: 2 | K17: =IF(H17="",0,H17*I17) -> 0
B18: 17 | C18: 拆除原管道 | D18: 钢管DN200 | E18: 钢制 | G18: m | H18: 11 | K18: =IF(H18="",0,H18*I18) -> 0
B19: 18 | C19: 拆除原管道 | D19: 钢管DN100 | E19: 钢制 | G19: m | H19: 21 | K19: =IF(H19="",0,H19*I19) -> 0
B20: 19 | C20: 灭火器 | D20: MF/ABC5 | G20: 个 | H20: 2 | K20: =IF(H20="",0,H20*I20) -> 0
B21: 20 | C21: 水锤吸纳器 | D21: DN100,Pn=1.6MPa | E21: SUS304 | G21: 个 | H21: 2 | K21: =IF(H21="",0,H21*I21) -> 0
B22: 21 | C22: 橡胶隔振垫 | G22: 个 | H22: 8 | J22: 用于现状设备机组 | K22: =IF(H22="",0,H22*I22) -> 0
A23: 注意：本材料表所列管道及设备基础工程量为设计参考值,最终工程量需根据设备中标单位出具的二次深化设计正式成果文件进行调整。
C24: 工艺部分小计 | K24: =SUM(K4:K22) -> 0
A25: 二、标准化泵房改造
B26: 1 | C26: 标准化泵房改造 | D26: 标准化泵房内部修缮改造，内容详见设计图 | G26: m2 | H26: 190 | K26: =IF(H26="",0,H26*I26) -> 0
K27: =IF(H27="",0,H27*I27) -> 0
K28: =IF(H28="",0,H28*I28) -> 0
K29: =IF(H29="",0,H29*I29) -> 0
K30: =IF(H30="",0,H30*I30) -> 0
K31: =IF(H31="",0,H31*I31) -> 0
K32: =IF(H32="",0,H32*I32) -> 0
K33: =IF(H33="",0,H33*I33) -> 0
C34: 标准化泵房改造部分小计 | K34: =SUM(K26:K33) -> 0
A35: 三、电气及自控设备
A36: 照明设备 | B36: 1 | C36: 应急照明箱(A型应急照明集中电源) ELD | D36: N-D-0.2kW-36(应急时间90min) | G36: 面 | H36: 1 | J36: 明装,底边距地1.6m | K36: =IF(H36="",0,H36*I36) -> 0
B37: 2 | C37: 应急双管LED支架灯 | D37: LED灯管 2*30W,IP65 3000lm,6000K,Ra>85,COS%%C>0.95 | G37: 套 | H37: 11 | J37: 壁装/吊装,装高3.0m 自带蓄电池,应急时间180min | K37: =IF(H37="",0,H37*I37) -> 0
B38: 3 | C38: 单(双)联开关 | D38: 250V.10A,防溅型 | G38: 只 | H38: 3 | J38: 底边距地1.3m(暗装) | K38: =IF(H38="",0,H38*I38) -> 0
B39: 4 | C39: 二+三孔带接地安全插座 | D39: 250V.10A,防溅型 | G39: 只 | H39: 2 | J39: 暗设,底边距地1.5m | K39: =IF(H39="",0,H39*I39) -> 0
B40: 5 | C40: 照明及插座管线 | D40: 详配电系统图及照明、插座平面布置图 | G40: 项 | H40: 1 | K40: =IF(H40="",0,H40*I40) -> 0
B41: 6 | C41: 消防应急照明灯具-壁装(中型) | D41: 7W,DC36V,A型,具有应急照明、巡检、开灯、灭灯功能 | G41: 套 | H41: 11 | J41: 底边距地2.5m,IP65 | K41: =IF(H41="",0,H41*I41) -> 0
B42: 7 | C42: 消防应急标志灯具-安全出口(中型) | D42: 1W,DC36V,A型,具有巡检、常亮、频闪功能 | G42: 套 | H42: 2 | J42: 装于门上方或悬挂安装,IP65 | K42: =IF(H42="",0,H42*I42) -> 0
B43: 8 | C43: 消防应急标志灯具-单面左向(中型) | D43: 1W,DC36V,A型,具有巡检、常亮、频闪功能 | G43: 套 | H43: 4 | J43: 底边距地0.5m,IP65 | K43: =IF(H43="",0,H43*I43) -> 0
B44: 9 | C44: 消防应急标志灯具-单面右向(中型) | D44: 1W,DC36V,A型,具有巡检、常亮、频闪功能 | G44: 套 | H44: 3 | J44: 底边距地0.5m,IP65 | K44: =IF(H44="",0,H44*I44) -> 0
A45: 配电设备 | B45: 1 | C45: 泵房主控柜 ZKA | D45: 附件图纸,详见:D-EG-MS-02、K-EG-MS-04、05 注意：本单项报价还应包含自控图K-EG-MS-04、05中的所有设备元件价格 | G45: 面 | H45: 1 | J45: 柜体采用304不锈钢材质,IP55,落地安装 基础用C30素混凝土垫高300mm 素混凝土基础上采用10#槽钢架高200mm | K45: =IF(H45="",0,H45*I45) -> 0
B46: 2 | C46: 电缆及保护管 | D46: 详:电缆一览表 | G46: 项 | H46: 1 | K46: =IF(H46="",0,H46*I46) -> 0
B47: 3 | C47: 304不锈钢电缆桥架(包括盖板) | D47: 200*100,采用304不锈钢板分隔,控制电缆占宽80mm 壁厚不小于2.0mm | G47: 米 | H47: 20 | J47: 配套所有配件及托臂,均采用304不锈钢材质 | K47: =IF(H47="",0,H47*I47) -> 0
B48: 4 | C48: 接地线 | D48: -40*4扁钢,304不锈钢材质 | G48: 米 | H48: 20 | K48: =IF(H48="",0,H48*I48) -> 0
B49: 5 | C49: 防水防火密封堵料 | G49: 千克 | H49: 3 | K49: =IF(H49="",0,H49*I49) -> 0
A50: 拆除设备 | B50: 1 | C50: 现状照明灯具、电缆及保护管 | G50: 项 | H50: 1 | K50: =IF(H50="",0,H50*I50) -> 0
A51: 自控设备 | B51: 1 | C51: 泵房主控柜 ZKA | D51: 附件图纸,详见:D-EG-MS-02、K-EG-MS-04、05 | G51: 面 | H51: 1 | I51: 此单项不计价，计入配电设备中
B52: 2 | C52: 电磁流量计变送器 FIT1 | D52: 测量口径:DN200,PN=1.0MPa,电源:~220VAC 测量范围:0~110m3/h,配置MODBUS通讯接口 测量精度不低于0.5级 变送器防护等级IP65,传感器防护等级IP68 | G52: 套 | H52: 1 | J52: 检测泵房进水总管瞬时流量、累积流量 配套仪表箱(400*300*500),IP55 挂墙安装,底边距地1.1m, 箱体采用304不锈钢材质 | K52: =H52*I52 -> 0
C53: 电磁流量计传感器 FE1
B54: 3 | C54: 电磁流量计变送器 FIT11 | D54: 测量口径:DN100,PN=1.6MPa,电源:~220VAC 测量范围:0~50m3/h,配置MODBUS通讯接口 测量精度不低于0.5级 变送器防护等级IP65,传感器防护等级IP68 | G54: 套 | H54: 1 | J54: 检测高区设备出水瞬时流量、累积流量 配套仪表箱(400*300*500),IP55 挂墙安装,底边距地1.1m, 箱体采用304不锈钢材质 | K54: =H54*I54 -> 0
C55: 电磁流量计传感器 FE11
B56: 4 | C56: 电磁流量计变送器 FIT21 | D56: 测量口径:DN100,PN=1.6MPa,电源:~220VAC 测量范围:0~50m3/h,配置MODBUS通讯接口 测量精度不低于0.5级 变送器防护等级IP65,传感器防护等级IP68 | G56: 套 | H56: 1 | J56: 检测超高区设备出水瞬时流量、累积流量 配套仪表箱(400*300*500),IP55 挂墙安装,底边距地1.1m, 箱体采用304不锈钢材质 | K56: =H56*I56 -> 0
C57: 电磁流量计传感器 FE21
B58: 5 | C58: 一体式超声波液位计 LIT | D58: 0~2m,IP65,输出信号:4~20mA | G58: 套 | H58: 1 | J58: 检测泵房液位 | K58: =IF(H58="",0,H58*I58) -> 0
B59: 6 | C59: 室内高清彩色网络枪机 | D59: 400万像素,带红外、柔光补光、 人形侦测、智能警戒等功能,IP65 | G59: 套 | H59: 2 | J59: 装高3.0m,配套电源等辅件。 | K59: =IF(H59="",0,H59*I59) -> 0
B60: 7 | C60: 室内一体化网络高清球机 | D60: 400万像素,带红外、柔光补光、 人形侦测、智能警戒等功能,IP65 | G60: 套 | H60: 1 | J60: 装高3.0m,配套电源等辅件。 | K60: =IF(H60="",0,H60*I60) -> 0
B61: 8 | C61: 液晶显示器 YJA | D61: 21寸,配15米HDMI线缆,IP55 | G61: 套 | H61: 1 | J61: 挂墙安装,顶边距地1.6m,配套支架 | K61: =IF(H61="",0,H61*I61) -> 0
B62: 9 | C62: 电缆及保护管 | D62: 详:电缆一览表 | G62: 项 | H62: 1 | K62: =IF(H62="",0,H62*I62) -> 0
B63: 10 | C63: 新风系统 | G63: 项 | H63: 1 | K63: =H63*I63 -> 0
B64: 11 | C64: 质保期内网络通讯费 | G64: 项 | H64: 1 | K64: =IF(H64="",0,H64*I64) -> 0
B65: 12 | C65: 防水防火密封堵料 | G65: 千克 | H65: 3 | K65: =IF(H65="",0,H65*I65) -> 0
C66: 电气部分小计 | K66: =SUM(K36:K65) -> 0
C67: 本泵房报价合计 | K67: =K24+K34+K66 -> 0
A92: 锚点(供汇总引用) | C92: =K24 -> 0 | D92: =K34 -> 0 | H92: =K66 -> 0 | K92: =K67 -> 0
A93: 备注： | B93: 请注明报价包含/不包含范围、品牌偏好、供货周期、质保期及是否含安装调试。

Sheet 三明医学科技职业学院
A1: 三明医学科技职业学院 清单明细表
A2: 分部 | B2: 序号 | C2: 细项名称 | D2: 规格型号/技术要求 | E2: 材质 | F2: 制造商及品牌 | G2: 单位 | H2: 数量 | I2: 不含税单价(元) | J2: 备注 | K2: 合价(元)
A3: 一、工艺设备
B4: 1 | C4: 不锈钢管 | D4: DN100,δ=2.0mm,Pn=1.0MPa | E4: S31603 | G4: m | H4: 11 | K4: =IF(H4="",0,H4*I4) -> 0
B5: 2 | C5: 临时供水费用 | G5: 项 | H5: 1 | K5: =IF(H5="",0,H5*I5) -> 0
B6: 2 | C6: 不锈钢90°弯头 | D6: DN100,δ=2.0mm,Pn=1.0MPa | E6: S31603 | G6: 个 | H6: 2 | K6: =IF(H6="",0,H6*I6) -> 0
B7: 3 | C7: 法兰片 | D7: DN100,Pn=1.0MPa | E7: S31603 | G7: 个 | H7: 8 | K7: =IF(H7="",0,H7*I7) -> 0
B8: 4 | C8: 手自一体电动蝶阀 | D8: DN100,Pn=1.0MPa,D943H | E8: S30408 | G8: 个 | H8: 2 | K8: =IF(H8="",0,H8*I8) -> 0
B9: 5 | C9: 不锈钢波纹管 | D9: DN100,Pn=1.0MPa | E9: S30408 | G9: 个 | H9: 2 | K9: =IF(H9="",0,H9*I9) -> 0
B10: 6 | C10: Y型过滤器 | D10: DN100,Pn=1.0MPa | G10: 个 | H10: 1 | K10: =IF(H10="",0,H10*I10) -> 0
B11: 7 | C11: 倒流防止器 | D11: DN100,Pn=1.0MPa | G11: 个 | H11: 1 | K11: =IF(H11="",0,H11*I11) -> 0
B12: 9 | C12: 自动排气阀 | D12: DN25 | E12: S30408 | G12: 个 | H12: 1 | K12: =IF(H12="",0,H12*I12) -> 0
B13: 10 | C13: 水锤吸纳器 | D13: DN100,Pn=1.0MPa | E13: SUS304 | G13: 个 | H13: 1 | K13: =IF(H13="",0,H13*I13) -> 0
B14: 11 | C14: 拆除原管道 | D14: 钢管DN100 | E14: 钢制 | G14: m | H14: 11 | K14: =IF(H14="",0,H14*I14) -> 0
B15: 12 | C15: 灭火器 | D15: MF/ABC5 | G15: 个 | H15: 2 | K15: =IF(H15="",0,H15*I15) -> 0
B16: 13 | C16: 橡胶隔振垫 | G16: 个 | H16: 4 | J16: 用于现状设备机组 | K16: =IF(H16="",0,H16*I16) -> 0
A17: 注意：本材料表所列管道及设备基础工程量为设计参考值,最终工程量需根据设备中标单位出具的二次深化设计正式成果文件进行调整。
C18: 工艺部分小计 | K18: =SUM(K4:K16) -> 0
A19: 二、标准化泵房改造
B20: 1 | C20: 标准化泵房改造 | D20: 标准化泵房内部修缮改造，内容详见设计图 | G20: m2 | H20: 50 | K20: =IF(H20="",0,H20*I20) -> 0
C21: 标准化泵房改造部分小计 | K21: =SUM(K20:K20) -> 0
A22: 三、电气及自控设备
A23: 照明设备 | B23: 1 | C23: 应急照明箱(A型应急照明集中电源) ELD | D23: N-D-0.1kW-36(应急时间90min) | G23: 面 | H23: 1 | J23: 明装,底边距地1.6m | K23: =IF(H23="",0,H23*I23) -> 0
B24: 2 | C24: 应急LED泛光灯 | D24: 配36W LED灯,IP65 3600lm,6000K,Ra>85,COS%%C>0.95 | G24: 套 | H24: 4 | J24: 壁装,装高3.0m 自带蓄电池,应急时间180min | K24: =IF(H24="",0,H24*I24) -> 0
B25: 3 | C25: 双联开关 | D25: 250V.10A,防溅型 | G25: 只 | H25: 1 | J25: 底边距地1.3m(暗装) | K25: =IF(H25="",0,H25*I25) -> 0
B26: 4 | C26: 二+三孔带接地安全插座 | D26: 250V.10A,防溅型 | G26: 只 | H26: 2 | J26: 暗设,底边距地1.5m | K26: =IF(H26="",0,H26*I26) -> 0
B27: 5 | C27: 照明及插座管线 | D27: 详配电系统图及照明、插座平面布置图 | G27: 项 | H27: 1 | K27: =IF(H27="",0,H27*I27) -> 0
B28: 6 | C28: 消防应急照明灯具-壁装(中型) | D28: 7W,DC36V,A型,具有应急照明、巡检、开灯、灭灯功能 | G28: 套 | H28: 4 | J28: 底边距地2.5m,IP65 | K28: =IF(H28="",0,H28*I28) -> 0
B29: 7 | C29: 消防应急标志灯具-安全出口(中型) | D29: 1W,DC36V,A型,具有巡检、常亮、频闪功能 | G29: 套 | H29: 1 | J29: 装于门上方或悬挂安装,IP65 | K29: =IF(H29="",0,H29*I29) -> 0
B30: 8 | C30: 消防应急照明灯具-壁装(中型) | D30: 7W,DC36V,A型,具有应急照明、巡检、开灯、灭灯功能 | G30: 套 | H30: 1 | J30: 底边距地2.5m,户外型,IP67 | K30: =IF(H30="",0,H30*I30) -> 0
A31: 配电设备 | B31: 1 | C31: 泵房主控柜 ZKA | D31: 附件图纸,详见:D-EG-YK-02、K-EG-YK-04、05 注意：本单项报价还应包含自控图K-EG-YK-04、05中的所有设备元件价格 | G31: 面 | H31: 1 | J31: 柜体采用304不锈钢材质,IP55,落地安装 基础用C30素混凝土垫高300mm 素混凝土基础上采用10#槽钢架高200mm | K31: =IF(H31="",0,H31*I31) -> 0
B32: 2 | C32: 电缆及保护管 | D32: 详:电缆一览表 | G32: 项 | H32: 1 | K32: =IF(H32="",0,H32*I32) -> 0
B33: 3 | C33: 304不锈钢电缆桥架(包括盖板) | D33: 200*100,采用304不锈钢板分隔,控制电缆占宽80mm 壁厚不小于2.0mm | G33: 米 | H33: 1 | J33: 配套所有配件及托臂,均采用304不锈钢材质 | K33: =IF(H33="",0,H33*I33) -> 0
B34: 4 | C34: 接地线 | D34: -40*4扁钢,304不锈钢材质 | G34: 米 | H34: 20 | K34: =IF(H34="",0,H34*I34) -> 0
B35: 5 | C35: 防水防火密封堵料 | G35: 千克 | H35: 3 | K35: =IF(H35="",0,H35*I35) -> 0
A36: 拆除设备 | B36: 1 | C36: 现状照明灯具、电缆及保护管 | G36: 项 | H36: 1 | K36: =IF(H36="",0,H36*I36) -> 0
A37: 自控设备 | B37: 1 | C37: 泵房主控柜 ZKA | D37: 附件图纸,详见:D-EG-YK-02、K-EG-YK-04、05 | G37: 面 | H37: 1 | I37: 此单项不计价，计入配电设备中
B38: 2 | C38: 电磁流量计变送器 FIT1 | D38: 测量口径:DN100,PN=1.0MPa,电源:~220VAC 测量范围:0~50m3/h,配置MODBUS通讯接口 测量精度不低于0.5级 变送器防护等级IP65,传感器防护等级IP68 | G38: 套 | H38: 1 | J38: 检测中区设备出水瞬时流量、累积流量 配套仪表箱(400*300*500),IP55 挂墙安装,底边距地1.1m, 箱体采用304不锈钢材质 | K38: =H38*I38 -> 0
C39: 电磁流量计传感器 FE1
B40: 3 | C40: 一体式超声波液位计 LIT | D40: 0~2m,IP65,输出信号:4~20mA | G40: 套 | H40: 1 | J40: 检测泵房液位 | K40: =IF(H40="",0,H40*I40) -> 0
B41: 4 | C41: 室内一体化网络高清球机 | D41: 400万像素,带红外、柔光补光、 人形侦测、智能警戒等功能,IP65 | G41: 套 | H41: 1 | J41: 装高3.0m,配套电源等辅件。 | K41: =IF(H41="",0,H41*I41) -> 0
B42: 5 | C42: 液晶显示器 YJA | D42: 21寸,配15米HDMI线缆,IP55 | G42: 套 | H42: 1 | J42: 挂墙安装,顶边距地1.6m,配套支架 | K42: =IF(H42="",0,H42*I42) -> 0
B43: 6 | C43: 电缆及保护管 | D43: 详:电缆一览表 | G43: 项 | H43: 1 | K43: =IF(H43="",0,H43*I43) -> 0
B44: 7 | C44: 新风系统 | G44: 项 | H44: 1 | K44: =H44*I44 -> 0
B45: 8 | C45: 质保期内网络通讯费 | G45: 项 | H45: 1 | K45: =IF(H45="",0,H45*I45) -> 0
B46: 9 | C46: 防水防火密封堵料 | G46: 千克 | H46: 3 | K46: =IF(H46="",0,H46*I46) -> 0
C47: 电气部分小计 | K47: =SUM(K23:K46) -> 0
C48: 本泵房报价合计 | K48: =K18+K21+K47 -> 0
A73: 锚点(供汇总引用) | C73: =K18 -> 0 | D73: =K21 -> 0 | H73: =K47 -> 0 | K73: =K48 -> 0
A74: 备注： | B74: 请注明报价包含/不包含范围、品牌偏好、供货周期、质保期及是否含安装调试。

Sheet 府中大厦
A1: 府中大厦 清单明细表
A2: 分部 | B2: 序号 | C2: 细项名称 | D2: 规格型号/技术要求 | E2: 材质 | F2: 制造商及品牌 | G2: 单位 | H2: 数量 | I2: 不含税单价(元) | J2: 备注 | K2: 合价(元)
A3: 一、工艺设备
B4: 1 | C4: 不锈钢管 | D4: DN150,δ=2.5mm,L=15000mm,PN=1.0MPa | E4: S31603 | G4: 只 | H4: 1 | J4: 安装于进水管 | K4: =IF(H4="",0,H4*I4) -> 0
B5: 2 | C5: 临时供水费用 | G5: 项 | H5: 1 | K5: =IF(H5="",0,H5*I5) -> 0
B6: 2 | C6: 不锈钢管 | D6: DN100,δ=2mm,L=15000mm,PN=1.0MPa | E6: S31603 | G6: 只 | H6: 1 | J6: 安装于出水管 | K6: =IF(H6="",0,H6*I6) -> 0
B7: 3 | C7: 不锈钢90°弯头 | D7: DN150,δ=2.0mm,Pn=1.0MPa | E7: S31603 | G7: 个 | H7: 3 | J7: 安装于进水管 | K7: =IF(H7="",0,H7*I7) -> 0
B8: 4 | C8: 法兰片 | D8: DN150,P=1.0MPa | E8: S31603 | G8: 个 | H8: 4 | J8: 安装于进水管 | K8: =IF(H8="",0,H8*I8) -> 0
B9: 5 | C9: 法兰片 | D9: DN100,P=1.0MPa | E9: S31603 | G9: 个 | H9: 6 | J9: 安装于出水管 | K9: =IF(H9="",0,H9*I9) -> 0
B10: 6 | C10: 手自一体电动蝶阀 | D10: DN150,P=1.0MPa,Z945X | E10: S30408 | G10: 个 | H10: 1 | J10: 安装于进水管 | K10: =IF(H10="",0,H10*I10) -> 0
B11: 7 | C11: 手自一体电动蝶阀 | D11: DN100,P=1.0MPa,Z945X | E11: S30408 | G11: 个 | H11: 1 | J11: 安装于出水管 | K11: =IF(H11="",0,H11*I11) -> 0
B12: 8 | C12: 不锈钢波纹管 | D12: DN150,P=1.0MPa | E12: S30408 | G12: 个 | H12: 1 | J12: 安装于进水管 | K12: =IF(H12="",0,H12*I12) -> 0
B13: 9 | C13: 不锈钢波纹管 | D13: DN100,P=1.0MPa | E13: S30408 | G13: 个 | H13: 1 | J13: 安装于出水管 | K13: =IF(H13="",0,H13*I13) -> 0
B14: 10 | C14: Y型过滤器 | D14: DN150,P=1.0MPa | E14: S30408 | G14: 个 | H14: 1 | J14: 安装于进水管 | K14: =IF(H14="",0,H14*I14) -> 0
B15: 11 | C15: 倒流防止器 | D15: DN150,P=1.0MPa | E15: S30408 | G15: 个 | H15: 1 | J15: 安装于进水管 | K15: =IF(H15="",0,H15*I15) -> 0
B16: 12 | C16: 电磁流量计 | D16: DN100,P=1.0MPa | E16: S30408 | G16: 个 | H16: 1 | J16: 测量精度≤0.5级,测量范围0-50m3/h 详自控专业图纸 | K16: =IF(H16="",0,H16*I16) -> 0
B17: 13 | C17: 自动排气阀 | D17: DN25,P=1.0MPa | E17: S30408 | G17: 个 | H17: 1 | J17: 安装于进水管位置 | K17: =IF(H17="",0,H17*I17) -> 0
B18: 14 | C18: 灭火器 | D18: MF/ABC5 | G18: 个 | H18: 1 | K18: =IF(H18="",0,H18*I18) -> 0
B19: 15 | C19: 压力表 | D19: 精度2.5级,0~1.6MPa | E19: S30408 | G19: 个 | H19: 1 | J19: 安装于进水管 | K19: =IF(H19="",0,H19*I19) -> 0
B20: 16 | C20: 水锤吸纳器 | D20: DN100,P=1.0MPa | E20: S30408 | G20: 个 | H20: 1 | J20: 安装于出水管 | K20: =IF(H20="",0,H20*I20) -> 0
B21: 17 | C21: 拆除原管道 | D21: DN150,δ=2.5mm,L=2000mm,PN=1.0MPa | E21: 钢制 | G21: 只 | H21: 1 | K21: =IF(H21="",0,H21*I21) -> 0
B22: 18 | C22: 拆除原管道 | D22: DN100,δ=2mm,L=2000mm,PN=1.0MPa | E22: 钢制 | G22: 只 | H22: 1 | K22: =IF(H22="",0,H22*I22) -> 0
A23: 注意：本材料表所列管道及设备基础工程量为设计参考值,最终工程量需根据设备中标单位出具的二次深化设计正式成果文件进行调整。
C24: 工艺部分小计 | K24: =SUM(K4:K22) -> 0
A25: 二、标准化泵房改造
K26: =IF(H26="",0,H26*I26) -> 0
K27: =IF(H27="",0,H27*I27) -> 0
K28: =IF(H28="",0,H28*I28) -> 0
K29: =IF(H29="",0,H29*I29) -> 0
K30: =IF(H30="",0,H30*I30) -> 0
K31: =IF(H31="",0,H31*I31) -> 0
K32: =IF(H32="",0,H32*I32) -> 0
K33: =IF(H33="",0,H33*I33) -> 0
C34: 标准化泵房改造部分小计 | K34: =SUM(K26:K33) -> 0
A35: 三、电气及自控设备
C42: 电气部分小计 | K42: =SUM(K36:K41) -> 0
C43: 本泵房报价合计 | K43: =K24+K34+K42 -> 0
A68: 锚点(供汇总引用) | C68: =K24 -> 0 | D68: =K34 -> 0 | H68: =K42 -> 0 | K68: =K43 -> 0
A69: 备注： | B69: 请注明报价包含/不包含范围、品牌偏好、供货周期、质保期及是否含安装调试。

Sheet 阳光城68#泵房
A1: 阳光城68#泵房 清单明细表
A2: 分部 | B2: 序号 | C2: 细项名称 | D2: 规格型号/技术要求 | E2: 材质 | F2: 制造商及品牌 | G2: 单位 | H2: 数量 | I2: 不含税单价(元) | J2: 备注 | K2: 合价(元)
A3: 一、工艺设备
B4: 1 | C4: 无负压户外一体化设备 （核心产品） | D4: Q=34m3/h,H=65m,单泵功率5.5kw 供水设备流量:34m3/h(水泵两用一备,单泵流量17m3/h,单泵功率5.5KW), 设备出口压力设置为0.73MPa,设备进口市政动压力约为0.28MPa, 采用全变频无负压供水加压设备，设备应具有实时显示流量、压力功能。 | E4: S31603 | G4: 套 | H4: 1 | J4: 详见泵房设备参数表 | K4: =IF(H4="",0,H4*I4) -> 0
B5: 2 | C5: 临时供水费用 | G5: 项 | H5: 1 | K5: =IF(H5="",0,H5*I5) -> 0
B6: 2 | C6: 不锈钢管 | D6: DN150,δ=2.5mm,L=2000mm,PN=1.0MPa | E6: S31603 | G6: 只 | H6: 1 | J6: 安装于进水管 | K6: =IF(H6="",0,H6*I6) -> 0
B7: 3 | C7: 不锈钢管 | D7: DN150,δ=2.5mm,L=2000mm,PN=1.0MPa | E7: S31603 | G7: 只 | H7: 1 | J7: 安装于出水管 | K7: =IF(H7="",0,H7*I7) -> 0
B8: 4 | C8: 不锈钢90°弯头 | D8: DN150,δ=2.0mm,Pn=1.0MPa | E8: S31603 | G8: 个 | H8: 3 | J8: 安装于进水管 | K8: =IF(H8="",0,H8*I8) -> 0
B9: 5 | C9: 法兰片 | D9: DN150,P=1.0MPa | E9: S31603 | G9: 个 | H9: 4 | J9: 安装于进水管 | K9: =IF(H9="",0,H9*I9) -> 0
B10: 6 | C10: 法兰片 | D10: DN150,P=1.0MPa | E10: S31603 | G10: 个 | H10: 6 | J10: 安装于出水管 | K10: =IF(H10="",0,H10*I10) -> 0
B11: 7 | C11: 手自一体电动蝶阀 | D11: DN150,P=1.0MPa,Z945X | E11: S30408 | G11: 个 | H11: 1 | J11: 安装于进水管 | K11: =IF(H11="",0,H11*I11) -> 0
B12: 8 | C12: 手自一体电动蝶阀 | D12: DN150,P=1.0MPa,Z945X | E12: S30408 | G12: 个 | H12: 1 | J12: 安装于出水管 | K12: =IF(H12="",0,H12*I12) -> 0
B13: 9 | C13: 不锈钢波纹管 | D13: DN150,P=1.0MPa | E13: S30408 | G13: 个 | H13: 1 | J13: 安装于进水管 | K13: =IF(H13="",0,H13*I13) -> 0
B14: 10 | C14: 不锈钢波纹管 | D14: DN150,P=1.0MPa | E14: S30408 | G14: 个 | H14: 1 | J14: 安装于出水管 | K14: =IF(H14="",0,H14*I14) -> 0
B15: 11 | C15: Y型过滤器 | D15: DN150,P=1.0MPa | E15: S30408 | G15: 个 | H15: 1 | J15: 安装于进水管 | K15: =IF(H15="",0,H15*I15) -> 0
B16: 12 | C16: 倒流防止器 | D16: DN150,P=1.0MPa | E16: S30408 | G16: 个 | H16: 1 | J16: 安装于进水管 | K16: =IF(H16="",0,H16*I16) -> 0
B17: 13 | C17: 电磁流量计 | D17: DN150,P=1.0MPa | E17: S30408 | G17: 个 | H17: 1 | J17: 测量精度≤0.5级,测量范围0-50m3/h 详自控专业图纸 | K17: =IF(H17="",0,H17*I17) -> 0
B18: 14 | C18: 自动排气阀 | D18: DN25,P=1.0MPa | E18: S30408 | G18: 个 | H18: 1 | J18: 安装于进水管位置 | K18: =IF(H18="",0,H18*I18) -> 0
B19: 15 | C19: 灭火器 | D19: MF/ABC5 | G19: 个 | H19: 1 | K19: =IF(H19="",0,H19*I19) -> 0
B20: 16 | C20: 压力表 | D20: 精度2.5级,0~1.6MPa | E20: S30408 | G20: 个 | H20: 1 | J20: 安装于进水管 | K20: =IF(H20="",0,H20*I20) -> 0
B21: 17 | C21: 水锤吸纳器 | D21: DN150,P=1.0MPa | E21: S30408 | G21: 个 | H21: 1 | J21: 安装于出水管 | K21: =IF(H21="",0,H21*I21) -> 0
B22: 18 | C22: 拆除原管道 | D22: DN150,δ=2.5mm,L=2000mm,PN=1.0MPa | E22: 钢制 | G22: 只 | H22: 1 | K22: =IF(H22="",0,H22*I22) -> 0
B23: 19 | C23: 拆除原管道 | D23: DN150,δ=2mm,L=2000mm,PN=1.0MPa | E23: 钢制 | G23: 只 | H23: 1 | K23: =IF(H23="",0,H23*I23) -> 0
A24: 注意：本材料表所列管道及设备基础工程量为设计参考值,最终工程量需根据设备中标单位出具的二次深化设计正式成果文件进行调整。
C25: 工艺部分小计 | K25: =SUM(K4:K23) -> 0
A26: 二、标准化泵房改造
B27: 1 | C27: 标准化泵房改造 | D27: 标准化泵房内部修缮改造，内容详见设计图 | G27: m2 | H27: 27 | K27: =IF(H27="",0,H27*I27) -> 0
C28: 标准化泵房改造部分小计 | K28: =SUM(K27:K27) -> 0
A29: 三、电气及自控设备
C38: 电气部分小计 | K38: =SUM(K30:K37) -> 0
C39: 本泵房报价合计 | K39: =K25+K28+K38 -> 0
A64: 锚点(供汇总引用) | C64: =K25 -> 0 | D64: =K28 -> 0 | H64: =K38 -> 0 | K64: =K39 -> 0
A65: 备注： | B65: 请注明报价包含/不包含范围、品牌偏好、供货周期、质保期及是否含安装调试。

Sheet 阳光城82#泵房
A1: 阳光城82#泵房 清单明细表
A2: 分部 | B2: 序号 | C2: 细项名称 | D2: 规格型号/技术要求 | E2: 材质 | F2: 制造商及品牌 | G2: 单位 | H2: 数量 | I2: 不含税单价(元) | J2: 备注 | K2: 合价(元)
A3: 一、工艺设备
B4: 1 | C4: 不锈钢管 | D4: DN200,δ=3mm,Pn=1.0MPa | E4: S31603 | G4: m | H4: 5 | K4: =IF(H4="",0,H4*I4) -> 0
B5: 2 | C5: 临时供水费用 | G5: 项 | H5: 1 | K5: =IF(H5="",0,H5*I5) -> 0
B6: 2 | C6: 不锈钢管 | D6: DN150,δ=2.5mm,Pn=1.0MPa | E6: S31603 | G6: m | H6: 12 | K6: =IF(H6="",0,H6*I6) -> 0
B7: 3 | C7: 不锈钢管 | D7: DN150,δ=2.5mm,Pn=1.6MPa | E7: S31603 | G7: m | H7: 4 | K7: =IF(H7="",0,H7*I7) -> 0
B8: 4 | C8: 不锈钢90°弯头 | D8: DN200,δ=2.8mm,Pn=1.0MPa | E8: S31603 | G8: 个 | H8: 1 | K8: =IF(H8="",0,H8*I8) -> 0
B9: 5 | C9: 不锈钢90°弯头 | D9: DN150,δ=2.8mm,Pn=1.0MPa | E9: S31603 | G9: 个 | H9: 6 | K9: =IF(H9="",0,H9*I9) -> 0
B10: 6 | C10: 不锈钢90°弯头 | D10: DN150,δ=2.8mm,Pn=1.6MPa | E10: S31603 | G10: 个 | H10: 1 | K10: =IF(H10="",0,H10*I10) -> 0
B11: 7 | C11: 不锈钢三通 | D11: DN200*DN150,Pn=1.0MPa | E11: S31603 | G11: 个 | H11: 1 | K11: =IF(H11="",0,H11*I11) -> 0
B12: 8 | C12: 异径大小头 | D12: DN200*DN150,Pn=1.0MPa | E12: S31603 | G12: 个 | H12: 1 | K12: =IF(H12="",0,H12*I12) -> 0
B13: 9 | C13: 法兰片 | D13: DN200,Pn=1.0MPa | E13: S31603 | G13: 个 | H13: 1 | K13: =IF(H13="",0,H13*I13) -> 0
B14: 10 | C14: 法兰片 | D14: DN150,Pn=1.0MPa | E14: S31603 | G14: 个 | H14: 3 | K14: =IF(H14="",0,H14*I14) -> 0
B15: 11 | C15: 法兰片 | D15: DN150,Pn=1.6MPa | E15: S31603 | G15: 个 | H15: 3 | K15: =IF(H15="",0,H15*I15) -> 0
B16: 12 | C16: 手自一体电动蝶阀 | D16: DN200,Pn=1.0MPa,Z945X | E16: SUS304 | G16: 个 | H16: 1 | K16: =IF(H16="",0,H16*I16) -> 0
B17: 13 | C17: 手自一体电动蝶阀 | D17: DN150,Pn=1.0MPa,Z945X | E17: SUS304 | G17: 个 | H17: 3 | K17: =IF(H17="",0,H17*I17) -> 0
... B20: 16 | C20: Y型过滤器 | D20: DN200,P=1.0MPa | E20: S31603 | G20: 个 | H20: 1 | K20: =IF(H20="",0,H20*I20) -> 0
B21: 17 | C21: 电磁流量计 | D21: DN200,P=1.0MPa | G21: 个 | H21: 1 | J21: 测量精度≤0.5级,测量范围0-100m3/h 详自控专业图纸 | K21: =IF(H21="",0,H21*I21) -> 0
B22: 18 | C22: 电磁流量计 | D22: DN150,P=1.0MPa | G22: 个 | H22: 1 | J22: 测量精度≤0.5级,测量范围0-50m3/h 详自控专业图纸 | K22: =IF(H22="",0,H22*I22) -> 0
B23: 19 | C23: 电磁流量计 | D23: DN150,P=1.6MPa | G23: 个 | H23: 1 | J23: 测量精度≤0.5级,测量范围0-50m3/h 详自控专业图纸 | K23: =IF(H23="",0,H23*I23) -> 0
B24: 20 | C24: 水锤吸纳器 | D24: DN150 | E24: SUS304 | G24: 个 | H24: 2 | K24: =IF(H24="",0,H24*I24) -> 0
B25: 21 | C25: 灭火器 | D25: 5KG手提式干粉灭火器 | G25: 个 | H25: 2 | K25: =IF(H25="",0,H25*I25) -> 0
B26: 22 | C26: 不锈钢波纹管 | D26: DN150,P=1.0MPa | E26: SUS304 | G26: 个 | H26: 3 | K26: =IF(H26="",0,H26*I26) -> 0
B27: 23 | C27: 不锈钢波纹管 | D27: DN150,P=1.6MPa | E27: SUS304 | G27: 个 | H27: 1 | K27: =IF(H27="",0,H27*I27) -> 0
B28: 24 | C28: 压力表 | D28: 精度2.5级,0~1.6MPa | E28: SUS304 | G28: 个 | H28: 1 | K28: =IF(H28="",0,H28*I28) -> 0
B29: 25 | C29: 排气阀 | D29: DN25 | G29: 个 | H29: 2 | J29: 安装于进水管位置 | K29: =IF(H29="",0,H29*I29) -> 0
B30: 26 | C30: 拆除原管道 | D30: DN200 | E30: 钢制 | G30: m | H30: 5 | K30: =IF(H30="",0,H30*I30) -> 0
B31: 27 | C31: 拆除原管道 | D31: DN150 | E31: 钢制 | G31: m | H31: 16 | K31: =IF(H31="",0,H31*I31) -> 0
B32: 28 | C32: 柔性防水套管(B型) | D32: DN150 | G32: 个 | H32: 4 | K32: =IF(H32="",0,H32*I32) -> 0
B33: 29 | C33: 弹簧隔振器 | G33: 个 | H33: 8
A34: 注意：本材料表所列管道及设备基础工程量为设计参考值,最终工程量需根据设备中标单位出具的二次深化设计正式成果文件进行调整。
C35: 工艺部分小计 | K35: =SUM(K4:K33) -> 0
A36: 二、标准化泵房改造
B37: 1 | C37: 标准化泵房改造 | D37: 标准化泵房内部修缮改造，内容详见设计图 | G37: m2 | H37: 30 | K37: =IF(H37="",0,H37*I37) -> 0
C38: 标准化泵房改造部分小计 | K38: =SUM(K37:K37) -> 0
A39: 三、电气及自控设备
A40: 照明设备 | B40: 1 | C40: 应急照明箱(A型应急照明集中电源) ELD | D40: N-D-0.1kW-36(应急时间90min) | G40: 面 | H40: 1 | J40: 明装,底边距地1.6m | K40: =IF(H40="",0,H40*I40) -> 0
B41: 2 | C41: 应急LED泛光灯 | D41: 配36W LED灯,IP65 3600lm,6000K,Ra>85,COS%%C>0.95 | G41: 套 | H41: 2 | J41: 壁装,装高3.0m 自带蓄电池,应急时间180min | K41: =IF(H41="",0,H41*I41) -> 0
B42: 3 | C42: 双联开关 | D42: 250V.10A,防溅型 | G42: 只 | H42: 1 | J42: 底边距地1.3m(暗装) | K42: =IF(H42="",0,H42*I42) -> 0
B43: 4 | C43: 二+三孔带接地安全插座 | D43: 250V.10A,防溅型 | G43: 只 | H43: 2 | J43: 暗设,底边距地1.5m | K43: =IF(H43="",0,H43*I43) -> 0
B44: 5 | C44: 照明及插座管线 | D44: 详配电系统图及照明、插座平面布置图 | G44: 项 | H44: 1 | K44: =IF(H44="",0,H44*I44) -> 0
B45: 6 | C45: 消防应急照明灯具-壁装(中型) | D45: 7W,DC36V,A型,具有应急照明、巡检、开灯、灭灯功能 | G45: 套 | H45: 3 | J45: 底边距地2.5m,IP65 | K45: =IF(H45="",0,H45*I45) -> 0
B46: 7 | C46: 消防应急标志灯具-安全出口(中型) | D46: 1W,DC36V,A型,具有巡检、常亮、频闪功能 | G46: 套 | H46: 1 | J46: 装于门上方或悬挂安装,IP65 | K46: =IF(H46="",0,H46*I46) -> 0
A47: 配电设备 | B47: 1 | C47: 泵房主控柜 ZKA | D47: 附件图纸,详见:D-EG-YG-02、K-EG-YG-04、05 注意：本单项报价还应包含自控图K-EG-YG-04、05中的所有设备元件价格 | G47: 面 | H47: 1 | J47: 柜体采用304不锈钢材质,IP55,落地安装 基础用C30素混凝土垫高300mm 素混凝土基础上采用10#槽钢架高200mm | K47: =IF(H47="",0,H47*I47) -> 0
B48: 2 | C48: 电缆及保护管 | D48: 详:电缆一览表 | G48: 项 | H48: 1 | K48: =IF(H48="",0,H48*I48) -> 0
B49: 3 | C49: 304不锈钢电缆桥架(包括盖板) | D49: 200*100,采用304不锈钢板分隔,控制电缆占宽80mm 壁厚不小于2.0mm | G49: 米 | H49: 1 | J49: 配套所有配件及托臂,均采用304不锈钢材质 | K49: =IF(H49="",0,H49*I49) -> 0
B50: 4 | C50: 接地线 | D50: -40*4扁钢,304不锈钢材质 | G50: 米 | H50: 20 | K50: =IF(H50="",0,H50*I50) -> 0
B51: 5 | C51: 防水防火密封堵料 | G51: 千克 | H51: 3 | K51: =IF(H51="",0,H51*I51) -> 0
A52: 拆除设备 | B52: 1 | C52: 现状照明灯具、电缆及保护管 | G52: 项 | H52: 1 | K52: =IF(H52="",0,H52*I52) -> 0
A53: 自控设备 | B53: 1 | C53: 泵房主控柜 ZKA | D53: 附件图纸,详见:D-EG-YG-02、K-EG-YG-04、05 | G53: 面 | H53: 1 | J53: 此单项不计价，计入配电设备中
B54: 2 | C54: 电磁流量计变送器 FIT1 | D54: 测量口径:DN200,PN=1.0MPa,电源:~220VAC 测量范围:0~100m3/h,配置MODBUS通讯接口 测量精度不低于0.5级 变送器防护等级IP65,传感器防护等级IP68 | G54: 套 | H54: 1 | J54: 检测泵房进水总管瞬时流量、累积流量 配套仪表箱(400*300*500),IP55 挂墙安装,底边距地1.1m, 箱体采用304不锈钢材质 | K54: =H54*I54 -> 0
C55: 电磁流量计传感器 FE1
B56: 3 | C56: 一体式电磁流量计 FIT11 | D56: 测量口径:DN150,PN=1.0MPa,电源:~220VAC 测量范围:0~50m3/h,配置MODBUS通讯接口 测量精度不低于0.5级 防护等级IP65 | G56: 套 | H56: 1 | J56: 检测中区设备出水瞬时流量、累积流量 | K56: =IF(H56="",0,H56*I56) -> 0
B57: 4 | C57: 一体式电磁流量计 FIT21 | D57: 测量口径:DN150,PN=1.6MPa,电源:~220VAC 测量范围:0~50m3/h,配置MODBUS通讯接口 测量精度不低于0.5级 防护等级IP65 | G57: 套 | H57: 1 | J57: 检测高区设备出水瞬时流量、累积流量 | K57: =IF(H57="",0,H57*I57) -> 0
B58: 5 | C58: 一体式超声波液位计 LIT | D58: 0~2m,IP65,输出信号:4~20mA | G58: 套 | H58: 1 | J58: 检测泵房液位 | K58: =IF(H58="",0,H58*I58) -> 0
B59: 6 | C59: 室内一体化网络高清球机 | D59: 400万像素,带红外、柔光补光、 人形侦测、智能警戒等功能,IP65 | G59: 套 | H59: 1 | J59: 装高3.0m,配套电源等辅件。 | K59: =IF(H59="",0,H59*I59) -> 0
B60: 7 | C60: 液晶显示器 YJA | D60: 21寸,配10米HDMI线缆,IP55 | G60: 套 | H60: 1 | J60: 挂墙安装,顶边距地1.6m,配套支架 | K60: =IF(H60="",0,H60*I60) -> 0
B61: 8 | C61: 电缆及保护管 | D61: 详:电缆一览表 | G61: 项 | H61: 1 | K61: =IF(H61="",0,H61*I61) -> 0
B62: 7 | C62: 新风系统 | G62: 项 | H62: 1 | K62: =H62*I62 -> 0
B63: 9 | C63: 质保期内网络通讯费 | G63: 项 | H63: 1 | K63: =IF(H63="",0,H63*I63) -> 0
B64: 10 | C64: 防水防火密封堵料 | G64: 千克 | H64: 3 | K64: =IF(H64="",0,H64*I64) -> 0
C65: 电气部分小计 | K65: =SUM(K40:K64) -> 0
C66: 本泵房报价合计 | K66: =K35+K38+K65 -> 0
A91: 锚点(供汇总引用) | C91: =K35 -> 0 | D91: =K38 -> 0 | H91: =K65 -> 0 | K91: =K66 -> 0
A92: 备注： | B92: 请注明报价包含/不包含范围、品牌偏好、供货周期、质保期及是否含安装调试。

Sheet 北山新村
A1: 北山新村 清单明细表
A2: 分部 | B2: 序号 | C2: 细项名称 | D2: 规格型号/技术要求 | E2: 材质 | F2: 制造商及品牌 | G2: 单位 | H2: 数量 | I2: 不含税单价(元) | J2: 备注 | K2: 合价(元)
A3: 一、工艺设备
B4: 1 | C4: 无负压户外一体化设备 （核心产品） | D4: Q=36m3/h,H=45m,单泵功率5.5kw 供水设备流量:36m3/h(水泵两用一备,火灾时全启,单泵流量18m3/h,单泵 功率5.5KW),设备出口压力设置为0.45MPa,设备进口市政动压力约为0.20MPa, 采用全变频无负压供水加压设备,设备应具有实时显示流量、压力功能。 | E4: S31603 | G4: 套 | H4: 1 | J4: 含弹簧隔振器,详见泵房设备参数表 | K4: =IF(H4="",0,H4*I4) -> 0
B5: 2 | C5: 临时供水费用 | G5: 项 | H5: 1 | K5: =IF(H5="",0,H5*I5) -> 0
B6: 2 | C6: 不锈钢管 | D6: DN200,δ=3mm,L=2000mm,PN=1.0MPa | E6: S31603 | G6: 只 | H6: 1 | J6: 安装于进水管 | K6: =IF(H6="",0,H6*I6) -> 0
B7: 3 | C7: 不锈钢管 | D7: DN120,δ=2mm,L=2000mm,PN=1.0MPa | E7: S31603 | G7: 只 | H7: 1 | J7: 安装于出水管 | K7: =IF(H7="",0,H7*I7) -> 0
B8: 4 | C8: 不锈钢90°弯头 | D8: DN200,δ=2.0mm,Pn=1.0MPa | E8: S31603 | G8: 个 | H8: 2 | J8: 安装于进水管 | K8: =IF(H8="",0,H8*I8) -> 0
B9: 5 | C9: 法兰片 | D9: DN200,P=1.0MPa | E9: S31603 | G9: 个 | H9: 4 | J9: 安装于进水管 | K9: =IF(H9="",0,H9*I9) -> 0
B10: 6 | C10: 法兰片 | D10: DN150,P=1.0MPa | E10: S31603 | G10: 个 | H10: 6 | J10: 安装于出水管 | K10: =IF(H10="",0,H10*I10) -> 0
B11: 7 | C11: 手自一体电动蝶阀 | D11: DN200,P=1.0MPa,Z945X | E11: S30408 | G11: 个 | H11: 1 | J11: 安装于进水管 | K11: =IF(H11="",0,H11*I11) -> 0
B12: 8 | C12: 手自一体电动蝶阀 | D12: DN150,P=1.0MPa,Z945X | E12: S30408 | G12: 个 | H12: 1 | J12: 安装于出水管 | K12: =IF(H12="",0,H12*I12) -> 0
B13: 9 | C13: 不锈钢波纹管 | D13: DN200,P=1.0MPa | E13: S30408 | G13: 个 | H13: 1 | J13: 安装于进水管 | K13: =IF(H13="",0,H13*I13) -> 0
B14: 10 | C14: 不锈钢波纹管 | D14: DN150,P=1.0MPa | E14: S30408 | G14: 个 | H14: 1 | J14: 安装于出水管 | K14: =IF(H14="",0,H14*I14) -> 0
B15: 11 | C15: Y型过滤器 | D15: DN200,P=1.0MPa | E15: S30408 | G15: 个 | H15: 1 | J15: 安装于进水管 | K15: =IF(H15="",0,H15*I15) -> 0
B16: 12 | C16: 倒流防止器 | D16: DN200,P=1.0MPa | E16: S30408 | G16: 个 | H16: 1 | J16: 安装于进水管 | K16: =IF(H16="",0,H16*I16) -> 0
B17: 13 | C17: 电磁流量计 | D17: DN150,P=1.0MPa | E17: S30408 | G17: 个 | H17: 1 | J17: 测量精度≤0.5级,测量范围0-70m3/h 详自控专业图纸 | K17: =IF(H17="",0,H17*I17) -> 0
B18: 14 | C18: 自动排气阀 | D18: DN25,P=1.0MPa | E18: S30408 | G18: 个 | H18: 1 | J18: 安装于进水管位置 | K18: =IF(H18="",0,H18*I18) -> 0
B19: 15 | C19: 灭火器 | D19: MF/ABC5 | G19: 个 | H19: 1 | K19: =IF(H19="",0,H19*I19) -> 0
B20: 16 | C20: 压力表 | D20: 精度2.5级,0~1.6MPa | E20: S30408 | G20: 个 | H20: 1 | J20: 安装于进水管 | K20: =IF(H20="",0,H20*I20) -> 0
B21: 17 | C21: 水锤吸纳器 | D21: DN150,P=1.0MPa | E21: S30408 | G21: 个 | H21: 1 | J21: 安装于出水管 | K21: =IF(H21="",0,H21*I21) -> 0
B22: 18 | C22: 拆除原管道 | D22: DN150,L=2000mm,PN=1.0MPa | E22: 塑料管 | G22: 只 | H22: 2 | K22: =IF(H22="",0,H22*I22) -> 0
A23: 注意：本材料表所列管道及设备基础工程量为设计参考值,最终工程量需根据设备中标单位出具的二次深化设计正式成果文件进行调整。
C24: 工艺部分小计 | K24: =SUM(K4:K22) -> 0
A25: 二、标准化泵房改造
K26: =IF(H26="",0,H26*I26) -> 0
K27: =IF(H27="",0,H27*I27) -> 0
K28: =IF(H28="",0,H28*I28) -> 0
K29: =IF(H29="",0,H29*I29) -> 0
K30: =IF(H30="",0,H30*I30) -> 0
K31: =IF(H31="",0,H31*I31) -> 0
K32: =IF(H32="",0,H32*I32) -> 0
K33: =IF(H33="",0,H33*I33) -> 0
C34: 标准化泵房改造部分小计 | K34: =SUM(K26:K33) -> 0
A35: 三、电气及自控设备
C45: 电气部分小计 | K45: =SUM(K36:K44) -> 0
C46: 本泵房报价合计 | K46: =K24+K34+K45 -> 0
A71: 锚点(供汇总引用) | C71: =K24 -> 0 | D71: =K34 -> 0 | H71: =K45 -> 0 | K71: =K46 -> 0
A72: 备注： | B72: 请注明报价包含/不包含范围、品牌偏好、供货周期、质保期及是否含安装调试。

Sheet 三纺科技大厦
A1: 三纺科技大厦 清单明细表
A2: 分部 | B2: 序号 | C2: 细项名称 | D2: 规格型号/技术要求 | E2: 材质 | F2: 制造商及品牌 | G2: 单位 | H2: 数量 | I2: 不含税单价(元) | J2: 备注 | K2: 合价(元)
A3: 一、工艺设备
B4: 1 | C4: 不锈钢管 | D4: DN200,δ=3mm Pn=1.0MPa | E4: S31603 | G4: m | H4: 5 | K4: =IF(H4="",0,H4*I4) -> 0
B5: 2 | C5: 临时供水费用 | G5: 项 | H5: 1 | K5: =IF(H5="",0,H5*I5) -> 0
B6: 2 | C6: 不锈钢管 | D6: DN100,δ=2.0mm Pn=1.0MPa | E6: S31603 | G6: m | H6: 50 | K6: =IF(H6="",0,H6*I6) -> 0
B7: 3 | C7: 不锈钢管 | D7: DN100,δ=2.0mm Pn=1.6MPa | E7: S31603 | G7: m | H7: 50 | K7: =IF(H7="",0,H7*I7) -> 0
B8: 4 | C8: 不锈钢90°弯头 | D8: DN200,δ=2.8mm,Pn=1.0MPa | E8: S31603 | G8: 个 | H8: 1 | K8: =IF(H8="",0,H8*I8) -> 0
B9: 5 | C9: 不锈钢90°弯头 | D9: DN100,δ=2mm,Pn=1.0MPa | E9: S31603 | G9: 个 | H9: 3 | K9: =IF(H9="",0,H9*I9) -> 0
B10: 6 | C10: 不锈钢90°弯头 | D10: DN100,δ=2mm,Pn=1.6MPa | E10: S31603 | G10: 个 | H10: 6 | K10: =IF(H10="",0,H10*I10) -> 0
B11: 7 | C11: 不锈钢异径 | D11: DN200×DN100 Pn=1.0MPa | E11: S31603 | G11: 个 | H11: 1 | K11: =IF(H11="",0,H11*I11) -> 0
B12: 8 | C12: 不锈钢三通 | D12: DN200×DN100 Pn=1.0MPa | E12: S31603 | G12: 个 | H12: 1 | K12: =IF(H12="",0,H12*I12) -> 0
B13: 9 | C13: 不锈钢三通 | D13: DN100×DN25 Pn=1.0MPa | E13: S31603 | G13: 个 | H13: 2 | K13: =IF(H13="",0,H13*I13) -> 0
B14: 10 | C14: 法兰片 | D14: DN100,Pn=1.0MPa | E14: SUS304 | G14: 个 | H14: 3 | K14: =IF(H14="",0,H14*I14) -> 0
B15: 11 | C15: 法兰片 | D15: DN100,Pn=1.6MPa | E15: SUS304 | G15: 个 | H15: 3 | K15: =IF(H15="",0,H15*I15) -> 0
B16: 12 | C16: 手自一体电动蝶阀 | D16: DN200,Pn=1.0MPa,Z945X | E16: SUS304 | G16: 个 | H16: 1 | K16: =IF(H16="",0,H16*I16) -> 0
B17: 13 | C17: 手自一体电动蝶阀 | D17: DN100,Pn=1.0MPa,Z945X | E17: SUS304 | G17: 个 | H17: 3 | K17: =IF(H17="",0,H17*I17) -> 0
... B22: 21 | C22: 不锈钢波纹管 | D22: DN100,P=1.6MPa | E22: SUS304 | G22: 个 | H22: 1 | K22: =IF(H22="",0,H22*I22) -> 0
B23: 22 | C23: 灭火器 | D23: 5KG手提式干粉灭火器 | G23: 个 | H23: 2 | K23: =IF(H23="",0,H23*I23) -> 0
B24: 23 | C24: 水锤吸纳器 | D24: DN100,P=1.6MPa | E24: SUS304 | G24: 个 | H24: 2 | K24: =IF(H24="",0,H24*I24) -> 0
B25: 24 | C25: 压力表 | D25: 精度2.5级,0~1.6MPa | E25: SUS304 | G25: 个 | H25: 1 | K25: =IF(H25="",0,H25*I25) -> 0
B26: 25 | C26: 拆除原管道 | D26: DN200 | E26: 钢制 | G26: m | H26: 5 | K26: =IF(H26="",0,H26*I26) -> 0
B27: 26 | C27: 拆除原管道 | D27: DN100 | E27: 钢制 | G27: m | H27: 100 | K27: =IF(H27="",0,H27*I27) -> 0
B28: 27 | C28: 柔性防水套管(B型) | D28: DN100 | G28: 个 | H28: 2 | K28: =IF(H28="",0,H28*I28) -> 0
B29: 28 | C29: 橡胶隔震垫 | G29: 个 | H29: 8 | K29: =IF(H29="",0,H29*I29) -> 0
A30: 注意：本材料表所列管道及设备基础工程量为设计参考值,最终工程量需根据设备中标单位出具的二次深化设计正式成果文件进行调整。
C31: 工艺部分小计 | K31: =SUM(K4:K29) -> 0
A32: 二、标准化泵房改造
B33: 1 | C33: 标准化泵房改造 | D33: 标准化泵房内部修缮改造，内容详见设计图 | G33: m2 | H33: 247 | K33: =IF(H33="",0,H33*I33) -> 0
K34: =IF(H34="",0,H34*I34) -> 0
K35: =IF(H35="",0,H35*I35) -> 0
K36: =IF(H36="",0,H36*I36) -> 0
K37: =IF(H37="",0,H37*I37) -> 0
K38: =IF(H38="",0,H38*I38) -> 0
K39: =IF(H39="",0,H39*I39) -> 0
K40: =IF(H40="",0,H40*I40) -> 0
C41: 标准化泵房改造部分小计 | K41: =SUM(K33:K40) -> 0
A42: 三、电气及自控设备
A43: 照明设备 | B43: 1 | C43: 应急照明箱(A型应急照明集中电源) ELD | D43: N-D-0.1kW-36(应急时间90min) | G43: 面 | H43: 1 | J43: 明装,底边距地1.6m | K43: =IF(H43="",0,H43*I43) -> 0
B44: 2 | C44: 应急LED泛光灯 | D44: 配80W LED灯,IP65 8000lm,6000K,Ra>85,COS%%C>0.95 | G44: 套 | H44: 10 | J44: 壁装,装高3.0m 自带蓄电池,应急时间180min | K44: =IF(H44="",0,H44*I44) -> 0
B45: 3 | C45: 双联开关 | D45: 250V.10A,防溅型 | G45: 只 | H45: 2 | J45: 底边距地1.3m(暗装) | K45: =IF(H45="",0,H45*I45) -> 0
B46: 4 | C46: 二+三孔带接地安全插座 | D46: 250V.10A,防溅型 | G46: 只 | H46: 2 | J46: 暗设,底边距地1.5m | K46: =IF(H46="",0,H46*I46) -> 0
B47: 5 | C47: 照明及插座管线 | D47: 详配电系统图及照明、插座平面布置图 | G47: 项 | H47: 1 | K47: =IF(H47="",0,H47*I47) -> 0
B48: 6 | C48: 消防应急照明灯具-壁装(中型) | D48: 7W,DC36V,A型,具有应急照明、巡检、开灯、灭灯功能 | G48: 套 | H48: 8 | J48: 底边距地2.5m,IP65 | K48: =IF(H48="",0,H48*I48) -> 0
B49: 7 | C49: 消防应急标志灯具-安全出口(中型) | D49: 1W,DC36V,A型,具有巡检、常亮、频闪功能 | G49: 套 | H49: 1 | J49: 装于门上方或悬挂安装,IP65 | K49: =IF(H49="",0,H49*I49) -> 0
B50: 8 | C50: 消防应急标志灯具-单面左向(中型) | D50: 1W,DC36V,A型,具有巡检、常亮、频闪功能 | G50: 套 | H50: 1 | J50: 底边距地0.5m,IP65 | K50: =IF(H50="",0,H50*I50) -> 0
B51: 9 | C51: 消防应急标志灯具-单面右向(中型) | D51: 1W,DC36V,A型,具有巡检、常亮、频闪功能 | G51: 套 | H51: 1 | J51: 底边距地0.5m,IP65 | K51: =IF(H51="",0,H51*I51) -> 0
A52: 配电设备 | B52: 1 | C52: 泵房主控柜 ZKA | D52: 附件图纸,详见:D-EG-SF-02、K-EG-SF-04、05 注意：本单项报价还应包含自控图K-EG-SF-04、05中的所有设备元件价格 | G52: 面 | H52: 1 | J52: 柜体采用304不锈钢材质,IP55,落地安装 基础用C30素混凝土垫高300mm 素混凝土基础上采用10#槽钢架高200mm | K52: =IF(H52="",0,H52*I52) -> 0
B53: 2 | C53: 电缆及保护管 | D53: 详:电缆一览表 | G53: 项 | H53: 1 | K53: =IF(H53="",0,H53*I53) -> 0
B54: 3 | C54: 304不锈钢电缆桥架(包括盖板) | D54: 200*100,采用304不锈钢板分隔,控制电缆占宽80mm 壁厚不小于2.0mm | G54: 米 | H54: 12 | J54: 配套所有配件及托臂,均采用304不锈钢材质 | K54: =IF(H54="",0,H54*I54) -> 0
B55: 4 | C55: 接地线 | D55: -40*4扁钢,304不锈钢材质 | G55: 米 | H55: 20 | K55: =IF(H55="",0,H55*I55) -> 0
B56: 5 | C56: 防水防火密封堵料 | G56: 千克 | H56: 3 | K56: =IF(H56="",0,H56*I56) -> 0
A57: 拆除设备 | B57: 1 | C57: 现状照明灯具、电缆及保护管 | G57: 项 | H57: 1 | K57: =IF(H57="",0,H57*I57) -> 0
A58: 自控设备 | B58: 1 | C58: 泵房主控柜 ZKA | D58: 附件图纸,详见:D-EG-YX-02、K-EG-YX-04、05 | G58: 面 | H58: 1 | I58: 此单项不计价，计入配电设备中
B59: 2 | C59: 电磁流量计变送器 FIT1 | D59: 测量口径:DN200,PN=1.0MPa,电源:~220VAC 测量范围:0~110m3/h,配置MODBUS通讯接口 测量精度不低于0.5级 变送器防护等级IP65,传感器防护等级IP68 | G59: 套 | H59: 1 | J59: 检测泵房进水总管瞬时流量、累积流量 配套仪表箱(400*300*500),IP55 挂墙安装,底边距地1.1m, 箱体采用304不锈钢材质 | K59: =H59*I59 -> 0
C60: 电磁流量计传感器 FE1
B61: 3 | C61: 电磁流量计变送器 FIT11 | D61: 测量口径:DN100,PN=1.0MPa,电源:~220VAC 测量范围:0~65m3/h,配置MODBUS通讯接口 测量精度不低于0.5级 变送器防护等级IP65,传感器防护等级IP68 | G61: 套 | H61: 1 | J61: 检测中区设备出水瞬时流量、累积流量 配套仪表箱(400*300*500),IP55 挂墙安装,底边距地1.1m, 箱体采用304不锈钢材质 | K61: =H61*I61 -> 0
C62: 电磁流量计传感器 FE11
B63: 4 | C63: 电磁流量计变送器 FIT21 | D63: 测量口径:DN100,PN=1.6MPa,电源:~220VAC 测量范围:0~50m3/h,配置MODBUS通讯接口 测量精度不低于0.5级 变送器防护等级IP65,传感器防护等级IP68 | G63: 套 | H63: 1 | J63: 检测高区设备出水瞬时流量、累积流量 配套仪表箱(400*300*500),IP55 挂墙安装,底边距地1.1m, 箱体采用304不锈钢材质 | K63: =H63*I63 -> 0
C64: 电磁流量计传感器 FE21
B65: 5 | C65: 一体式超声波液位计 LIT | D65: 0~2m,IP65,输出信号:4~20mA | G65: 套 | H65: 1 | J65: 检测泵房液位 | K65: =IF(H65="",0,H65*I65) -> 0
B66: 6 | C66: 室内高清彩色网络枪机 | D66: 400万像素,带红外、柔光补光、 人形侦测、智能警戒等功能,IP65 | G66: 套 | H66: 1 | J66: 装高3.0m,配套电源等辅件。 | K66: =IF(H66="",0,H66*I66) -> 0
B67: 7 | C67: 室内一体化网络高清球机 | D67: 400万像素,带红外、柔光补光、 人形侦测、智能警戒等功能,IP65 | G67: 套 | H67: 1 | J67: 吊装,装高3.0m,配套电源等辅件。 | K67: =IF(H67="",0,H67*I67) -> 0
B68: 8 | C68: 液晶显示器 YJA | D68: 21寸,配10米HDMI线缆,IP55 | G68: 套 | H68: 1 | J68: 挂墙安装,顶边距地1.6m,配套支架 | K68: =IF(H68="",0,H68*I68) -> 0
B69: 9 | C69: 电缆及保护管 | D69: 详:电缆一览表 | G69: 项 | H69: 1 | K69: =IF(H69="",0,H69*I69) -> 0
B70: 7 | C70: 新风系统 | G70: 项 | H70: 1 | K70: =H70*I70 -> 0
B71: 10 | C71: 质保期内网络通讯费 | G71: 项 | H71: 1 | K71: =IF(H71="",0,H71*I71) -> 0
B72: 11 | C72: 防水防火密封堵料 | G72: 千克 | H72: 3 | K72: =IF(H72="",0,H72*I72) -> 0
C73: 电气部分小计 | K73: =SUM(K43:K72) -> 0
C74: 本泵房报价合计 | K74: =K31+K41+K73 -> 0
A99: 锚点(供汇总引用) | C99: =K31 -> 0 | D99: =K41 -> 0 | H99: =K73 -> 0 | K99: =K74 -> 0
A100: 备注： | B100: 请注明报价包含/不包含范围、品牌偏好、供货周期、质保期及是否含安装调试。

Sheet 三真大厦
A1: 三真大厦 清单明细表
A2: 分部 | B2: 序号 | C2: 细项名称 | D2: 规格型号/技术要求 | E2: 材质 | F2: 制造商及品牌 | G2: 单位 | H2: 数量 | I2: 不含税单价(元) | J2: 备注 | K2: 合价(元)
A3: 一、工艺设备
B4: 1 | C4: 不锈钢管 | D4: DN150,δ=2.5mm Pn=1.0MPa | E4: S31603 | G4: m | H4: 12 | K4: =IF(H4="",0,H4*I4) -> 0
B5: 2 | C5: 临时供水费用 | G5: 项 | H5: 1 | K5: =IF(H5="",0,H5*I5) -> 0
B6: 2 | C6: 不锈钢管 | D6: DN100,δ=2.0mm Pn=1.0MPa | E6: S31603 | G6: m | H6: 30 | K6: =IF(H6="",0,H6*I6) -> 0
B7: 3 | C7: 不锈钢管 | D7: DN100,δ=2.0mm Pn=2.5Mpa | E7: S31603 | G7: m | H7: 10 | K7: =IF(H7="",0,H7*I7) -> 0
B8: 4 | C8: 不锈钢90°弯头 | D8: DN150,δ=2.8mm,Pn=1.0MPa | E8: S31603 | G8: 个 | H8: 2 | K8: =IF(H8="",0,H8*I8) -> 0
B9: 5 | C9: 不锈钢90°弯头 | D9: DN100,δ=2mm,Pn=1.0MPa | E9: S31603 | G9: 个 | H9: 5 | K9: =IF(H9="",0,H9*I9) -> 0
B10: 6 | C10: 不锈钢90°弯头 | D10: DN100,δ=2.8mm,Pn=2.5Mpa | E10: S31603 | G10: 个 | H10: 4 | K10: =IF(H10="",0,H10*I10) -> 0
B11: 7 | C11: 不锈钢三通 | D11: DN100*DN100 Pn=2.5Mpa | E11: S31603 | G11: 个 | H11: 1 | K11: =IF(H11="",0,H11*I11) -> 0
B12: 8 | C12: 法兰片 | D12: DN150,Pn=1.0MPa | E12: S31603 | G12: 个 | H12: 2 | K12: =IF(H12="",0,H12*I12) -> 0
B13: 9 | C13: 法兰片 | D13: DN100,Pn=1.0MPa | E13: S31603 | G13: 个 | H13: 8 | K13: =IF(H13="",0,H13*I13) -> 0
B14: 10 | C14: 法兰片 | D14: DN100,Pn=2.5Mpa | E14: S31603 | G14: 个 | H14: 4 | K14: =IF(H14="",0,H14*I14) -> 0
B15: 11 | C15: 手自一体电动蝶阀 | D15: DN150,Pn=1.0MPa,Z945X | E15: SUS304 | G15: 个 | H15: 1 | K15: =IF(H15="",0,H15*I15) -> 0
B16: 12 | C16: 手自一体电动蝶阀 | D16: DN100,Pn=1.0MPa,Z945X | E16: SUS304 | G16: 个 | H16: 2 | K16: =IF(H16="",0,H16*I16) -> 0
B17: 13 | C17: 手自一体电动蝶阀 | D17: DN100,Pn=2.5Mpa,Z945X | E17: SUS304 | G17: 个 | H17: 1 | K17: =IF(H17="",0,H17*I17) -> 0
B18: 14 | C18: 手动阀门 | D18: DN100,Pn=1.0MPa,Z45X | E18: SUS304 | G18: 个 | H18: 2 | K18: =IF(H18="",0,H18*I18) -> 0
B19: 15 | C19: 减压阀 | D19: DN100,Pn=1.0MPa | E19: S31603 | G19: 个 | H19: 1 | J19: 阀后压力约0.55Mpa | K19: =IF(H19="",0,H19*I19) -> 0
B20: 16 | C20: Y型过滤器 | D20: DN100,P=1.0MPa | E20: S31603 | G20: 个 | H20: 2 | K20: =IF(H20="",0,H20*I20) -> 0
B21: 20 | C21: 灭火器 | D21: 5KG手提式干粉灭火器 | G21: 个 | H21: 2 | K21: =IF(H21="",0,H21*I21) -> 0
B22: 21 | C22: 水锤吸纳器 | D22: DN100,P=2.5Mpa | E22: SUS304 | G22: 个 | H22: 2 | K22: =IF(H22="",0,H22*I22) -> 0
B23: 22 | C23: 不锈钢波纹管 | D23: DN100,P=1.0MPa | E23: SUS304 | G23: 个 | H23: 3 | K23: =IF(H23="",0,H23*I23) -> 0
B24: 23 | C24: 不锈钢波纹管 | D24: DN100,P=2.5Mpa | E24: SUS304 | G24: 个 | H24: 1 | K24: =IF(H24="",0,H24*I24) -> 0
B25: 24 | C25: 压力表 | D25: 精度2.5级,0~2.5Mpa | E25: SUS304 | G25: 个 | H25: 2 | K25: =IF(H25="",0,H25*I25) -> 0
B26: 25 | C26: 拆除原管道 | D26: DN150 | E26: 钢制 | G26: m | H26: 12 | K26: =IF(H26="",0,H26*I26) -> 0
B27: 26 | C27: 拆除原管道 | D27: DN100 | E27: 钢制 | G27: m | H27: 40 | K27: =IF(H27="",0,H27*I27) -> 0
B28: 27 | C28: 柔性防水套管(B型) | D28: DN150 | G28: 个 | H28: 1 | K28: =IF(H28="",0,H28*I28) -> 0
B29: 28 | C29: 柔性防水套管(B型) | D29: DN100 | G29: 个 | H29: 3 | K29: =IF(H29="",0,H29*I29) -> 0
B30: 29 | C30: 橡胶隔震垫 | G30: 个 | H30: 8 | K30: =IF(H30="",0,H30*I30) -> 0
A31: 注意：本材料表所列管道及设备基础工程量为设计参考值,最终工程量需根据设备中标单位出具的二次深化设计正式成果文件进行调整。
C32: 工艺部分小计 | K32: =SUM(K4:K30) -> 0
A33: 二、标准化泵房改造
B34: 1 | C34: 标准化泵房改造 | D34: 标准化泵房内部修缮改造，内容详见设计图 | G34: m2 | H34: 115 | K34: =IF(H34="",0,H34*I34) -> 0
K35: =IF(H35="",0,H35*I35) -> 0
K36: =IF(H36="",0,H36*I36) -> 0
K37: =IF(H37="",0,H37*I37) -> 0
K38: =IF(H38="",0,H38*I38) -> 0
K39: =IF(H39="",0,H39*I39) -> 0
K40: =IF(H40="",0,H40*I40) -> 0
K41: =IF(H41="",0,H41*I41) -> 0
C42: 标准化泵房改造部分小计 | K42: =SUM(K34:K41) -> 0
A43: 三、电气及自控设备
A44: 照明设备 | B44: 1 | C44: 应急照明箱(A型应急照明集中电源) ELD | D44: N-D-0.1kW-36(应急时间90min) | G44: 面 | H44: 1 | J44: 明装,底边距地1.6m | K44: =IF(H44="",0,H44*I44) -> 0
B45: 2 | C45: 应急双管LED支架灯 | D45: LED灯管 2*30W,IP65 3000lm,6000K,Ra>85,COS%%C>0.95 | G45: 套 | H45: 4 | J45: 吊装,装高2.8m 自带蓄电池,应急时间180min | K45: =IF(H45="",0,H45*I45) -> 0
B46: 3 | C46: 应急单管LED支架灯 | D46: LED灯管 1*30W,IP65 3000lm,6000K,Ra>85,COS%%C>0.95 | G46: 套 | H46: 4 | J46: 壁装,装高2.8m 自带蓄电池,应急时间180min | K46: =IF(H46="",0,H46*I46) -> 0
B47: 4 | C47: 三联开关 | D47: 250V.10A,防溅型 | G47: 只 | H47: 1 | J47: 底边距地1.3m(暗装) | K47: =IF(H47="",0,H47*I47) -> 0
B48: 5 | C48: 二+三孔带接地安全插座 | D48: 250V.10A,防溅型 | G48: 只 | H48: 2 | J48: 暗设,底边距地1.5m | K48: =IF(H48="",0,H48*I48) -> 0
B49: 6 | C49: 照明及插座管线 | D49: 详配电系统图及照明、插座平面布置图 | G49: 项 | H49: 1 | K49: =IF(H49="",0,H49*I49) -> 0
B50: 7 | C50: 消防应急照明灯具-壁装(中型) | D50: 7W,DC36V,A型,具有应急照明、巡检、开灯、灭灯功能 | G50: 套 | H50: 7 | J50: 底边距地2.5m,IP65 | K50: =IF(H50="",0,H50*I50) -> 0
B51: 8 | C51: 消防应急标志灯具-安全出口(中型) | D51: 1W,DC36V,A型,具有巡检、常亮、频闪功能 | G51: 套 | H51: 2 | J51: 装于门上方或悬挂安装,IP65 | K51: =IF(H51="",0,H51*I51) -> 0
B52: 9 | C52: 消防应急标志灯具-单面左向(中型) | D52: 1W,DC36V,A型,具有巡检、常亮、频闪功能 | G52: 套 | H52: 1 | J52: 底边距地0.5m,IP65 | K52: =IF(H52="",0,H52*I52) -> 0
B53: 10 | C53: 消防应急标志灯具-单面右向(中型) | D53: 1W,DC36V,A型,具有巡检、常亮、频闪功能 | G53: 套 | H53: 1 | J53: 底边距地0.5m,IP65 | K53: =IF(H53="",0,H53*I53) -> 0
A54: 配电设备 | B54: 1 | C54: 泵房主控柜 ZKA | D54: 附件图纸,详见:D-EG-SZ-02、K-EG-SZ-04、05 注意：本单项报价还应包含自控图K-EG-SZ-04、05中的所有设备元件价格 | G54: 面 | H54: 1 | J54: 柜体采用304不锈钢材质,IP55,落地安装 基础用C30素混凝土垫高300mm 素混凝土基础上采用10#槽钢架高200mm | K54: =IF(H54="",0,H54*I54) -> 0
B55: 2 | C55: 电缆及保护管 | D55: 详:电缆一览表 | G55: 项 | H55: 1 | K55: =IF(H55="",0,H55*I55) -> 0
B56: 3 | C56: 304不锈钢电缆桥架(包括盖板) | D56: 200*100,采用304不锈钢板分隔,控制电缆占宽80mm 壁厚不小于2.0mm | G56: 米 | H56: 8 | J56: 配套所有配件及托臂,均采用304不锈钢材质 | K56: =IF(H56="",0,H56*I56) -> 0
B57: 4 | C57: 304不锈钢电缆桥架(包括盖板) | D57: 100*50,采用304不锈钢板分隔,控制电缆占宽50mm 壁厚不小于2.0mm | G57: 米 | H57: 8 | J57: 配套所有配件及托臂,均采用304不锈钢材质 | K57: =IF(H57="",0,H57*I57) -> 0
B58: 5 | C58: 接地线 | D58: -40*4扁钢,304不锈钢材质 | G58: 米 | H58: 20 | K58: =IF(H58="",0,H58*I58) -> 0
B59: 6 | C59: 防水防火密封堵料 | G59: 千克 | H59: 3 | K59: =IF(H59="",0,H59*I59) -> 0
A60: 拆除设备 | B60: 1 | C60: 现状照明灯具、电缆及保护管 | G60: 项 | H60: 1 | K60: =IF(H60="",0,H60*I60) -> 0
A61: 自控设备 | B61: 1 | C61: 泵房主控柜 ZKA | D61: 附件图纸,详见:D-EG-YX-02、K-EG-YX-04、05 | G61: 面 | H61: 1 | I61: 此单项不计价，计入配电设备中
B62: 2 | C62: 电磁流量计变送器 FIT1 | D62: 测量口径:DN150,PN=1.0MPa,电源:~220VAC 测量范围:0~60m3/h,配置MODBUS通讯接口 测量精度不低于0.5级 变送器防护等级IP65,传感器防护等级IP68 | G62: 套 | H62: 1 | J62: 检测泵房进水总管瞬时流量、累积流量 配套仪表箱(400*300*500),IP55 挂墙安装,底边距地1.1m, 箱体采用304不锈钢材质 | K62: =H62*I62 -> 0
C63: 电磁流量计传感器 FE1
B64: 3 | C64: 电磁流量计变送器 FIT11 | D64: 测量口径:DN100,PN=1.0MPa,电源:~220VAC 测量范围:0~30m3/h,配置MODBUS通讯接口 测量精度不低于0.5级 变送器防护等级IP65,传感器防护等级IP68 | G64: 套 | H64: 1 | J64: 检测中区设备出水瞬时流量、累积流量 配套仪表箱(400*300*500),IP55 挂墙安装,底边距地1.1m, 箱体采用304不锈钢材质 | K64: =H64*I64 -> 0
C65: 电磁流量计传感器 FE11
B66: 4 | C66: 电磁流量计变送器 FIT21 | D66: 测量口径:DN100,PN=2.5MPa,电源:~220VAC 测量范围:0~30m3/h,配置MODBUS通讯接口 测量精度不低于0.5级 变送器防护等级IP65,传感器防护等级IP68 | G66: 套 | H66: 1 | J66: 检测高区设备出水瞬时流量、累积流量 配套仪表箱(400*300*500),IP55 挂墙安装,底边距地1.1m, 箱体采用304不锈钢材质 | K66: =H66*I66 -> 0
C67: 电磁流量计传感器 FE21
B68: 5 | C68: 超声波液位计变送器 LIT1 | D68: 0~5m, 输出信号:4~20mA,盲区≤0.25m 变送器防护等级IP65,传感器防护等级IP68 配套提供安装附件,装于水箱顶部 | G68: 套 | H68: 1 | J68: 检测水箱液位 配套仪表箱(400*300*500),IP55 挂墙安装,底边距地1.1m, 箱体采用304不锈钢材质 | K68: =H68*I68 -> 0
C69: 超声波液位计传感器 LE1
B70: 6 | C70: 一体式超声波液位计 LIT | D70: 0~2m,IP65,输出信号:4~20mA | G70: 套 | H70: 1 | J70: 检测泵房液位 | K70: =IF(H70="",0,H70*I70) -> 0
B71: 7 | C71: 室内高清彩色网络枪机 | D71: 400万像素,带红外、柔光补光、 人形侦测、智能警戒等功能,IP65 | G71: 套 | H71: 1 | J71: 装高3.0m,配套电源等辅件。 | K71: =IF(H71="",0,H71*I71) -> 0
B72: 8 | C72: 室内一体化网络高清球机 | D72: 400万像素,带红外、柔光补光、 人形侦测、智能警戒等功能,IP65 | G72: 套 | H72: 1 | J72: 装高3.0m,配套电源等辅件。 | K72: =IF(H72="",0,H72*I72) -> 0
B73: 9 | C73: 液晶显示器 YJA | D73: 21寸,配10米HDMI线缆,IP55 | G73: 套 | H73: 1 | J73: 挂墙安装,顶边距地1.6m,配套支架 | K73: =IF(H73="",0,H73*I73) -> 0
B74: 7 | C74: 新风系统 | G74: 项 | H74: 1 | K74: =H74*I74 -> 0
B75: 10 | C75: 电缆及保护管 | D75: 详:电缆一览表 | G75: 项 | H75: 1 | K75: =IF(H75="",0,H75*I75) -> 0
B76: 11 | C76: 质保期内网络通讯费 | G76: 项 | H76: 1 | K76: =IF(H76="",0,H76*I76) -> 0
B77: 12 | C77: 防水防火密封堵料 | G77: 千克 | H77: 3 | K77: =IF(H77="",0,H77*I77) -> 0
C78: 电气部分小计 | K78: =SUM(K44:K77) -> 0
C79: 本泵房报价合计 | K79: =K32+K42+K78 -> 0
A104: 锚点(供汇总引用) | C104: =K32 -> 0 | D104: =K42 -> 0 | H104: =K78 -> 0 | K104: =K79 -> 0
A105: 备注： | B105: 请注明报价包含/不包含范围、品牌偏好、供货周期、质保期及是否含安装调试。

Sheet 翡翠城一期、二期
A1: 翡翠城一期、二期 清单明细表
A2: 分部 | B2: 序号 | C2: 细项名称 | D2: 规格型号/技术要求 | E2: 材质 | F2: 制造商及品牌 | G2: 单位 | H2: 数量 | I2: 不含税单价(元) | J2: 备注 | K2: 合价(元)
A3: 一、工艺设备
B4: 1 | C4: 不锈钢管 | D4: DN150,δ=2.5mm Pn=1.0MPa | E4: S31603 | G4: m | H4: 20 | K4: =IF(H4="",0,H4*I4) -> 0
B5: 2 | C5: 临时供水费用 | G5: 项 | H5: 1 | K5: =IF(H5="",0,H5*I5) -> 0
B6: 2 | C6: 不锈钢管 | D6: DN150,δ=2.5mm Pn=1.6MPa | E6: S31603 | G6: m | H6: 45 | K6: =IF(H6="",0,H6*I6) -> 0
B7: 3 | C7: 不锈钢管 | D7: DN100,δ=2.0mm Pn=1.6MPa | E7: S31603 | G7: m | H7: 20 | K7: =IF(H7="",0,H7*I7) -> 0
B8: 4 | C8: 不锈钢90°弯头 | D8: DN150,δ=2.8mm,Pn=1.0MPa | E8: S31603 | G8: 个 | H8: 5 | K8: =IF(H8="",0,H8*I8) -> 0
B9: 5 | C9: 不锈钢90°弯头 | D9: DN150,δ=2.8mm,Pn=1.6MPa | E9: S31603 | G9: 个 | H9: 4 | K9: =IF(H9="",0,H9*I9) -> 0
B10: 6 | C10: 不锈钢90°弯头 | D10: DN100,δ=2mm,Pn=1.6MPa | E10: S31603 | G10: 个 | H10: 5 | K10: =IF(H10="",0,H10*I10) -> 0
B11: 7 | C11: 不锈钢45°弯头 | D11: DN150,δ=2.8mm,Pn=1.0MPa | E11: S31603 | G11: 个 | H11: 1 | K11: =IF(H11="",0,H11*I11) -> 0
B12: 8 | C12: 不锈钢45°弯头 | D12: DN150,δ=2.8mm,Pn=1.6MPa | E12: S31603 | G12: 个 | H12: 1 | K12: =IF(H12="",0,H12*I12) -> 0
B13: 9 | C13: 不锈钢45°弯头 | D13: DN100,δ=2mm,Pn=1.6MPa | E13: S31603 | G13: 个 | H13: 1 | K13: =IF(H13="",0,H13*I13) -> 0
B14: 10 | C14: 法兰片 | D14: DN150 Pn=1.0MPa | E14: S31603 | G14: 个 | H14: 12 | K14: =IF(H14="",0,H14*I14) -> 0
B15: 11 | C15: 法兰片 | D15: DN150 Pn=1.6MPa | E15: S31603 | G15: 个 | H15: 6 | K15: =IF(H15="",0,H15*I15) -> 0
B16: 12 | C16: 法兰片 | D16: DN100 Pn=1.6MPa | E16: S31603 | G16: 个 | H16: 6 | K16: =IF(H16="",0,H16*I16) -> 0
B17: 13 | C17: 手自一体电动蝶阀 | D17: DN150,Pn=1.0MPa,Z945X | E17: SUS304 | G17: 个 | H17: 2 | K17: =IF(H17="",0,H17*I17) -> 0
... B21: 17 | C21: Y型过滤器 | D21: DN150,P=1.0MPa | E21: S31603 | G21: 个 | H21: 6 | K21: =IF(H21="",0,H21*I21) -> 0
B22: 21 | C22: 灭火器 | D22: 5KG手提式干粉灭火器 | G22: 个 | H22: 2 | K22: =IF(H22="",0,H22*I22) -> 0
B23: 22 | C23: 水锤吸纳器 | D23: DN100,P=1.6MPa | E23: SUS304 | G23: 个 | H23: 6 | K23: =IF(H23="",0,H23*I23) -> 0
B24: 23 | C24: 不锈钢波纹管 | D24: DN150,P=1.0MPa | E24: SUS304 | G24: 个 | H24: 2 | K24: =IF(H24="",0,H24*I24) -> 0
B25: 24 | C25: 不锈钢波纹管 | D25: DN150,P=1.6MPa | E25: SUS304 | G25: 个 | H25: 2 | K25: =IF(H25="",0,H25*I25) -> 0
B26: 25 | C26: 不锈钢波纹管 | D26: DN100,P=1.6MPa | E26: SUS304 | G26: 个 | H26: 2 | K26: =IF(H26="",0,H26*I26) -> 0
B27: 26 | C27: 压力表 | D27: 精度2.5级,0~1.6MPa | E27: SUS304 | G27: 个 | H27: 6 | K27: =IF(H27="",0,H27*I27) -> 0
B28: 27 | C28: 拆除原管道 | D28: DN150 | E28: 钢制 | G28: m | H28: 65 | K28: =IF(H28="",0,H28*I28) -> 0
B29: 28 | C29: 拆除原管道 | D29: DN100 | E29: 钢制 | G29: m | H29: 20 | K29: =IF(H29="",0,H29*I29) -> 0
B30: 29 | C30: 柔性防水套管(B型) | D30: DN150 | G30: 个 | H30: 4 | K30: =IF(H30="",0,H30*I30) -> 0
B31: 30 | C31: 柔性防水套管(B型) | D31: DN100 | G31: 个 | H31: 2 | K31: =IF(H31="",0,H31*I31) -> 0
B32: 31 | C32: 橡胶隔震垫 | G32: 个 | H32: 24 | K32: =IF(H32="",0,H32*I32) -> 0
A33: 注意：本材料表所列管道及设备基础工程量为设计参考值,最终工程量需根据设备中标单位出具的二次深化设计正式成果文件进行调整。
C34: 工艺部分小计 | K34: =SUM(K4:K32) -> 0
A35: 二、标准化泵房改造
B36: 1 | C36: 标准化泵房改造 | D36: 标准化泵房内部修缮改造，内容详见设计图 | G36: m2 | H36: 120 | K36: =IF(H36="",0,H36*I36) -> 0
K37: =IF(H37="",0,H37*I37) -> 0
K38: =IF(H38="",0,H38*I38) -> 0
K39: =IF(H39="",0,H39*I39) -> 0
K40: =IF(H40="",0,H40*I40) -> 0
K41: =IF(H41="",0,H41*I41) -> 0
K42: =IF(H42="",0,H42*I42) -> 0
K43: =IF(H43="",0,H43*I43) -> 0
C44: 标准化泵房改造部分小计 | K44: =SUM(K36:K43) -> 0
A45: 三、电气及自控设备
A46: 照明设备 | B46: 1 | C46: 应急照明箱(A型应急照明集中电源) ELD | D46: N-D-0.1kW-36(应急时间90min) | G46: 面 | H46: 1 | J46: 明装,底边距地1.6m | K46: =IF(H46="",0,H46*I46) -> 0
B47: 2 | C47: 应急单管LED支架灯 | D47: LED灯管 1*30W,IP65 3000lm,6000K,Ra>85,COS%%C>0.95 | G47: 套 | H47: 10 | J47: 吊装,装高3.0m 自带蓄电池,应急时间180min | K47: =IF(H47="",0,H47*I47) -> 0
B48: 3 | C48: 应急双管LED支架灯 | D48: LED灯管 2*30W,IP65 3000lm,6000K,Ra>85,COS%%C>0.95 | G48: 套 | H48: 2 | J48: 吊装,装高3.0m 自带蓄电池,应急时间180min | K48: =IF(H48="",0,H48*I48) -> 0
B49: 4 | C49: 双联开关 | D49: 250V.10A,防溅型 | G49: 只 | H49: 2 | J49: 底边距地1.3m(暗装) | K49: =IF(H49="",0,H49*I49) -> 0
B50: 5 | C50: 二+三孔带接地安全插座 | D50: 250V.10A,防溅型 | G50: 只 | H50: 2 | J50: 暗设,底边距地1.5m | K50: =IF(H50="",0,H50*I50) -> 0
B51: 6 | C51: 照明及插座管线 | D51: 详配电系统图及照明、插座平面布置图 | G51: 项 | H51: 1 | K51: =IF(H51="",0,H51*I51) -> 0
B52: 7 | C52: 消防应急照明灯具-壁装(中型) | D52: 7W,DC36V,A型,具有应急照明、巡检、开灯、灭灯功能 | G52: 套 | H52: 7 | J52: 底边距地2.5m,IP65 | K52: =IF(H52="",0,H52*I52) -> 0
B53: 8 | C53: 消防应急照明灯具-壁装(中型) | D53: 7W,DC36V,A型,具有应急照明、巡检、开灯、灭灯功能 | G53: 套 | H53: 2 | J53: 底边距地2.5m,户外型,IP67 | K53: =IF(H53="",0,H53*I53) -> 0
B54: 9 | C54: 消防应急标志灯具-安全出口(中型) | D54: 1W,DC36V,A型,具有巡检、常亮、频闪功能 | G54: 套 | H54: 1 | J54: 装于门上方或悬挂安装,IP65 | K54: =IF(H54="",0,H54*I54) -> 0
B55: 10 | C55: 消防应急标志灯具-单面左向(中型) | D55: 1W,DC36V,A型,具有巡检、常亮、频闪功能 | G55: 套 | H55: 2 | J55: 底边距地0.5m,IP65 | K55: =IF(H55="",0,H55*I55) -> 0
B56: 11 | C56: 消防应急标志灯具-单面右向(中型) | D56: 1W,DC36V,A型,具有巡检、常亮、频闪功能 | G56: 套 | H56: 2 | J56: 底边距地0.5m,IP65 | K56: =IF(H56="",0,H56*I56) -> 0
A57: 配电设备 | B57: 1 | C57: 泵房主控柜 ZKA | D57: 附件图纸,详见:D-EG-FC-02、K-EG-FC-05、06 注意：本单项报价还应包含自控图K-EG-FC-05、06中的所有设备元件价格 | G57: 面 | H57: 1 | J57: 柜体采用304不锈钢材质,IP55,落地安装 基础用C30素混凝土垫高300mm 素混凝土基础上采用10#槽钢架高200mm | K57: =IF(H57="",0,H57*I57) -> 0
B58: 2 | C58: 电缆及保护管 | D58: 详:电缆一览表 | G58: 项 | H58: 1 | K58: =IF(H58="",0,H58*I58) -> 0
B59: 3 | C59: 304不锈钢电缆桥架(包括盖板) | D59: 200*100,采用304不锈钢板分隔,控制电缆占宽80mm 壁厚不小于2.0mm | G59: 米 | H59: 18 | J59: 配套所有配件及托臂,均采用304不锈钢材质 | K59: =IF(H59="",0,H59*I59) -> 0
B60: 4 | C60: 304不锈钢电缆桥架(包括盖板) | D60: 100*50,采用304不锈钢板分隔,控制电缆占宽50mm 壁厚不小于2.0mm | G60: 米 | H60: 18 | J60: 配套所有配件及托臂,均采用304不锈钢材质 | K60: =IF(H60="",0,H60*I60) -> 0
B61: 5 | C61: 接地线 | D61: -40*4扁钢,304不锈钢材质 | G61: 米 | H61: 20 | K61: =IF(H61="",0,H61*I61) -> 0
B62: 6 | C62: 防水防火密封堵料 | G62: 千克 | H62: 3 | K62: =IF(H62="",0,H62*I62) -> 0
A63: 拆除设备 | B63: 1 | C63: 现状照明灯具、电缆及保护管 | G63: 项 | H63: 1 | K63: =IF(H63="",0,H63*I63) -> 0
A64: 自控设备 | B64: 1 | C64: 泵房主控柜 ZKA | D64: 附件图纸,详见:D-EG-FC-02、K-EG-FC-05、06 | G64: 面 | H64: 1 | I64: 此单项不计价，计入配电设备中
B65: 2 | C65: 一体式电磁流量计 FIT11、41 | D65: 测量口径:DN150,PN=1.0MPa,电源:~220VAC 测量范围:0~30m3/h,配置MODBUS通讯接口 测量精度不低于0.5级 防护等级IP65 | G65: 套 | H65: 2 | J65: 检测一期、二期低区设备出水瞬时流量、累积流量 | K65: =IF(H65="",0,H65*I65) -> 0
B66: 3 | C66: 一体式电磁流量计 FIT21、51 | D66: 测量口径:DN150,PN=1.6MPa,电源:~220VAC 测量范围:0~30m3/h,配置MODBUS通讯接口 测量精度不低于0.5级 防护等级IP65 | G66: 套 | H66: 2 | J66: 检测一期、二期中区设备出水瞬时流量、累积流量 | K66: =IF(H66="",0,H66*I66) -> 0
B67: 4 | C67: 一体式电磁流量计 FIT31、61 | D67: 测量口径:DN100,PN=1.6MPa,电源:~220VAC 测量范围:0~30m3/h,配置MODBUS通讯接口 测量精度不低于0.5级 防护等级IP65 | G67: 套 | H67: 2 | J67: 检测一期、二期高区设备出水瞬时流量、累积流量 | K67: =IF(H67="",0,H67*I67) -> 0
B68: 5 | C68: 一体式超声波液位计 LIT | D68: 0~2m,IP65,输出信号:4~20mA | G68: 套 | H68: 1 | J68: 检测泵房液位 | K68: =IF(H68="",0,H68*I68) -> 0
B69: 6 | C69: 室内高清彩色网络枪机 | D69: 400万像素,带红外、柔光补光、 人形侦测、智能警戒等功能,IP65 | G69: 套 | H69: 2 | J69: 装高3.0m,配套电源等辅件。 | K69: =IF(H69="",0,H69*I69) -> 0
B70: 7 | C70: 室内一体化网络高清球机 | D70: 400万像素,带红外、柔光补光、 人形侦测、智能警戒等功能,IP65 | G70: 套 | H70: 2 | J70: 装高3.0m,配套电源等辅件。 | K70: =IF(H70="",0,H70*I70) -> 0
B71: 8 | C71: 液晶显示器 YJA | D71: 21寸,配15米HDMI线缆,IP55 | G71: 套 | H71: 1 | J71: 挂墙安装,顶边距地1.6m,配套支架 | K71: =IF(H71="",0,H71*I71) -> 0
B72: 9 | C72: 电缆及保护管 | D72: 详:电缆一览表 | G72: 项 | H72: 1 | K72: =IF(H72="",0,H72*I72) -> 0
B73: 7 | C73: 新风系统 | G73: 项 | H73: 1 | K73: =H73*I73 -> 0
B74: 10 | C74: 质保期内网络通讯费 | G74: 项 | H74: 1 | K74: =IF(H74="",0,H74*I74) -> 0
B75: 11 | C75: 防水防火密封堵料 | G75: 千克 | H75: 3 | K75: =IF(H75="",0,H75*I75) -> 0
C76: 电气部分小计 | K76: =SUM(K46:K75) -> 0
C77: 本泵房报价合计 | K77: =K34+K44+K76 -> 0
A102: 锚点(供汇总引用) | C102: =K34 -> 0 | D102: =K44 -> 0 | H102: =K76 -> 0 | K102: =K77 -> 0
A103: 备注： | B103: 请注明报价包含/不包含范围、品牌偏好、供货周期、质保期及是否含安装调试。

Sheet 泰禾人家
A1: 泰禾人家 清单明细表
A2: 分部 | B2: 序号 | C2: 细项名称 | D2: 规格型号/技术要求 | E2: 材质 | F2: 制造商及品牌 | G2: 单位 | H2: 数量 | I2: 不含税单价(元) | J2: 备注 | K2: 合价(元)
A3: 一、工艺设备
B4: 1 | C4: 不锈钢管 | D4: DN200,δ=3mm Pn=1.0MPa | G4: m | H4: 15 | K4: =IF(H4="",0,H4*I4) -> 0
B5: 2 | C5: 临时供水费用 | G5: 项 | H5: 1 | K5: =IF(H5="",0,H5*I5) -> 0
B6: 2 | C6: 不锈钢管 | D6: DN100,δ=2.0mm Pn=1.0MPa | G6: m | H6: 30 | K6: =IF(H6="",0,H6*I6) -> 0
B7: 3 | C7: 不锈钢管 | D7: DN100,δ=2.0mm Pn=1.6MPa | G7: m | H7: 27 | K7: =IF(H7="",0,H7*I7) -> 0
B8: 4 | C8: 不锈钢90°弯头 | D8: DN200,δ=2.8mm,Pn=1.0MPa | G8: 个 | H8: 2 | K8: =IF(H8="",0,H8*I8) -> 0
B9: 5 | C9: 不锈钢90°弯头 | D9: DN100,δ=2mm,Pn=1.0MPa | G9: 个 | H9: 9 | K9: =IF(H9="",0,H9*I9) -> 0
B10: 6 | C10: 不锈钢90°弯头 | D10: DN100,δ=2mm,Pn=1.6MPa | G10: 个 | H10: 4 | K10: =IF(H10="",0,H10*I10) -> 0
B11: 7 | C11: 不锈钢三通 | D11: DN200*DN100 Pn=1.0MPa | G11: 个 | H11: 1 | K11: =IF(H11="",0,H11*I11) -> 0
B12: 8 | C12: 异径大小头 | D12: DN200*DN100 Pn=1.0MPa | G12: 个 | H12: 1 | K12: =IF(H12="",0,H12*I12) -> 0
B13: 9 | C13: 法兰片 | D13: DN200,Pn=1.0MPa | G13: 个 | H13: 1 | K13: =IF(H13="",0,H13*I13) -> 0
B14: 10 | C14: 法兰片 | D14: DN100,Pn=1.0MPa | G14: 个 | H14: 2 | K14: =IF(H14="",0,H14*I14) -> 0
B15: 11 | C15: 法兰片 | D15: DN100,Pn=1.6MPa | G15: 个 | H15: 4 | K15: =IF(H15="",0,H15*I15) -> 0
B16: 12 | C16: 手自一体电动蝶阀 | D16: DN200,Pn=1.0MPa,Z945X | G16: 个 | H16: 1 | K16: =IF(H16="",0,H16*I16) -> 0
B17: 13 | C17: 手自一体电动蝶阀 | D17: DN100,Pn=1.0MPa,Z945X | E17: SUS304 | G17: 个 | H17: 4 | K17: =IF(H17="",0,H17*I17) -> 0
B18: 14 | C18: 手自一体电动蝶阀 | D18: DN100,Pn=1.6MPa,Z945X | E18: SUS304 | G18: 个 | H18: 2 | K18: =IF(H18="",0,H18*I18) -> 0
B19: 15 | C19: 低阻型倒流防止器 | D19: DN100,Pn=1.0MPa | E19: S31603 | G19: 个 | H19: 3 | K19: =IF(H19="",0,H19*I19) -> 0
B20: 16 | C20: Y型过滤器 | D20: DN200,P=1.0MPa | E20: S31603 | G20: 个 | H20: 1 | K20: =IF(H20="",0,H20*I20) -> 0
B21: 20 | C21: 水锤吸纳器 | D21: DN100 | E21: SUS304 | G21: 个 | H21: 3 | K21: =IF(H21="",0,H21*I21) -> 0
B22: 21 | C22: 灭火器 | D22: 5KG手提式干粉灭火器 | G22: 个 | H22: 2 | K22: =IF(H22="",0,H22*I22) -> 0
B23: 22 | C23: 不锈钢波纹管 | D23: DN100,P=1.0MPa | E23: SUS304 | G23: 个 | H23: 4 | K23: =IF(H23="",0,H23*I23) -> 0
B24: 23 | C24: 不锈钢波纹管 | D24: DN100,P=1.6MPa | E24: SUS304 | G24: 个 | H24: 2 | K24: =IF(H24="",0,H24*I24) -> 0
B25: 24 | C25: 压力表 | D25: 精度2.5级,0~1.6MPa | E25: SUS304 | G25: 个 | H25: 1 | K25: =IF(H25="",0,H25*I25) -> 0
B26: 25 | C26: 排气阀 | D26: DN25 | G26: 个 | H26: 3 | J26: 安装于进水管位置 | K26: =IF(H26="",0,H26*I26) -> 0
B27: 26 | C27: 拆除原管道 | D27: DN200 | E27: 钢制 | G27: m | H27: 15 | K27: =IF(H27="",0,H27*I27) -> 0
B28: 27 | C28: 拆除原管道 | D28: DN100 | E28: 钢制 | G28: m | H28: 57 | K28: =IF(H28="",0,H28*I28) -> 0
B29: 28 | C29: 柔性防水套管(B型) | D29: DN200 | G29: 个 | H29: 1 | K29: =IF(H29="",0,H29*I29) -> 0
B30: 29 | C30: 柔性防水套管(B型) | D30: DN100 | G30: 个 | H30: 3 | K30: =IF(H30="",0,H30*I30) -> 0
B31: 30 | C31: 橡胶隔震垫 | G31: 个 | H31: 12 | K31: =IF(H31="",0,H31*I31) -> 0
A32: 注意：本材料表所列管道及设备基础工程量为设计参考值,最终工程量需根据设备中标单位出具的二次深化设计正式成果文件进行调整。
C33: 工艺部分小计 | K33: =SUM(K4:K31) -> 0
A34: 二、标准化泵房改造
B35: 1 | C35: 标准化泵房改造 | D35: 标准化泵房内部修缮改造，内容详见设计图 | G35: m2 | H35: 155 | K35: =IF(H35="",0,H35*I35) -> 0
K36: =IF(H36="",0,H36*I36) -> 0
K37: =IF(H37="",0,H37*I37) -> 0
K38: =IF(H38="",0,H38*I38) -> 0
K39: =IF(H39="",0,H39*I39) -> 0
K40: =IF(H40="",0,H40*I40) -> 0
K41: =IF(H41="",0,H41*I41) -> 0
K42: =IF(H42="",0,H42*I42) -> 0
C43: 标准化泵房改造部分小计 | K43: =SUM(K35:K42) -> 0
A44: 三、电气及自控设备
A45: 照明设备 | B45: 1 | C45: 应急照明箱(A型应急照明集中电源) ELD | D45: N-D-0.1kW-36(应急时间90min) | G45: 面 | H45: 1 | J45: 明装,底边距地1.6m | K45: =IF(H45="",0,H45*I45) -> 0
B46: 2 | C46: 应急双管LED支架灯 | D46: LED灯管 2*22W,IP65 2200lm,6000K,Ra>85,COS%%C>0.95 | G46: 套 | H46: 11 | J46: 壁装/吊装,装高3.0m 自带蓄电池,应急时间180min | K46: =IF(H46="",0,H46*I46) -> 0
B47: 3 | C47: 双联开关 | D47: 250V.10A,防溅型 | G47: 只 | H47: 2 | J47: 底边距地1.3m(暗装) | K47: =IF(H47="",0,H47*I47) -> 0
B48: 4 | C48: 二+三孔带接地安全插座 | D48: 250V.10A,防溅型 | G48: 只 | H48: 2 | J48: 暗设,底边距地1.5m | K48: =IF(H48="",0,H48*I48) -> 0
B49: 5 | C49: 照明及插座管线 | D49: 详配电系统图及照明、插座平面布置图 | K49: =IF(H49="",0,H49*I49) -> 0
B50: 6 | C50: 消防应急照明灯具-壁装(中型) | D50: 7W,DC36V,A型,具有应急照明、巡检、开灯、灭灯功能 | G50: 套 | H50: 9 | J50: 底边距地2.5m,IP65 | K50: =IF(H50="",0,H50*I50) -> 0
B51: 7 | C51: 消防应急标志灯具-安全出口(中型) | D51: 1W,DC36V,A型,具有巡检、常亮、频闪功能 | G51: 套 | H51: 1 | J51: 装于门上方或悬挂安装,IP65 | K51: =IF(H51="",0,H51*I51) -> 0
B52: 8 | C52: 消防应急标志灯具-单面左向(中型) | D52: 1W,DC36V,A型,具有巡检、常亮、频闪功能 | G52: 套 | H52: 2 | J52: 底边距地0.5m,IP65 | K52: =IF(H52="",0,H52*I52) -> 0
B53: 9 | C53: 消防应急标志灯具-单面右向(中型) | D53: 1W,DC36V,A型,具有巡检、常亮、频闪功能 | G53: 套 | H53: 2 | J53: 底边距地0.5m,IP65 | K53: =IF(H53="",0,H53*I53) -> 0
A54: 配电设备 | B54: 1 | C54: 泵房主控柜 ZKA | D54: 附件图纸,详见:D-EG-TH-02、K-EG-TH-05、06 注意：本单项报价还应包含自控图K-EG-TH-05、06中的所有设备元件价格 | G54: 面 | H54: 1 | J54: 柜体采用304不锈钢材质,IP55,落地安装 基础用C30素混凝土垫高300mm 素混凝土基础上采用10#槽钢架高200mm | K54: =IF(H54="",0,H54*I54) -> 0
B55: 2 | C55: 电缆及保护管 | D55: 详:电缆一览表 | G55: 项 | H55: 1 | K55: =IF(H55="",0,H55*I55) -> 0
B56: 3 | C56: 304不锈钢电缆桥架(包括盖板) | D56: 200*100,采用304不锈钢板分隔,控制电缆占宽80mm 壁厚不小于2.0mm | G56: 米 | H56: 12 | J56: 配套所有配件及托臂,均采用304不锈钢材质 | K56: =IF(H56="",0,H56*I56) -> 0
B57: 4 | C57: 304不锈钢电缆桥架(包括盖板) | D57: 100*50,采用304不锈钢板分隔,控制电缆占宽50mm 壁厚不小于2.0mm | G57: 米 | H57: 11 | J57: 配套所有配件及托臂,均采用304不锈钢材质 | K57: =IF(H57="",0,H57*I57) -> 0
B58: 5 | C58: 接地线 | D58: -40*4扁钢,304不锈钢材质 | G58: 米 | H58: 20 | K58: =IF(H58="",0,H58*I58) -> 0
B59: 6 | C59: 防水防火密封堵料 | G59: 千克 | H59: 3 | K59: =IF(H59="",0,H59*I59) -> 0
A60: 拆除设备 | B60: 1 | C60: 现状照明灯具、电缆及保护管 | G60: 项 | H60: 1 | K60: =IF(H60="",0,H60*I60) -> 0
A61: 自控设备 | B61: 1 | C61: 泵房主控柜 ZKA | D61: 附件图纸,详见:D-EG-TH-02、K-EG-TH-05、06 | G61: 面 | H61: 1 | I61: 此单项不计价，计入配电设备中
B62: 2 | C62: 一体式电磁流量计 FIT1 | D62: 测量口径:DN200,PN=1.0MPa,电源:~220VAC 测量范围:0~180m3/h,配置MODBUS通讯接口 测量精度不低于0.5级 防护等级IP65 | G62: 套 | H62: 1 | J62: 检测泵房进水总管瞬时流量、累积流量 | K62: =IF(H62="",0,H62*I62) -> 0
B63: 3 | C63: 一体式电磁流量计 FIT11 | D63: 测量口径:DN100,PN=1.0MPa,电源:~220VAC 测量范围:0~60m3/h,配置MODBUS通讯接口 测量精度不低于0.5级 防护等级IP65 | G63: 套 | H63: 1 | J63: 检测低区设备出水瞬时流量、累积流量 | K63: =IF(H63="",0,H63*I63) -> 0
B64: 4 | C64: 一体式电磁流量计 FIT21 | D64: 测量口径:DN100,PN=1.6MPa,电源:~220VAC 测量范围:0~60m3/h,配置MODBUS通讯接口 测量精度不低于0.5级 防护等级IP65 | G64: 套 | H64: 1 | J64: 检测中区设备出水瞬时流量、累积流量 | K64: =IF(H64="",0,H64*I64) -> 0
B65: 5 | C65: 一体式电磁流量计 FIT31 | D65: 测量口径:DN100,PN=1.6MPa,电源:~220VAC 测量范围:0~60m3/h,配置MODBUS通讯接口 测量精度不低于0.5级 防护等级IP65 | G65: 套 | H65: 1 | J65: 检测高区设备出水瞬时流量、累积流量 | K65: =IF(H65="",0,H65*I65) -> 0
B66: 6 | C66: 一体式超声波液位计 LIT | D66: 0~2m,IP65,输出信号:4~20mA | G66: 套 | H66: 1 | J66: 检测泵房液位 | K66: =IF(H66="",0,H66*I66) -> 0
B67: 7 | C67: 室内高清彩色网络枪机 | D67: 400万像素,带红外、柔光补光、 人形侦测、智能警戒等功能,IP65 | G67: 套 | H67: 2 | J67: 装高3.0m,配套电源等辅件。 | K67: =IF(H67="",0,H67*I67) -> 0
B68: 8 | C68: 室内一体化网络高清球机 | D68: 400万像素,带红外、柔光补光、 人形侦测、智能警戒等功能,IP65 | G68: 套 | H68: 1 | J68: 装高3.0m,配套电源等辅件。 | K68: =IF(H68="",0,H68*I68) -> 0
B69: 9 | C69: 液晶显示器 YJA | D69: 21寸,配15米HDMI线缆,IP55 | G69: 套 | H69: 1 | J69: 挂墙安装,顶边距地1.6m,配套支架 | K69: =IF(H69="",0,H69*I69) -> 0
B70: 7 | C70: 新风系统 | G70: 项 | H70: 1 | K70: =H70*I70 -> 0
B71: 10 | C71: 电缆及保护管 | D71: 详:电缆一览表 | G71: 项 | H71: 1 | K71: =IF(H71="",0,H71*I71) -> 0
B72: 11 | C72: 质保期内网络通讯费 | G72: 项 | H72: 1 | K72: =IF(H72="",0,H72*I72) -> 0
B73: 12 | C73: 防水防火密封堵料 | G73: 千克 | H73: 3 | K73: =IF(H73="",0,H73*I73) -> 0
C74: 电气部分小计 | K74: =SUM(K45:K73) -> 0
C75: 本泵房报价合计 | K75: =K33+K43+K74 -> 0
A100: 锚点(供汇总引用) | C100: =K33 -> 0 | D100: =K43 -> 0 | H100: =K74 -> 0 | K100: =K75 -> 0
A101: 备注： | B101: 请注明报价包含/不包含范围、品牌偏好、供货周期、质保期及是否含安装调试。

Sheet 东方伟业
A1: 东方伟业 清单明细表
A2: 分部 | B2: 序号 | C2: 细项名称 | D2: 规格型号/技术要求 | E2: 材质 | F2: 制造商及品牌 | G2: 单位 | H2: 数量 | I2: 不含税单价(元) | J2: 备注 | K2: 合价(元)
A3: 一、工艺设备
B4: 1 | C4: 无负压户外一体化设备 （核心产品） | D4: Q=24m3/h,H=62m,单泵功率4kw 供水设备流量:24m3/h(水泵两用一备,单泵流量12m3/h,单泵功率4KW), 设备出口压力设置为0.62MPa,设备进口市政动压力约为0.20MPa, 采用全变频无负压供水加压设备,设备应具有实时显示流量、压力功能。 | E4: S31603 | G4: 套 | H4: 1 | J4: 含弹簧隔振器,详见泵房设备参数表 | K4: =IF(H4="",0,H4*I4) -> 0
B5: 2 | C5: 临时供水费用 | G5: 项 | H5: 1 | K5: =IF(H5="",0,H5*I5) -> 0
B6: 2 | C6: 不锈钢管 | D6: DN150,δ=2.5mm,L=2000mm,PN=1.0MPa | E6: S31603 | G6: 只 | H6: 1 | J6: 安装于进水管 | K6: =IF(H6="",0,H6*I6) -> 0
B7: 3 | C7: 不锈钢管 | D7: DN100,δ=2mm,L=2000mm,PN=1.0MPa | E7: S31603 | G7: 只 | H7: 1 | J7: 安装于出水管 | K7: =IF(H7="",0,H7*I7) -> 0
B8: 4 | C8: 不锈钢90°弯头 | D8: DN150,δ=2.0mm,Pn=1.0MPa | E8: S31603 | G8: 个 | H8: 2 | J8: 安装于进水管 | K8: =IF(H8="",0,H8*I8) -> 0
B9: 5 | C9: 法兰片 | D9: DN150,P=1.0MPa | E9: S31603 | G9: 个 | H9: 4 | J9: 安装于进水管 | K9: =IF(H9="",0,H9*I9) -> 0
B10: 6 | C10: 法兰片 | D10: DN100,P=1.0MPa | E10: S31603 | G10: 个 | H10: 6 | J10: 安装于出水管 | K10: =IF(H10="",0,H10*I10) -> 0
B11: 7 | C11: 手自一体电动蝶阀 | D11: DN150,P=1.0MPa,Z945X | E11: S30408 | G11: 个 | H11: 1 | J11: 安装于进水管 | K11: =IF(H11="",0,H11*I11) -> 0
B12: 8 | C12: 手自一体电动蝶阀 | D12: DN100,P=1.0MPa,Z945X | E12: S30408 | G12: 个 | H12: 1 | J12: 安装于出水管 | K12: =IF(H12="",0,H12*I12) -> 0
B13: 9 | C13: 不锈钢波纹管 | D13: DN150,P=1.0MPa | E13: S30408 | G13: 个 | H13: 1 | J13: 安装于进水管 | K13: =IF(H13="",0,H13*I13) -> 0
B14: 10 | C14: 不锈钢波纹管 | D14: DN100,P=1.0MPa | E14: S30408 | G14: 个 | H14: 1 | J14: 安装于出水管 | K14: =IF(H14="",0,H14*I14) -> 0
B15: 11 | C15: Y型过滤器 | D15: DN150,P=1.0MPa | E15: S30408 | G15: 个 | H15: 1 | J15: 安装于进水管 | K15: =IF(H15="",0,H15*I15) -> 0
B16: 12 | C16: 倒流防止器 | D16: DN150,P=1.0MPa | E16: S30408 | G16: 个 | H16: 1 | J16: 安装于进水管 | K16: =IF(H16="",0,H16*I16) -> 0
B17: 13 | C17: 电磁流量计 | D17: DN100,P=1.0MPa | E17: S30408 | G17: 个 | H17: 1 | J17: 测量精度≤0.5级,测量范围0-50m3/h 详自控专业图纸 | K17: =IF(H17="",0,H17*I17) -> 0
B18: 14 | C18: 自动排气阀 | D18: DN25,P=1.0MPa | E18: S30408 | G18: 个 | H18: 1 | J18: 安装于进水管位置 | K18: =IF(H18="",0,H18*I18) -> 0
B19: 15 | C19: 灭火器 | D19: MF/ABC5 | G19: 个 | H19: 1 | K19: =IF(H19="",0,H19*I19) -> 0
B20: 16 | C20: 压力表 | D20: 精度2.5级,0~1.6MPa | E20: S30408 | G20: 个 | H20: 1 | J20: 安装于进水管 | K20: =IF(H20="",0,H20*I20) -> 0
B21: 17 | C21: 水锤吸纳器 | D21: DN100,P=1.0MPa | E21: S30408 | G21: 个 | H21: 1 | K21: =IF(H21="",0,H21*I21) -> 0
B22: 18 | C22: 拆除原管道 | D22: DN150,δ=2.5mm,L=2000mm,PN=1.0MPa | E22: 钢制 | G22: 只 | H22: 1 | K22: =IF(H22="",0,H22*I22) -> 0
B23: 19 | C23: 拆除原管道 | D23: DN100,δ=2mm,L=2000mm,PN=1.0MPa | E23: 钢制 | G23: 只 | H23: 1 | K23: =IF(H23="",0,H23*I23) -> 0
A24: 注意：本材料表所列管道及设备基础工程量为设计参考值,最终工程量需根据设备中标单位出具的二次深化设计正式成果文件进行调整。
C25: 工艺部分小计 | K25: =SUM(K4:K23) -> 0
A26: 二、标准化泵房改造
K27: =IF(H27="",0,H27*I27) -> 0
K28: =IF(H28="",0,H28*I28) -> 0
K29: =IF(H29="",0,H29*I29) -> 0
K30: =IF(H30="",0,H30*I30) -> 0
K31: =IF(H31="",0,H31*I31) -> 0
K32: =IF(H32="",0,H32*I32) -> 0
K33: =IF(H33="",0,H33*I33) -> 0
K34: =IF(H34="",0,H34*I34) -> 0
C35: 标准化泵房改造部分小计 | K35: =SUM(K27:K34) -> 0
A36: 三、电气及自控设备
C44: 电气部分小计 | K44: =SUM(K37:K43) -> 0
C45: 本泵房报价合计 | K45: =K25+K35+K44 -> 0
A70: 锚点(供汇总引用) | C70: =K25 -> 0 | D70: =K35 -> 0 | H70: =K44 -> 0 | K70: =K45 -> 0
A71: 备注： | B71: 请注明报价包含/不包含范围、品牌偏好、供货周期、质保期及是否含安装调试。

Sheet 永星国际
A1: 永星国际 清单明细表
A2: 分部 | B2: 序号 | C2: 细项名称 | D2: 规格型号/技术要求 | E2: 材质 | F2: 制造商及品牌 | G2: 单位 | H2: 数量 | I2: 不含税单价(元) | J2: 备注 | K2: 合价(元)
A3: 一、工艺设备
B4: 1 | C4: 不锈钢管 | D4: DN150,δ=2.5mm,Pn=1.0MPa | E4: S31603 | G4: m | H4: 15 | K4: =IF(H4="",0,H4*I4) -> 0
B5: 2 | C5: 临时供水费用 | G5: 项 | H5: 1 | K5: =IF(H5="",0,H5*I5) -> 0
B6: 2 | C6: 不锈钢管 | D6: DN100,δ=2.0mm,Pn=1.0MPa | E6: S31603 | G6: m | H6: 9 | K6: =IF(H6="",0,H6*I6) -> 0
B7: 3 | C7: 不锈钢管 | D7: DN100,δ=2.0mm,Pn=1.6MPa | E7: S31603 | G7: m | H7: 5 | K7: =IF(H7="",0,H7*I7) -> 0
B8: 4 | C8: 不锈钢90°弯头 | D8: DN150,δ=2.8mm,Pn=1.0MPa | E8: S31603 | G8: 个 | H8: 4 | K8: =IF(H8="",0,H8*I8) -> 0
B9: 5 | C9: 不锈钢90°弯头 | D9: DN100,δ=2.0mm,Pn=1.0MPa | E9: S31603 | G9: 个 | H9: 7 | K9: =IF(H9="",0,H9*I9) -> 0
B10: 6 | C10: 不锈钢90°弯头 | D10: DN100,δ=2.0mm,Pn=1.6MPa | E10: S31603 | G10: 个 | H10: 3 | K10: =IF(H10="",0,H10*I10) -> 0
B11: 7 | C11: 正三通 | D11: DN150XDN100 | E11: S31603 | G11: 个 | H11: 1 | K11: =IF(H11="",0,H11*I11) -> 0
B12: 8 | C12: 异径 | D12: DN150XDN100 | E12: S31603 | G12: 个 | H12: 1 | K12: =IF(H12="",0,H12*I12) -> 0
B13: 9 | C13: 手自一体电动蝶阀 | D13: DN150,P=1.0MPa,D943H | E13: S30408 | G13: 个 | H13: 1 | K13: =IF(H13="",0,H13*I13) -> 0
B14: 10 | C14: 手自一体电动蝶阀 | D14: DN100,P=1.0MPa,D943H | E14: S30408 | G14: 个 | H14: 3 | K14: =IF(H14="",0,H14*I14) -> 0
B15: 11 | C15: 手自一体电动蝶阀 | D15: DN100,P=1.6MPa,D943H | E15: S30408 | G15: 个 | H15: 1 | K15: =IF(H15="",0,H15*I15) -> 0
B16: 12 | C16: 不锈钢波纹管 | D16: DN100,P=1.0MPa | E16: S30408 | G16: 个 | H16: 3 | K16: =IF(H16="",0,H16*I16) -> 0
B17: 13 | C17: 不锈钢波纹管 | D17: DN100,P=1.6MPa | E17: S30408 | G17: 个 | H17: 1 | K17: =IF(H17="",0,H17*I17) -> 0
... B19: 15 | C19: 倒流防止器 | D19: DN100,P=1.0MPa | E19: S31603 | G19: 个 | H19: 2 | K19: =IF(H19="",0,H19*I19) -> 0
B20: 19 | C20: 自动排气阀 | D20: DN25,P=1.0MPa | G20: 个 | H20: 1 | K20: =IF(H20="",0,H20*I20) -> 0
B21: 20 | C21: 法兰片 | D21: DN150,P=1.0MPa | E21: S31603 | G21: 个 | H21: 5 | K21: =IF(H21="",0,H21*I21) -> 0
B22: 21 | C22: 法兰片 | D22: DN100,P=1.0MPa | E22: S31603 | G22: 个 | H22: 11 | K22: =IF(H22="",0,H22*I22) -> 0
B23: 22 | C23: 法兰片 | D23: DN100,P=1.6MPa | E23: S31603 | G23: 个 | H23: 7 | K23: =IF(H23="",0,H23*I23) -> 0
B24: 23 | C24: 水锤吸纳器 | D24: DN100,Pn=1.0MPa | E24: S30408 | G24: 个 | H24: 1 | K24: =IF(H24="",0,H24*I24) -> 0
B25: 24 | C25: 水锤吸纳器 | D25: DN100,Pn=1.6MPa | E25: S30408 | G25: 个 | H25: 1 | K25: =IF(H25="",0,H25*I25) -> 0
B26: 25 | C26: 拆除原管道 | D26: 钢管DN100 --第一阶段 | E26: Q235B | G26: m | H26: 30 | K26: =IF(H26="",0,H26*I26) -> 0
B27: 26 | C27: 灭火器 | D27: MF/ABC5 | G27: 个 | H27: 2 | K27: =IF(H27="",0,H27*I27) -> 0
B28: 27 | C28: 柔性防水套管(B型) | D28: DN150 | G28: 个 | H28: 1 | J28: 详《防水套管》(02S404) | K28: =IF(H28="",0,H28*I28) -> 0
B29: 28 | C29: 柔性防水套管(B型) | D29: DN100 | G29: 个 | H29: 2 | J29: 详《防水套管》(02S404) | K29: =IF(H29="",0,H29*I29) -> 0
B30: 29 | C30: 橡胶隔振垫 | G30: 个 | H30: 8 | J30: 用于现状设备机组;每套设备4个 | K30: =IF(H30="",0,H30*I30) -> 0
A31: 注意：本材料表所列管道及设备基础工程量为设计参考值,最终工程量需根据设备中标单位出具的二次深化设计正式成果文件进行调整。
C32: 工艺部分小计 | K32: =SUM(K4:K30) -> 0
A33: 二、标准化泵房改造
B34: 1 | C34: 标准化泵房改造 | D34: 标准化泵房内部修缮改造，内容详见设计图 | G34: m2 | H34: 60 | K34: =IF(H34="",0,H34*I34) -> 0
K35: =IF(H35="",0,H35*I35) -> 0
K36: =IF(H36="",0,H36*I36) -> 0
K37: =IF(H37="",0,H37*I37) -> 0
K38: =IF(H38="",0,H38*I38) -> 0
K39: =IF(H39="",0,H39*I39) -> 0
K40: =IF(H40="",0,H40*I40) -> 0
K41: =IF(H41="",0,H41*I41) -> 0
C42: 标准化泵房改造部分小计 | K42: =SUM(K34:K41) -> 0
A43: 三、电气及自控设备
A44: 照明设备 | B44: 1 | C44: 应急照明箱(A型应急照明集中电源) ELD | D44: N-D-0.1kW-36(应急时间90min) | G44: 面 | H44: 1 | J44: 明装,底边距地1.6m | K44: =IF(H44="",0,H44*I44) -> 0
B45: 2 | C45: 应急LED泛光灯 | D45: 配36W LED灯,IP65 3600lm,6000K,Ra>85,COS%%C>0.95 | G45: 套 | H45: 6 | J45: 壁装,装高3.0m 自带蓄电池,应急时间180min | K45: =IF(H45="",0,H45*I45) -> 0
B46: 3 | C46: 三联开关 | D46: 250V.10A,防溅型 | G46: 只 | H46: 1 | J46: 底边距地1.3m(暗装) | K46: =IF(H46="",0,H46*I46) -> 0
B47: 4 | C47: 二+三孔带接地安全插座 | D47: 250V.10A,防溅型 | G47: 只 | H47: 2 | J47: 暗设,底边距地1.5m | K47: =IF(H47="",0,H47*I47) -> 0
B48: 5 | C48: 照明及插座管线 | D48: 详配电系统图及照明、插座平面布置图 | G48: 项 | H48: 1 | K48: =IF(H48="",0,H48*I48) -> 0
B49: 6 | C49: 消防应急照明灯具-壁装(中型) | D49: 7W,DC36V,A型,具有应急照明、巡检、开灯、灭灯功能 | G49: 套 | H49: 6 | J49: 底边距地2.5m,IP65 | K49: =IF(H49="",0,H49*I49) -> 0
B50: 7 | C50: 消防应急标志灯具-安全出口(中型) | D50: 1W,DC36V,A型,具有巡检、常亮、频闪功能 | G50: 套 | H50: 2 | J50: 装于门上方或悬挂安装,IP65 | K50: =IF(H50="",0,H50*I50) -> 0
B51: 8 | C51: 消防应急标志灯具-单面左向(中型) | D51: 1W,DC36V,A型,具有巡检、常亮、频闪功能 | G51: 套 | H51: 1 | J51: 底边距地0.5m,IP65 | K51: =IF(H51="",0,H51*I51) -> 0
B52: 9 | C52: 消防应急标志灯具-单面双向(中型) | D52: 1W,DC36V,A型,具有巡检、常亮、频闪功能 | G52: 套 | H52: 1 | J52: 底边距地0.5m,IP65 | K52: =IF(H52="",0,H52*I52) -> 0
A53: 配电设备 | B53: 1 | C53: 泵房主控柜 ZKA | D53: 附件图纸,详见:D-EG-YX-02、K-EG-YX-04、05 注意：本单项报价还应包含自控图K-EG-YX-04、05中的所有设备元件价格 | G53: 面 | H53: 1 | J53: 柜体采用304不锈钢材质,IP55,落地安装 基础用C30素混凝土垫高300mm 素混凝土基础上采用10#槽钢架高200mm | K53: =IF(H53="",0,H53*I53) -> 0
B54: 2 | C54: 电缆及保护管 | D54: 详:电缆一览表 | G54: 项 | H54: 1 | K54: =IF(H54="",0,H54*I54) -> 0
B55: 3 | C55: 304不锈钢电缆桥架(包括盖板) | D55: 200*100,采用304不锈钢板分隔,控制电缆占宽80mm 壁厚不小于2.0mm | G55: 米 | H55: 11 | J55: 配套所有配件及托臂,均采用304不锈钢材质 | K55: =IF(H55="",0,H55*I55) -> 0
B56: 4 | C56: 304不锈钢电缆桥架(包括盖板) | D56: 100*50,采用304不锈钢板分隔,控制电缆占宽50mm 壁厚不小于2.0mm | G56: 米 | H56: 7 | J56: 配套所有配件及托臂,均采用304不锈钢材质 | K56: =IF(H56="",0,H56*I56) -> 0
B57: 5 | C57: 接地线 | D57: -40*4扁钢,304不锈钢材质 | G57: 米 | H57: 20 | K57: =IF(H57="",0,H57*I57) -> 0
B58: 6 | C58: 防水防火密封堵料 | G58: 千克 | H58: 3 | K58: =IF(H58="",0,H58*I58) -> 0
A59: 自控设备 | B59: 1 | C59: 泵房主控柜 ZKA | D59: 附件图纸,详见:D-EG-YX-02、K-EG-YX-04、05 | G59: 面 | H59: 1 | I59: 此单项不计价，计入配电设备中
B60: 2 | C60: 电磁流量计变送器 FIT1 | D60: 测量口径:DN150,PN=1.0MPa,电源:~220VAC 测量范围:0~50m3/h,配置MODBUS通讯接口 测量精度不低于0.5级 变送器防护等级IP65,传感器防护等级IP68 | G60: 套 | H60: 1 | J60: 检测泵房进水总管瞬时流量、累积流量 配套仪表箱(400*300*500),IP55 挂墙安装,底边距地1.1m, 箱体采用304不锈钢材质 | K60: =H60*I60 -> 0
C61: 电磁流量计传感器 FE1
B62: 3 | C62: 电磁流量计变送器 FIT11 | D62: 测量口径:DN100,PN=1.0MPa,电源:~220VAC 测量范围:0~20m3/h,配置MODBUS通讯接口 测量精度不低于0.5级 变送器防护等级IP65,传感器防护等级IP68 | G62: 套 | H62: 1 | J62: 检测中区设备出水瞬时流量、累积流量 配套仪表箱(400*300*500),IP55 挂墙安装,底边距地1.1m, 箱体采用304不锈钢材质 | K62: =H62*I62 -> 0
C63: 电磁流量计传感器 FE11
B64: 4 | C64: 电磁流量计变送器 FIT21 | D64: 测量口径:DN100,PN=1.6MPa,电源:~220VAC 测量范围:0~20m3/h,配置MODBUS通讯接口 测量精度不低于0.5级 变送器防护等级IP65,传感器防护等级IP68 | G64: 套 | H64: 1 | J64: 检测高区设备出水瞬时流量、累积流量 配套仪表箱(400*300*500),IP55 挂墙安装,底边距地1.1m, 箱体采用304不锈钢材质 | K64: =H64*I64 -> 0
C65: 电磁流量计传感器 FE21
B66: 5 | C66: 一体式超声波液位计 LIT | D66: 0~2m,IP65,输出信号:4~20mA | G66: 套 | H66: 1 | J66: 检测泵房液位 | K66: =IF(H66="",0,H66*I66) -> 0
B67: 6 | C67: 室内高清彩色网络枪机 | D67: 400万像素,带红外、柔光补光、 人形侦测、智能警戒等功能,IP65 | G67: 套 | H67: 2 | J67: 装高3.0m,配套电源等辅件。 | K67: =IF(H67="",0,H67*I67) -> 0
B68: 7 | C68: 室内一体化网络高清球机 | D68: 400万像素,带红外、柔光补光、 人形侦测、智能警戒等功能,IP65 | G68: 套 | H68: 1 | J68: 装高3.0m,配套电源等辅件。 | K68: =IF(H68="",0,H68*I68) -> 0
B69: 8 | C69: 液晶显示器 YJA | D69: 21寸,配15米HDMI线缆,IP55 | G69: 套 | H69: 1 | J69: 挂墙安装,顶边距地1.6m,配套支架 | K69: =IF(H69="",0,H69*I69) -> 0
B70: 9 | C70: 电缆及保护管 | D70: 详:电缆一览表 | G70: 项 | H70: 1 | K70: =IF(H70="",0,H70*I70) -> 0
B71: 10 | C71: 质保期内网络通讯费 | G71: 项 | H71: 1 | K71: =IF(H71="",0,H71*I71) -> 0
B72: 7 | C72: 新风系统 | G72: 项 | H72: 1 | K72: =H72*I72 -> 0
B73: 11 | C73: 防水防火密封堵料 | G73: 千克 | H73: 3 | K73: =IF(H73="",0,H73*I73) -> 0
C74: 电气部分小计 | K74: =SUM(K44:K73) -> 0
C75: 本泵房报价合计 | K75: =K32+K42+K74 -> 0
A100: 锚点(供汇总引用) | C100: =K32 -> 0 | D100: =K42 -> 0 | H100: =K74 -> 0 | K100: =K75 -> 0
A101: 备注： | B101: 请注明报价包含/不包含范围、品牌偏好、供货周期、质保期及是否含安装调试。

Sheet 美地大道
A1: 美地大道 清单明细表
A2: 分部 | B2: 序号 | C2: 细项名称 | D2: 规格型号/技术要求 | E2: 材质 | F2: 制造商及品牌 | G2: 单位 | H2: 数量 | I2: 不含税单价(元) | J2: 备注 | K2: 合价(元)
A3: 一、工艺设备
A4: 2#楼地下室 | B4: 1 | C4: 不锈钢管 | D4: DN200,δ=3.0mm,Pn=1.0MPa | G4: S31603 | H4: 6 | K4: =IF(H4="",0,H4*I4) -> 0
B5: 2 | C5: 临时供水费用 | G5: 项 | H5: 1 | K5: =IF(H5="",0,H5*I5) -> 0
B6: 2 | C6: 不锈钢管 | D6: DN100,δ=2.0mm,Pn=1.0MPa | G6: S31603 | H6: 22 | K6: =IF(H6="",0,H6*I6) -> 0
B7: 3 | C7: 不锈钢管 | D7: DN100,δ=2.0mm,Pn=1.6MPa | G7: S31603 | H7: 10 | K7: =IF(H7="",0,H7*I7) -> 0
B8: 4 | C8: 不锈钢90°弯头 | D8: DN200,δ=2.8mm,Pn=1.0MPa | G8: S31603 | H8: 3 | K8: =IF(H8="",0,H8*I8) -> 0
B9: 5 | C9: 不锈钢90°弯头 | D9: DN100,δ=2.0mm,Pn=1.0MPa | G9: S31603 | H9: 9 | K9: =IF(H9="",0,H9*I9) -> 0
B10: 6 | C10: 不锈钢90°弯头 | D10: DN100,δ=2.0mm,Pn=1.6MPa | G10: S31603 | H10: 7 | K10: =IF(H10="",0,H10*I10) -> 0
B11: 7 | C11: 正三通 | D11: DN200XDN200 | G11: S31603 | H11: 1 | K11: =IF(H11="",0,H11*I11) -> 0
B12: 8 | C12: 异径 | D12: DN200XDN100 | G12: S31603 | H12: 2 | K12: =IF(H12="",0,H12*I12) -> 0
B13: 9 | C13: 手自一体电动蝶阀 | D13: DN200,P=1.0MPa,D943H | G13: S30408 | H13: 1 | K13: =IF(H13="",0,H13*I13) -> 0
B14: 10 | C14: 手自一体电动蝶阀 | D14: DN100,P=1.0MPa,D943H | G14: S30408 | H14: 3 | K14: =IF(H14="",0,H14*I14) -> 0
B15: 11 | C15: 手自一体电动蝶阀 | D15: DN100,P=1.6MPa,D943H | G15: S30408 | H15: 1 | K15: =IF(H15="",0,H15*I15) -> 0
B16: 12 | C16: 不锈钢波纹管 | D16: DN100,P=1.0MPa | G16: S31603 | H16: 3 | K16: =IF(H16="",0,H16*I16) -> 0
B17: 13 | C17: 不锈钢波纹管 | D17: DN100,P=1.6MPa | G17: S31603 | H17: 1 | K17: =IF(H17="",0,H17*I17) -> 0
... B19: 15 | C19: 倒流防止器 | D19: DN100,P=1.0MPa | G19: S31603 | H19: 2 | K19: =IF(H19="",0,H19*I19) -> 0
B20: 19 | C20: 自动排气阀 | D20: DN25,P=1.0MPa | H20: 1 | K20: =IF(H20="",0,H20*I20) -> 0
B21: 20 | C21: 法兰片 | D21: DN200,P=1.0MPa | G21: S31603 | H21: 5 | K21: =IF(H21="",0,H21*I21) -> 0
B22: 21 | C22: 法兰片 | D22: DN100,P=1.0MPa | G22: S31603 | H22: 14 | K22: =IF(H22="",0,H22*I22) -> 0
B23: 22 | C23: 法兰片 | D23: DN100,P=1.6MPa | G23: S31603 | H23: 10 | K23: =IF(H23="",0,H23*I23) -> 0
B24: 23 | C24: 水锤吸纳器 | D24: DN100,Pn=1.0MPa | G24: S30408 | H24: 2 | K24: =IF(H24="",0,H24*I24) -> 0
B25: 24 | C25: 水锤吸纳器 | D25: DN100,Pn=1.6MPa | G25: S30408 | H25: 2 | K25: =IF(H25="",0,H25*I25) -> 0
B26: 25 | C26: 拆除原管道 | D26: 钢管DN200 | G26: Q235B | H26: 6 | K26: =IF(H26="",0,H26*I26) -> 0
B27: 26 | C27: 拆除原管道 | D27: 钢管DN100 --第一阶段 | G27: Q235B | H27: 30 | K27: =IF(H27="",0,H27*I27) -> 0
B28: 27 | C28: 灭火器 | D28: MF/ABC5 | G28: 个 | H28: 2 | K28: =IF(H28="",0,H28*I28) -> 0
B29: 28 | C29: 柔性防水套管(B型) | D29: DN200 | G29: 个 | H29: 1 | J29: 详《防水套管》(02S404) | K29: =IF(H29="",0,H29*I29) -> 0
B30: 29 | C30: 柔性防水套管(B型) | D30: DN100 | G30: 个 | H30: 4 | J30: 详《防水套管》(02S404) | K30: =IF(H30="",0,H30*I30) -> 0
B31: 30 | C31: 橡胶隔振垫 | G31: 个 | H31: 8 | J31: 用于现状设备机组;每套设备4个 | K31: =IF(H31="",0,H31*I31) -> 0
A32: 8#楼地下室 | B32: 1 | C32: 不锈钢管 | D32: DN200,δ=3.0mm,Pn=1.0MPa | E32: S31603 | G32: m | H32: 10 | K32: =IF(H32="",0,H32*I32) -> 0
B33: 2 | C33: 不锈钢管 | D33: DN100,δ=2.0mm,Pn=1.0MPa | E33: S31603 | G33: m | H33: 10 | K33: =IF(H33="",0,H33*I33) -> 0
B34: 3 | C34: 不锈钢管 | D34: DN100,δ=2.0mm,Pn=1.6MPa | E34: S31603 | G34: m | H34: 11 | K34: =IF(H34="",0,H34*I34) -> 0
B35: 4 | C35: 不锈钢90°弯头 | D35: DN200,δ=2.8mm,Pn=1.0MPa | E35: S31603 | G35: 个 | H35: 5 | K35: =IF(H35="",0,H35*I35) -> 0
B36: 5 | C36: 不锈钢90°弯头 | D36: DN100,δ=2.0mm,Pn=1.0MPa | E36: S31603 | G36: 个 | H36: 8 | K36: =IF(H36="",0,H36*I36) -> 0
B37: 6 | C37: 不锈钢90°弯头 | D37: DN100,δ=2.0mm,Pn=1.0MPa | E37: S31603 | G37: 个 | H37: 6 | K37: =IF(H37="",0,H37*I37) -> 0
B38: 7 | C38: 正三通 | D38: DN200XDN200 | E38: S31603 | G38: 个 | H38: 1 | K38: =IF(H38="",0,H38*I38) -> 0
B39: 8 | C39: 异径 | D39: DN200XDN100 | E39: S31603 | G39: 个 | H39: 1 | K39: =IF(H39="",0,H39*I39) -> 0
B40: 9 | C40: 手自一体电动蝶阀 | D40: DN200,P=1.0MPa,D943H | E40: S30408 | G40: 个 | H40: 1 | K40: =IF(H40="",0,H40*I40) -> 0
B41: 10 | C41: 手自一体电动蝶阀 | D41: DN100,P=1.0MPa,D943H | E41: S30408 | G41: 个 | H41: 3 | K41: =IF(H41="",0,H41*I41) -> 0
B42: 11 | C42: 手自一体电动蝶阀 | D42: DN100,P=1.6MPa,D943H | E42: S30408 | G42: 个 | H42: 1 | K42: =IF(H42="",0,H42*I42) -> 0
B43: 12 | C43: 不锈钢波纹管 | D43: DN100,P=1.0MPa | E43: S31603 | G43: 个 | H43: 3 | K43: =IF(H43="",0,H43*I43) -> 0
B44: 13 | C44: 不锈钢波纹管 | D44: DN100,P=1.6MPa | E44: S31603 | G44: 个 | H44: 1 | K44: =IF(H44="",0,H44*I44) -> 0
... B46: 15 | C46: 倒流防止器 | D46: DN100,P=1.0MPa | E46: S31603 | G46: 个 | H46: 2 | K46: =IF(H46="",0,H46*I46) -> 0
B47: 19 | C47: 自动排气阀 | D47: DN25,P=1.0MPa | G47: 个 | H47: 1 | K47: =IF(H47="",0,H47*I47) -> 0
B48: 20 | C48: 法兰片 | D48: DN200,P=1.0MPa | E48: S31603 | G48: 个 | H48: 9 | K48: =IF(H48="",0,H48*I48) -> 0
B49: 21 | C49: 法兰片 | D49: DN100,P=1.0MPa | E49: S31603 | G49: 个 | H49: 11 | K49: =IF(H49="",0,H49*I49) -> 0
